BEGIN:VCALENDAR
VERSION:2.0
PRODID:IEEE vTools.Events//EN
CALSCALE:GREGORIAN
BEGIN:VTIMEZONE
TZID:America/Lima
BEGIN:DAYLIGHT
DTSTART:20380118T221407
TZOFFSETFROM:-0500
TZOFFSETTO:-0500
RRULE:FREQ=YEARLY;BYDAY=3MO;BYMONTH=1
TZNAME:-05
END:DAYLIGHT
BEGIN:STANDARD
DTSTART:19940331T230000
TZOFFSETFROM:-0400
TZOFFSETTO:-0500
RRULE:FREQ=YEARLY;BYDAY=-1TH;BYMONTH=3
TZNAME:-05
END:STANDARD
END:VTIMEZONE
BEGIN:VEVENT
DTSTAMP:20241012T170350Z
UID:B327F8F5-2D53-42F0-9A61-7B707AEF6327
DTSTART;TZID=America/Lima:20241008T190000
DTEND;TZID=America/Lima:20241011T211500
DESCRIPTION:📢 Attention young professionals and future IEEE professional
 s!✨\n\nWe invite you to the &quot;I Symposium IEEE YP Peru\,&quot; a high-impact e
 vent organized by IEEE YP Peru Section Affinity Group within the framework
  of the celebration of IEEE Day. Don&#39;t miss this opportunity to connect an
 d grow!\n\n✨ What will you be able to do? 🤝 Connect with leading expe
 rts. 🚀 Boost your career\, skills\, and network. 🌍 Join a community 
 of passionate professionals.\n\nEvent Language: Spanish\n\nSpeaker(s): Ver
 onica Huaytan\, Rosa Valladares\, Francisco Torres\, Fiorella Montalvo\, D
 aniela Risco\, Yesica Giraldo\, Ruben Quispe\, Ana Salazar\n\nAgenda: \nIt
  is published on our social networks Facebook\, Instagram and LinkedIn.\n\
 nVirtual: https://events.vtools.ieee.org/m/438317
LOCATION:Virtual: https://events.vtools.ieee.org/m/438317
ORGANIZER:yp.peru@ieee.org
SEQUENCE:48
SUMMARY:IEEE DAY - II SYMPOSIUM IEEE YP PERU
URL;VALUE=URI:https://events.vtools.ieee.org/m/438317
X-ALT-DESC:Description: &lt;br /&gt;&lt;p&gt;📢 Attention young professionals and fut
 ure IEEE professionals!✨&lt;/p&gt;\n&lt;p&gt;We invite you to the &quot;I Symposium IEEE 
 YP Peru\,&quot; a high-impact event organized by IEEE YP Peru Section Affinity 
 Group within the framework of the celebration of IEEE Day. Don&#39;t miss this
  opportunity to connect and grow!&lt;/p&gt;\n&lt;p&gt;✨ What will you be able to do?
  🤝 Connect with leading experts. 🚀 Boost your career\, skills\, and 
 network. 🌍 Join a community of passionate professionals.&lt;/p&gt;\n&lt;p&gt;&lt;stron
 g&gt;Event Language: Spanish&lt;/strong&gt;&lt;/p&gt;\n&lt;p&gt;&lt;strong&gt;&lt;img src=&quot;https://event
 s.vtools.ieee.org/vtools_ui/media/display/5087ffa9-8946-4e62-8bf2-aedbca7c
 7bab&quot; width=&quot;479&quot; height=&quot;479&quot;&gt;&lt;/strong&gt;&lt;/p&gt;&lt;br /&gt;&lt;br /&gt;Agenda: &lt;br /&gt;&lt;p&gt;I
 t is published on our social networks Facebook\, Instagram and LinkedIn.&lt;/
 p&gt;
END:VEVENT
END:VCALENDAR

