BEGIN:VCALENDAR
VERSION:2.0
PRODID:IEEE vTools.Events//EN
CALSCALE:GREGORIAN
BEGIN:VTIMEZONE
TZID:Asia/Kolkata
BEGIN:STANDARD
DTSTART:19451014T230000
TZOFFSETFROM:+0630
TZOFFSETTO:+0530
TZNAME:IST
END:STANDARD
END:VTIMEZONE
BEGIN:VEVENT
DTSTAMP:20241010T140059Z
UID:4337F8BB-92B9-47B9-8E55-26980E80F7D3
DTSTART;TZID=Asia/Kolkata:20241007T093000
DTEND;TZID=Asia/Kolkata:20241007T233000
DESCRIPTION:IEEE Day Special Events - Fun Sports Activities - Chess\n\nBldg
 : Auditorium \, Kings College of Engineering\, Punalkulam\,\, Pudukkottai\
 , Tamil Nadu\, India\, 613303
LOCATION:Bldg: Auditorium \, Kings College of Engineering\, Punalkulam\,\, 
 Pudukkottai\, Tamil Nadu\, India\, 613303
ORGANIZER:kingsieee01@gmail.com
SEQUENCE:5
SUMMARY:IEEE Day Special Events - Fun Sports Activities - Chess
URL;VALUE=URI:https://events.vtools.ieee.org/m/438454
X-ALT-DESC:Description: &lt;br /&gt;&lt;p&gt;IEEE Day Special Events - Fun Sports Activ
 ities - Chess&lt;/p&gt;\n&lt;p&gt;&lt;img src=&quot;https://events.vtools.ieee.org/vtools_ui/m
 edia/display/3924ab13-c091-4633-a1fc-efad63c328c5&quot; width=&quot;522&quot; height=&quot;738
 &quot;&gt;&lt;/p&gt;
END:VEVENT
END:VCALENDAR

