BEGIN:VCALENDAR
VERSION:2.0
PRODID:IEEE vTools.Events//EN
CALSCALE:GREGORIAN
BEGIN:VTIMEZONE
TZID:Asia/Kolkata
BEGIN:STANDARD
DTSTART:19451014T230000
TZOFFSETFROM:+0630
TZOFFSETTO:+0530
TZNAME:IST
END:STANDARD
END:VTIMEZONE
BEGIN:VEVENT
DTSTAMP:20241008T171449Z
UID:DFEA278A-17D0-4667-9F06-315BCD2A473C
DTSTART;TZID=Asia/Kolkata:20241003T190000
DTEND;TZID=Asia/Kolkata:20241003T203000
DESCRIPTION:The Day 2 of the IEEE DAY Celebration was the virtual event hos
 ted by IEEE BBDITM in collaboration with the Google Developer Group (GDG) 
 on campus BBDITM was a lively and engaging day centered around Hacktoberfe
 st.\n\nIn this event we explain the Open-Source form scratch which include
 s git/github and a hackathon in which you need to perform the respective p
 ull request. This hackathon provide you a hand-on experience and help you 
 to contribute in Hactober fest .\n\nThis hackathon provide you a hand-on e
 xperience and help you to contribute in Hactober fest .\nPerquisites: 1) L
 aptop\n\n2) Network Connectivity\n\nCo-sponsored by: Prof. Rafik Ahmad\n\n
 Virtual: https://events.vtools.ieee.org/m/438466
LOCATION:Virtual: https://events.vtools.ieee.org/m/438466
ORGANIZER:ayushkumarsingh07@ieee.org 
SEQUENCE:144
SUMMARY:IEEE DAY Celebration 2024 - Day 2: Hacktober Fest 
URL;VALUE=URI:https://events.vtools.ieee.org/m/438466
X-ALT-DESC:Description: &lt;br /&gt;&lt;p aria-live=&quot;polite&quot; aria-atomic=&quot;true&quot;&gt;&lt;spa
 n class=&quot;&quot;&gt;The Day 2 of the IEEE DAY Celebration was the virtual event hos
 ted by IEEE BBDITM in collaboration with the Google Developer Group (GDG) 
 on campus BBDITM was a lively and engaging day centered around Hacktoberfe
 st.&amp;nbsp\;&lt;/span&gt;&lt;/p&gt;\n&lt;div id=&quot;enxiix9_B&quot; class=&quot;Layout-styles__flexConta
 iner_77byt Layout-styles__flexColumn_1gm0p&quot; data-testid=&quot;container-block-e
 nxiix9_B&quot;&gt;\n&lt;div class=&quot;Layout-styles__flexContainer_77byt Layout-styles__
 maxContentWrapper_10w1a&quot;&gt;\n&lt;div id=&quot;WNDUvjt3jO7&quot; class=&quot;Layout-styles__fle
 xContainer_77byt Layout-styles__flexColumn_1gm0p&quot; data-testid=&quot;container-b
 lock-WNDUvjt3jO7&quot;&gt;\n&lt;div id=&quot;9gfw2CQXo&quot; class=&quot;Layout-styles__flexContaine
 r_77byt Layout-styles__flexColumn_1gm0p&quot; data-testid=&quot;container-block-9gfw
 2CQXo&quot;&gt;\n&lt;div id=&quot;c-BqWJCofSw&quot; class=&quot;Layout-styles__flexContainer_77byt L
 ayout-styles__flexColumn_1gm0p&quot; data-testid=&quot;container-block-c-BqWJCofSw&quot;&gt;
 \n&lt;div id=&quot;ArIPts7zU&quot; class=&quot;Layout-styles__flexContainer_77byt Layout-sty
 les__flexColumn_1gm0p&quot; data-testid=&quot;container-block-ArIPts7zU&quot;&gt;\n&lt;div id=&quot;
 92sk6bQAIN&quot; class=&quot;Layout-styles__flexContainer_77byt Layout-styles__flexC
 olumn_1gm0p&quot; data-testid=&quot;new-text-block-92sk6bQAIN&quot;&gt;\n&lt;p id=&quot;azwFW9jPGq&quot; 
 role=&quot;paragraph&quot;&gt;&lt;span class=&quot;plainText-styles__plainText_8ys50&quot;&gt;In this e
 vent we explain the Open-Source form scratch which includes git/github and
  a hackathon in which you need to perform the respective pull request. Thi
 s hackathon provide you a hand-on experience and help you to contribute in
  Hactober fest .&lt;/span&gt;&lt;/p&gt;\n&lt;p&gt;This hackathon provide you a hand-on exper
 ience and help you to contribute in Hactober fest .&lt;br&gt;Perquisites: 1) Lap
 top&amp;nbsp\;&lt;/p&gt;\n&lt;p&gt;&amp;nbsp\; &amp;nbsp\; &amp;nbsp\; &amp;nbsp\; &amp;nbsp\; &amp;nbsp\; &amp;nbsp\;
  &amp;nbsp\; &amp;nbsp\; &amp;nbsp\; &amp;nbsp\;2) Network Connectivity&lt;/p&gt;\n&lt;p&gt;&lt;img src=&quot;
 https://events.vtools.ieee.org/vtools_ui/media/display/26bc04d7-f8d0-41e0-
 9755-1b85bffbe226&quot; width=&quot;204&quot; height=&quot;289&quot;&gt; &amp;nbsp\;&lt;img src=&quot;https://even
 ts.vtools.ieee.org/vtools_ui/media/display/c5d13b70-caa9-4041-a80a-1c37eb8
 bfe03&quot; width=&quot;349&quot; height=&quot;196&quot;&gt; &amp;nbsp\;&lt;img src=&quot;https://events.vtools.ie
 ee.org/vtools_ui/media/display/a1fdd3d9-04a8-4657-a2ba-d9a7656826b6&quot; width
 =&quot;287&quot; height=&quot;287&quot;&gt; &amp;nbsp\;&lt;img src=&quot;https://events.vtools.ieee.org/vtool
 s_ui/media/display/5521630a-85ed-4e20-828a-9033c5c6ab89&quot; width=&quot;291&quot; heigh
 t=&quot;291&quot;&gt; &amp;nbsp\;&lt;img src=&quot;https://events.vtools.ieee.org/vtools_ui/media/d
 isplay/53680f9e-465d-439c-a89f-ab14cbcf911c&quot; width=&quot;288&quot; height=&quot;288&quot;&gt; &amp;nb
 sp\;&lt;img src=&quot;https://events.vtools.ieee.org/vtools_ui/media/display/c4f56
 310-bd50-463b-962b-36806d5c22e9&quot; width=&quot;293&quot; height=&quot;293&quot;&gt;&lt;/p&gt;\n&lt;p&gt;&amp;nbsp\;
 &lt;/p&gt;\n&lt;/div&gt;\n&lt;div id=&quot;IFE4Rb1FjT&quot; class=&quot;Layout-styles__flexContainer_77b
 yt Layout-styles__flexColumn_1gm0p&quot; data-testid=&quot;new-text-block-IFE4Rb1FjT
 &quot;&gt;\n&lt;p id=&quot;6VpY3SePcK&quot; role=&quot;paragraph&quot;&gt;&lt;/p&gt;\n&lt;/div&gt;\n&lt;div id=&quot;rniPpeoPoY&quot;
  class=&quot;Layout-styles__flexContainer_77byt Layout-styles__flexColumn_1gm0p
 &quot; data-testid=&quot;container-block-rniPpeoPoY&quot;&gt;&lt;/div&gt;\n&lt;/div&gt;\n&lt;/div&gt;\n&lt;/div&gt;\
 n&lt;/div&gt;\n&lt;/div&gt;\n&lt;/div&gt;\n&lt;div id=&quot;JRXBzvWtY&quot; class=&quot;Layout-styles__flexCon
 tainer_77byt Layout-styles__flexColumn_1gm0p&quot; data-testid=&quot;container-block
 -JRXBzvWtY&quot;&gt;\n&lt;div class=&quot;Layout-styles__flexContainer_77byt Layout-styles
 __maxContentWrapper_10w1a&quot;&gt;\n&lt;div id=&quot;09flUWE-Z&quot; class=&quot;Layout-styles__fle
 xContainer_77byt __cq-09flUWE-Z&quot; data-testid=&quot;container-block-09flUWE-Z&quot;&gt;\
 n&lt;div id=&quot;iv_e0YLE2&quot; class=&quot;Layout-styles__flexContainer_77byt __cq-iv_e0Y
 LE2&quot; data-testid=&quot;container-block-iv_e0YLE2&quot;&gt;\n&lt;div id=&quot;9lOhf7EiO&quot; class=&quot;
 Layout-styles__flexContainer_77byt Layout-styles__flexColumn_1gm0p&quot; data-t
 estid=&quot;container-block-9lOhf7EiO&quot;&gt;\n&lt;div id=&quot;XXZcIgqCMf&quot; class=&quot;Layout-sty
 les__flexContainer_77byt Layout-styles__flexColumn_1gm0p&quot; data-testid=&quot;new
 -text-block-XXZcIgqCMf&quot;&gt;&lt;/div&gt;\n&lt;/div&gt;\n&lt;/div&gt;\n&lt;/div&gt;\n&lt;/div&gt;\n&lt;/div&gt;\n&lt;p
  aria-live=&quot;polite&quot; aria-atomic=&quot;true&quot;&gt;&amp;nbsp\;&lt;/p&gt;
END:VEVENT
END:VCALENDAR

