BEGIN:VCALENDAR
VERSION:2.0
PRODID:IEEE vTools.Events//EN
CALSCALE:GREGORIAN
BEGIN:VTIMEZONE
TZID:Asia/Kolkata
BEGIN:STANDARD
DTSTART:19451014T230000
TZOFFSETFROM:+0630
TZOFFSETTO:+0530
TZNAME:IST
END:STANDARD
END:VTIMEZONE
BEGIN:VEVENT
DTSTAMP:20250516T101627Z
UID:C526D33B-AB0E-476C-964D-58D9AC72613F
DTSTART;TZID=Asia/Kolkata:20241016T083000
DTEND;TZID=Asia/Kolkata:20241016T173000
DESCRIPTION:About the Workshop\n\nThis workshop embodies the intersection o
 f visionary leadership and pioneering research in Computational Intelligen
 ce (CI). The goal of this workshop is to promote collaboration between aca
 demia\, industry\, and future leaders\, driving technological innovations 
 that address the challenges of tomorrow. This convergence will also cultiv
 ate a dynamic network of leaders\, researchers\, and professionals\, poise
 d to leverage CI for societal advancement.\n\nObjectives:\n\n-\nEmpower Fu
 ture Leaders: Cultivate future leaders in CI through mentorship and leader
 ship programs.\n\n-\nInnovation in CI: Highlight cutting-edge research in 
 AI\, machine learning\, fuzzy systems\, neural networks\, and evolutionary
  computation.\n\n-\nYoung Leaders and Innovators Forum: Opportunity for st
 udents and young researchers to present their work and leadership in CI th
 rough oral presentations to experts.\n\n-\nMentorship Program: Connect stu
 dents and young researchers with established experts for guidance.\n\nAbou
 t IIT Indore\n\nIIT Indore is one of the premier institutes under the Mini
 stry of Human Resource Development (MHRD)\, Govt. of India. IIT Indore was
  founded in 2009 by the Govt. of India. In this short span of time\, IIT I
 ndore has positioned itself as a vibrant center for outstanding research. 
 Multidisciplinary research at IIT Indore has been recognized at the intern
 ational level with active participation in several key international proje
 cts and several joint collaborations with academic/research institutions i
 n Japan\, Norway\, USA\, Germany\, France\, Singapore and many other count
 ries. The institute is growing rapidly as the only center for advanced lea
 rning and knowledge-dissemination in the pure and applied sciences in Cent
 ral India.\n\nYoung Leaders and Innovators Forum\n\nWorkshop participants 
 have the opportunity to showcase their work or present concepts in Artific
 ial Intelligence and Computational Intelligence\, demonstrating leadership
  and innovation to leading experts in the field during the workshop at the
  Young Leaders and Innovators Forum session.\n\nBenefits:\n\n-\nShowcase l
 eadership skills to leading experts.\n\n-\nReceive valuable feedback from 
 renowned experts.\n\n-\nNetwork with researchers in similar or related are
 as.\n\n-\nThe best presentations will be awarded certificates.\n\n[]\n\nCo
 -sponsored by: IEEE Young Professionals and IEEE Students \n\nSpeaker(s): 
 Prof. Ujjwal Maulik\, Dr. Imran Razzak\, Dr. Puneet Gupta\, Prof. M. Tanve
 er \n\nAgenda: \nOctober 16\, 2024\n\n8:30 - 9:30: Registration\n\nVenue: 
 TBA\n\n9:30 - 10:00: Inauguration Ceremony\n\nVenue: POD 1D - 105\n\nHigh 
 Tea - 11:00 - 11:30\n\n10:30 - 11:30: Keynote Talk - 1\n\n[Speaker Name: T
 BA]\n\nVenue: POD 1D - 105\n\n11:30 - 12:30: Keynote Talk - 2\n\n[Speaker 
 Name: TBA]\n\nVenue: POD 1D - 105\n\nLunch Break - 12:30 - 14:00\n\n14:00 
 - 15:30: Young Leaders and Innovators Forum: Oral/Poster Presentation of S
 elected Participants\n\nVenue: POD 1D - 105\n\nHigh Tea - 15:30 - 15:45\n\
 n15:45 - 16:45: Keynote Talk - 3\n\n[Speaker Name: TBA]\n\nVenue: POD 1D -
  105\n\n16:45 - 17:30: Closing Ceremony\, Award and Certificate Distributi
 on\n\nVenue: POD 1D - 105\n\nPOD 1D - 105 and Gargi Seminar Hall\, IIT IND
 ORE\, KHANDWA ROAD\, SIMROL\, INDORE\, MADHYA PRADESH\, INDORE\, Madhya Pr
 adesh\, India\, 453552
LOCATION:POD 1D - 105 and Gargi Seminar Hall\, IIT INDORE\, KHANDWA ROAD\, 
 SIMROL\, INDORE\, MADHYA PRADESH\, INDORE\, Madhya Pradesh\, India\, 45355
 2
ORGANIZER:phd2101241003@iiti.ac.in
SEQUENCE:12
SUMMARY:IEEE CIS Workshop on Innovation &amp; Leadership in Artificial Intellig
 ence
URL;VALUE=URI:https://events.vtools.ieee.org/m/438547
X-ALT-DESC:Description: &lt;br /&gt;&lt;h1 dir=&quot;ltr&quot;&gt;About the Workshop&lt;/h1&gt;\n&lt;p dir
 =&quot;ltr&quot;&gt;This workshop embodies the intersection of visionary leadership and
  pioneering research in Computational Intelligence (CI). The goal of this 
 workshop is to promote collaboration between academia\, industry\, and fut
 ure leaders\, driving technological innovations that address the challenge
 s of tomorrow. This convergence will also cultivate a dynamic network of l
 eaders\, researchers\, and professionals\, poised to leverage CI for socie
 tal advancement.&lt;/p&gt;\n&lt;p dir=&quot;ltr&quot;&gt;Objectives:&lt;/p&gt;\n&lt;ul&gt;\n&lt;li dir=&quot;ltr&quot; ar
 ia-level=&quot;1&quot;&gt;\n&lt;p dir=&quot;ltr&quot; role=&quot;presentation&quot;&gt;Empower Future Leaders: Cu
 ltivate future leaders in CI through mentorship and leadership programs.&amp;n
 bsp\;&lt;/p&gt;\n&lt;/li&gt;\n&lt;li dir=&quot;ltr&quot; aria-level=&quot;1&quot;&gt;\n&lt;p dir=&quot;ltr&quot; role=&quot;presen
 tation&quot;&gt;Innovation in CI: Highlight cutting-edge research in AI\, machine 
 learning\, fuzzy systems\, neural networks\, and evolutionary computation.
 &amp;nbsp\;&lt;/p&gt;\n&lt;/li&gt;\n&lt;li dir=&quot;ltr&quot; aria-level=&quot;1&quot;&gt;\n&lt;p dir=&quot;ltr&quot; role=&quot;pres
 entation&quot;&gt;Young Leaders and Innovators Forum: Opportunity for students and
  young researchers to present their work and leadership in CI through oral
  presentations to experts.&lt;/p&gt;\n&lt;/li&gt;\n&lt;li dir=&quot;ltr&quot; aria-level=&quot;1&quot;&gt;\n&lt;p d
 ir=&quot;ltr&quot; role=&quot;presentation&quot;&gt;Mentorship Program: Connect students and youn
 g researchers with established experts for guidance.&lt;br&gt;&lt;br&gt;&lt;/p&gt;\n&lt;/li&gt;\n&lt;
 /ul&gt;\n&lt;h1 dir=&quot;ltr&quot; style=&quot;text-align: left\;&quot;&gt;About IIT Indore&lt;/h1&gt;\n&lt;p d
 ir=&quot;ltr&quot;&gt;IIT Indore is one of the premier institutes under the Ministry of
  Human Resource Development (MHRD)\, Govt. of India. IIT Indore was founde
 d in 2009 by the Govt. of India. In this short span of time\, IIT Indore h
 as positioned itself as a vibrant center for outstanding research. Multidi
 sciplinary research at IIT Indore has been recognized at the international
  level with active participation in several key international projects and
  several joint collaborations with academic/research institutions in Japan
 \, Norway\, USA\, Germany\, France\, Singapore and many other countries. T
 he institute is growing rapidly as the only center for advanced learning a
 nd knowledge-dissemination in the pure and applied sciences in Central Ind
 ia.&lt;/p&gt;\n&lt;p dir=&quot;ltr&quot;&gt;&amp;nbsp\;&lt;/p&gt;\n&lt;h1 dir=&quot;ltr&quot; style=&quot;text-align: left\;
 &quot;&gt;Young Leaders and Innovators Forum&lt;/h1&gt;\n&lt;p dir=&quot;ltr&quot;&gt;Workshop participa
 nts have the opportunity to showcase their work or present concepts in Art
 ificial Intelligence and Computational Intelligence\, demonstrating leader
 ship and innovation to leading experts in the field during the workshop at
  the Young Leaders and Innovators Forum session.&lt;/p&gt;\n&lt;p dir=&quot;ltr&quot;&gt;Benefit
 s:&lt;/p&gt;\n&lt;ul&gt;\n&lt;li dir=&quot;ltr&quot; aria-level=&quot;1&quot;&gt;\n&lt;p dir=&quot;ltr&quot; role=&quot;presentati
 on&quot;&gt;Showcase leadership skills to leading experts.&lt;/p&gt;\n&lt;/li&gt;\n&lt;li dir=&quot;lt
 r&quot; aria-level=&quot;1&quot;&gt;\n&lt;p dir=&quot;ltr&quot; role=&quot;presentation&quot;&gt;Receive valuable feed
 back from renowned experts.&lt;/p&gt;\n&lt;/li&gt;\n&lt;li dir=&quot;ltr&quot; aria-level=&quot;1&quot;&gt;\n&lt;p 
 dir=&quot;ltr&quot; role=&quot;presentation&quot;&gt;Network with researchers in similar or relat
 ed areas.&amp;nbsp\;&lt;/p&gt;\n&lt;/li&gt;\n&lt;li dir=&quot;ltr&quot; aria-level=&quot;1&quot;&gt;\n&lt;p dir=&quot;ltr&quot; r
 ole=&quot;presentation&quot;&gt;The best presentations will be awarded certificates.&lt;br
 &gt;&lt;br&gt;&lt;br&gt;&lt;img src=&quot;https://events.vtools.ieee.org/vtools_ui/media/display/
 ca2ac986-ebc4-4f97-a650-e1e95f1a56da&quot; alt=&quot;&quot; width=&quot;976&quot; height=&quot;1379&quot;&gt;&lt;/p
 &gt;\n&lt;/li&gt;\n&lt;/ul&gt;&lt;br /&gt;&lt;br /&gt;Agenda: &lt;br /&gt;&lt;p&gt;&lt;strong&gt;October 16\, 2024&lt;/str
 ong&gt;&lt;/p&gt;\n&lt;p&gt;&amp;nbsp\;&lt;/p&gt;\n&lt;p&gt;8:30 - 9:30: Registration&lt;/p&gt;\n&lt;p&gt;Venue: TBA&lt;
 /p&gt;\n&lt;p&gt;&amp;nbsp\;&lt;/p&gt;\n&lt;p&gt;9:30 - 10:00: Inauguration Ceremony&lt;/p&gt;\n&lt;p&gt;Venue:
  POD 1D - 105&lt;/p&gt;\n&lt;p&gt;&amp;nbsp\;&lt;/p&gt;\n&lt;p&gt;High Tea - 11:00 - 11:30&lt;/p&gt;\n&lt;p&gt;&amp;nb
 sp\;&lt;/p&gt;\n&lt;p&gt;10:30 - 11:30: Keynote Talk - 1&lt;/p&gt;\n&lt;p&gt;[Speaker Name: TBA]&lt;/
 p&gt;\n&lt;p&gt;Venue: POD 1D - 105&amp;nbsp\;&lt;/p&gt;\n&lt;p&gt;&amp;nbsp\;&lt;/p&gt;\n&lt;p&gt;11:30 - 12:30: K
 eynote Talk - 2&lt;/p&gt;\n&lt;p&gt;[Speaker Name: TBA]&lt;/p&gt;\n&lt;p&gt;Venue: POD 1D - 105&amp;nb
 sp\;&lt;/p&gt;\n&lt;p&gt;&amp;nbsp\;&lt;/p&gt;\n&lt;p&gt;Lunch Break - 12:30 - 14:00&lt;/p&gt;\n&lt;p&gt;14:00 - 1
 5:30: Young Leaders and Innovators Forum: Oral/Poster Presentation of Sele
 cted Participants&lt;/p&gt;\n&lt;p&gt;Venue: POD 1D - 105&amp;nbsp\;&lt;/p&gt;\n&lt;p&gt;&amp;nbsp\;&lt;/p&gt;\n
 &lt;p&gt;High Tea - 15:30 - 15:45&lt;/p&gt;\n&lt;p&gt;&amp;nbsp\;&lt;/p&gt;\n&lt;p&gt;15:45 - 16:45: Keynote
  Talk - 3&lt;/p&gt;\n&lt;p&gt;[Speaker Name: TBA]&lt;/p&gt;\n&lt;p&gt;Venue: POD 1D - 105&lt;/p&gt;\n&lt;p&gt;
 &amp;nbsp\;&lt;/p&gt;\n&lt;p&gt;16:45 - 17:30: Closing Ceremony\, Award and Certificate Di
 stribution&lt;/p&gt;\n&lt;p&gt;Venue: POD 1D - 105&lt;/p&gt;
END:VEVENT
END:VCALENDAR

