BEGIN:VCALENDAR
VERSION:2.0
PRODID:IEEE vTools.Events//EN
CALSCALE:GREGORIAN
BEGIN:VTIMEZONE
TZID:America/Sao_Paulo
BEGIN:DAYLIGHT
DTSTART:20380119T001407
TZOFFSETFROM:-0300
TZOFFSETTO:-0300
RRULE:FREQ=YEARLY;BYDAY=3TU;BYMONTH=1
TZNAME:-03
END:DAYLIGHT
BEGIN:STANDARD
DTSTART:20190216T230000
TZOFFSETFROM:-0200
TZOFFSETTO:-0300
RRULE:FREQ=YEARLY;BYDAY=3SA;BYMONTH=2
TZNAME:-03
END:STANDARD
END:VTIMEZONE
BEGIN:VEVENT
DTSTAMP:20241231T201337Z
UID:C779951E-1EB7-4C99-9A19-26B9C99806A2
DTSTART;TZID=America/Sao_Paulo:20241009T140000
DTEND;TZID=America/Sao_Paulo:20241009T170000
DESCRIPTION:Lecture and Round Table on the Insertion of Women in the Techno
 logy and Exact Areas\n\n[]\n\n[Check also our IEEEday Instagram video\, wi
 th a lot of fun\, learning\, food and prizes for the children!](https://ww
 w.instagram.com/p/DB9eQlPyJgw/)\n\nOn October 9th\, from 2pm to 5pm\, in t
 he BICEN auditorium\, IEEE UFS will hold a special lecture dedicated to th
 e inclusion of women in technology courses and exact areas. The event will
  feature the participation of professors\, master&#39;s students and undergrad
 uates from UFS\, as well as professionals already in the job market\, incl
 uding representatives from the Federal Institute of Sergipe (IFS - Lagarto
  campus). High school students from Colégio Armindo Guaraná are also pre
 sent\, further enriching the discussion.\n\nThe main objective of the lect
 ure is to promote a space for open dialogue about the challenges and achie
 vements of women in fields traditionally dominated by men.\n\nThe guests w
 ill share their professional trajectories\, addressing both the barriers t
 hey faced and the successful strategies for promoting gender equality. Thi
 s sharing aims to inspire new generations\, including high school alumni\,
  to pursue careers in STEM (science\, technology\, engineering and mathema
 tics).\n\nThe event will include a question and answer session\, allowing 
 participants to interact directly with the guests and ask questions about 
 topics such as the importance of mentoring\, support networks and initiati
 ves that can be innovative to strengthen the female presence in these area
 s.\n\nBldg: Federal University Of Sergipe\, Avenida Marcelo Deda Chagas\, 
 SAO CRISTOVAO\, Sergipe\, Brazil\, 49107-230
LOCATION:Bldg: Federal University Of Sergipe\, Avenida Marcelo Deda Chagas\
 , SAO CRISTOVAO\, Sergipe\, Brazil\, 49107-230
ORGANIZER:lucas_farias@ieee.org
SEQUENCE:28
SUMMARY:IEEE DAY 2024
URL;VALUE=URI:https://events.vtools.ieee.org/m/438590
X-ALT-DESC:Description: &lt;br /&gt;&lt;p class=&quot;MsoNormal&quot;&gt;&lt;span lang=&quot;EN&quot; style=&quot;m
 so-ansi-language: EN\;&quot;&gt;Lecture and Round Table on the Insertion of Women 
 in the Technology and Exact Areas&lt;/span&gt;&lt;/p&gt;\n&lt;p class=&quot;MsoNormal&quot;&gt;&lt;span l
 ang=&quot;EN&quot; style=&quot;mso-ansi-language: EN\;&quot;&gt;&amp;nbsp\;&lt;img src=&quot;https://events.v
 tools.ieee.org/vtools_ui/media/display/538b91d6-7ad4-4ab9-b022-aa5d1c83b57
 d&quot; alt=&quot;&quot; width=&quot;928&quot; height=&quot;696&quot;&gt;&lt;br&gt;&lt;/span&gt;&lt;/p&gt;\n&lt;p class=&quot;MsoNormal&quot;&gt;&lt;
 span lang=&quot;EN&quot; style=&quot;mso-ansi-language: EN\;&quot;&gt;&lt;a href=&quot;https://www.instag
 ram.com/p/DB9eQlPyJgw/&quot; target=&quot;_blank&quot; rel=&quot;noopener&quot;&gt;Check also our IEEE
 day Instagram video\, with a lot of fun\, learning\, food and prizes for t
 he children!&lt;/a&gt;&lt;/span&gt;&lt;/p&gt;\n&lt;p class=&quot;MsoNormal&quot;&gt;&lt;span lang=&quot;EN&quot; style=&quot;m
 so-ansi-language: EN\;&quot;&gt;On October 9th\, from 2pm to 5pm\, in the BICEN au
 ditorium\, IEEE UFS will hold a special lecture dedicated to the inclusion
  of women in technology courses and exact areas. The event will feature th
 e participation of professors\, master&#39;s students and undergraduates from 
 UFS\, as well as professionals already in the job market\, including repre
 sentatives from the Federal Institute of Sergipe (IFS - Lagarto campus). H
 igh school students from Col&amp;eacute\;gio Armindo Guaran&amp;aacute\; are also 
 present\, further enriching the discussion.&lt;/span&gt;&lt;/p&gt;\n&lt;p class=&quot;MsoNorma
 l&quot;&gt;&lt;span lang=&quot;EN&quot; style=&quot;mso-ansi-language: EN\;&quot;&gt;&amp;nbsp\;&lt;/span&gt;&lt;/p&gt;\n&lt;p 
 class=&quot;MsoNormal&quot;&gt;&lt;span lang=&quot;EN&quot; style=&quot;mso-ansi-language: EN\;&quot;&gt;The main
  objective of the lecture is to promote a space for open dialogue about th
 e challenges and achievements of women in fields traditionally dominated b
 y men.&lt;/span&gt;&lt;/p&gt;\n&lt;p class=&quot;MsoNormal&quot;&gt;&lt;span lang=&quot;EN&quot; style=&quot;mso-ansi-la
 nguage: EN\;&quot;&gt;&amp;nbsp\;&lt;/span&gt;&lt;/p&gt;\n&lt;p class=&quot;MsoNormal&quot;&gt;&lt;span lang=&quot;EN&quot; sty
 le=&quot;mso-ansi-language: EN\;&quot;&gt;The guests will share their professional traj
 ectories\, addressing both the barriers they faced and the successful stra
 tegies for promoting gender equality. This sharing aims to inspire new gen
 erations\, including high school alumni\, to pursue careers in STEM (scien
 ce\, technology\, engineering and mathematics).&lt;/span&gt;&lt;/p&gt;\n&lt;p class=&quot;MsoN
 ormal&quot;&gt;&lt;span lang=&quot;EN&quot; style=&quot;mso-ansi-language: EN\;&quot;&gt;&amp;nbsp\;&lt;/span&gt;&lt;/p&gt;\
 n&lt;p class=&quot;MsoNormal&quot;&gt;&lt;span lang=&quot;EN&quot; style=&quot;mso-ansi-language: EN\;&quot;&gt;The 
 event will include a question and answer session\, allowing participants t
 o interact directly with the guests and ask questions about topics such as
  the importance of mentoring\, support networks and initiatives that can b
 e innovative to strengthen the female presence in these areas.&lt;/span&gt;&lt;/p&gt;
END:VEVENT
END:VCALENDAR

