BEGIN:VCALENDAR
VERSION:2.0
PRODID:IEEE vTools.Events//EN
CALSCALE:GREGORIAN
BEGIN:VTIMEZONE
TZID:US/Pacific
BEGIN:DAYLIGHT
DTSTART:20240310T030000
TZOFFSETFROM:-0800
TZOFFSETTO:-0700
RRULE:FREQ=YEARLY;BYDAY=2SU;BYMONTH=3
TZNAME:PDT
END:DAYLIGHT
BEGIN:STANDARD
DTSTART:20241103T010000
TZOFFSETFROM:-0700
TZOFFSETTO:-0800
RRULE:FREQ=YEARLY;BYDAY=1SU;BYMONTH=11
TZNAME:PST
END:STANDARD
END:VTIMEZONE
BEGIN:VEVENT
DTSTAMP:20241010T180228Z
UID:5ECFB5ED-B238-4578-97E7-028138E1D282
DTSTART;TZID=US/Pacific:20241009T170000
DTEND;TZID=US/Pacific:20241009T193000
DESCRIPTION:Abstract: IEEE Day is an annual event celebrating the first tim
 e in history when engineers worldwide gathered to share their technical id
 eas in 1884. One of IEEE Day’s objectives is to show how IEEE members in
  local communities collaborate on ideas that leverage technology for a bet
 ter tomorrow. (https://ieeeday.org/)\n\nJoin us on October 9th at 5 PM for
  a gathering where the IEEE Okanagan Subsection and student branches from 
 UBCO and OC will discuss the evolution of engineering\, computer science\,
  and others.\n\nCo-sponsored by: IEEE Okanagan College Student Branch and 
 Okanagan College\n\nSpeaker(s): Ajitesh\n\nAgenda: \nAgenda:\n\n5 pm - 5:4
 0 pm (OC)\n\nKristina - A Retrospective View of STEM Milestones &amp; Achievem
 ents\n\nAjitesh - DRI Resources\n\n5:40 - 6:20 pm (UBCO)\n\nCharlotte - A 
 Canadian Engineer Who Made a Positive Impact on Society\n\nFernanda - Wome
 n in Tech\n\n6:20 pm - 6:30 pm Pizza break\n\n6:30 pm - 7:00 pm (OC)\n\nDo
 lcy &amp; Brian - Evolution of Data &amp; Networks\n\nAlex - World Wide Opportunit
 ies\n\nRoom: 202\, Bldg: E\, 1000 K.L.O. Rd.\, Kelowna\, British Columbia\
 , Canada\, V1Y 4X8\, Virtual: https://events.vtools.ieee.org/m/438597
LOCATION:Room: 202\, Bldg: E\, 1000 K.L.O. Rd.\, Kelowna\, British Columbia
 \, Canada\, V1Y 4X8\, Virtual: https://events.vtools.ieee.org/m/438597
ORGANIZER:youry@ieee.org
SEQUENCE:19
SUMMARY:IEEE Day at Okanagan Subsection
URL;VALUE=URI:https://events.vtools.ieee.org/m/438597
X-ALT-DESC:Description: &lt;br /&gt;&lt;p&gt;&lt;strong&gt;Abstract: &lt;/strong&gt;IEEE Day is an 
 annual event celebrating the first time in history when engineers worldwid
 e gathered to share their technical ideas in 1884. One of IEEE Day&amp;rsquo\;
 s objectives is to show how IEEE members in local communities collaborate 
 on ideas that leverage technology for a better tomorrow. (&lt;a href=&quot;https:/
 /ieeeday.org/&quot;&gt;https://ieeeday.org/&lt;/a&gt;)&lt;/p&gt;\n&lt;p&gt;Join us on October 9th at
  5 PM for a gathering where the IEEE Okanagan Subsection and student branc
 hes from UBCO and OC will discuss the evolution of engineering\, computer 
 science\, and others.&lt;/p&gt;&lt;br /&gt;&lt;br /&gt;Agenda: &lt;br /&gt;&lt;div class=&quot;entry-conte
 nt&quot;&gt;\n&lt;p&gt;&lt;strong&gt;Agenda:&lt;/strong&gt;&lt;/p&gt;\n&lt;p&gt;&lt;strong&gt;5 pm - 5:40 pm (OC)&lt;/str
 ong&gt;&lt;/p&gt;\n&lt;p&gt;&amp;nbsp\;&amp;nbsp\;&amp;nbsp\;&amp;nbsp\;&amp;nbsp\;&amp;nbsp\;&amp;nbsp\;&amp;nbsp\;&amp;nbsp
 \;&amp;nbsp\;&amp;nbsp\; Kristina - A Retrospective View of STEM Milestones &amp;amp\;
  Achievements&lt;/p&gt;\n&lt;p&gt;&amp;nbsp\;&amp;nbsp\;&amp;nbsp\;&amp;nbsp\;&amp;nbsp\;&amp;nbsp\;&amp;nbsp\;&amp;nb
 sp\;&amp;nbsp\;&amp;nbsp\;&amp;nbsp\; Ajitesh - DRI Resources&lt;/p&gt;\n&lt;p&gt;&lt;strong&gt;5:40 - 6
 :20 pm (UBCO)&lt;/strong&gt;&lt;/p&gt;\n&lt;p&gt;&amp;nbsp\;&amp;nbsp\;&amp;nbsp\;&amp;nbsp\;&amp;nbsp\;&amp;nbsp\;&amp;
 nbsp\;&amp;nbsp\;&amp;nbsp\;&amp;nbsp\;&amp;nbsp\; Charlotte - A Canadian Engineer Who Mad
 e a Positive Impact on Society&lt;/p&gt;\n&lt;p&gt;&amp;nbsp\;&amp;nbsp\;&amp;nbsp\;&amp;nbsp\;&amp;nbsp\;
 &amp;nbsp\;&amp;nbsp\;&amp;nbsp\;&amp;nbsp\;&amp;nbsp\;&amp;nbsp\; Fernanda - Women in Tech&lt;/p&gt;\n&lt;
 p&gt;&lt;strong&gt;6:20 pm - 6:30 pm&lt;/strong&gt; Pizza break&lt;/p&gt;\n&lt;p&gt;&lt;strong&gt;6:30 pm -
  7:00 pm (OC) &lt;/strong&gt;&lt;/p&gt;\n&lt;p&gt;Dolcy &amp;amp\; Brian - Evolution of Data &amp;am
 p\; Networks&lt;/p&gt;\n&lt;p&gt;Alex - World Wide Opportunities&lt;/p&gt;\n&lt;p&gt;&amp;nbsp\;&lt;/p&gt;\n
 &lt;/div&gt;
END:VEVENT
END:VCALENDAR

