BEGIN:VCALENDAR
VERSION:2.0
PRODID:IEEE vTools.Events//EN
CALSCALE:GREGORIAN
BEGIN:VTIMEZONE
TZID:America/Los_Angeles
BEGIN:DAYLIGHT
DTSTART:20240310T030000
TZOFFSETFROM:-0800
TZOFFSETTO:-0700
RRULE:FREQ=YEARLY;BYDAY=2SU;BYMONTH=3
TZNAME:PDT
END:DAYLIGHT
BEGIN:STANDARD
DTSTART:20241103T010000
TZOFFSETFROM:-0700
TZOFFSETTO:-0800
RRULE:FREQ=YEARLY;BYDAY=1SU;BYMONTH=11
TZNAME:PST
END:STANDARD
END:VTIMEZONE
BEGIN:VEVENT
DTSTAMP:20241022T210900Z
UID:4AF9E8DD-B23D-43EE-A24C-B94117D57F14
DTSTART;TZID=America/Los_Angeles:20241019T094500
DTEND;TZID=America/Los_Angeles:20241019T110000
DESCRIPTION:What Question Would You Ask an Astrophysicist?\n\nSpeaker: Dr. 
 Jaymie Matthews\, Emeritus Professor\, Department of Physics and Astronomy
 \, The University of British Columbia\n\nAbstract:\nEclipse Event\nRecent 
 landing of craft on moon.\nSpace station.\nObservations of stars with magn
 et fields.\nCompare rocket and ion propulsion to Mars?\nAny questions abou
 t astronomy.\n\nAstronomy education and public outreach are important face
 ts of Matthews’ life and career. He served on the Board of Directors of 
 Vancouver’s H.R. MacMillan Space Centre for almost 20 years\, and on the
  Board of Youth Science Canada. In 2015\, he received the Canada-Wide Scie
 nce Fair Alumni Award.  He was awarded a 1999 Killam Prize for teaching ex
 cellence in the UBC Faculty of Science\, and the 2002 Teaching Prize of th
 e Canadian Association of Physicists. In 2016\, Dr. Matthews was awarded t
 he Canadian Astronomy Society’s Qilak Award for his efforts in astronomy
  education and public outreach. Qilak is the Inuit word for the “canopy 
 of the heavens” or the sky overhead. He has an asteroid named for him.\n
 \nSpeaker(s): Dr. Jaymie Matthews\,  Emeritus Professor\n\nAgenda: \nRegis
 tration is optional\, but we want to know who to expect.\n10:00 AM P.D.T. 
 Suggest you log in at 9:45 AM (12:45 PM Montreal) to check connection and 
 say hello.\nAll IEEE members are welcome\, especially those Life Members t
 hat don&#39;t have a local Affinity Group.\n\nWe are looking for speakers for 
 the rest of the year\, contact Carl Zanon &lt;sczanon@shaw.ca&gt; if interested.
 \n\n9:45 AM Zoom opens\n10:00 AM Welcome and speaker introduction\n10:05 A
 M Speaker\n\nVirtual: https://events.vtools.ieee.org/m/438695
LOCATION:Virtual: https://events.vtools.ieee.org/m/438695
ORGANIZER:Conrad Guelke &lt;cguelke@telus.net&gt;
SEQUENCE:28
SUMMARY:TALK 27: Ask an Astrophysicist?
URL;VALUE=URI:https://events.vtools.ieee.org/m/438695
X-ALT-DESC:Description: &lt;br /&gt;&lt;p class=&quot;western&quot;&gt;&lt;span style=&quot;color: #00000
 0\;&quot;&gt;&lt;span style=&quot;font-family: Segoe UI\, serif\;&quot;&gt;&lt;strong&gt;What Question W
 ould You Ask an Astrophysicist?&lt;/strong&gt;&lt;/span&gt;&lt;/span&gt;&lt;/p&gt;\n&lt;p class=&quot;west
 ern&quot;&gt;&lt;span style=&quot;color: #000000\;&quot;&gt;Speaker: &lt;/span&gt;&lt;span style=&quot;font-fami
 ly: Times New Roman\, serif\;&quot;&gt;&lt;span style=&quot;font-size: medium\;&quot;&gt;&lt;span sty
 le=&quot;font-family: Calibri\, serif\;&quot;&gt;&lt;span style=&quot;font-size: large\;&quot;&gt;&lt;stro
 ng&gt;Dr. Jaymie Matthews\, &lt;/strong&gt;&lt;/span&gt;&lt;/span&gt;&lt;span style=&quot;color: #00000
 0\;&quot;&gt;&lt;span style=&quot;font-family: Segoe UI\, serif\;&quot;&gt;&lt;span style=&quot;font-size:
  small\;&quot;&gt;Emeritus Professor\, Department of Physics and Astronomy&lt;/span&gt;&lt;
 /span&gt;&lt;/span&gt;&lt;span style=&quot;color: #000000\;&quot;&gt;&lt;span style=&quot;font-family: Sego
 e UI\, serif\;&quot;&gt;&lt;span style=&quot;font-size: small\;&quot;&gt;\, &lt;/span&gt;&lt;/span&gt;&lt;/span&gt;&lt;
 span style=&quot;color: #000000\;&quot;&gt;&lt;span style=&quot;font-family: Segoe UI\, serif\;
 &quot;&gt;&lt;span style=&quot;font-size: small\;&quot;&gt;The University of British Columbia&lt;/spa
 n&gt;&lt;/span&gt;&lt;/span&gt;&lt;/span&gt;&lt;/span&gt;&lt;/p&gt;\n&lt;p&gt;&lt;span style=&quot;font-family: Times New
  Roman\, serif\;&quot;&gt;&lt;span style=&quot;font-size: medium\;&quot;&gt;&lt;span style=&quot;font-fami
 ly: Calibri\, serif\;&quot;&gt;&lt;span style=&quot;font-size: large\;&quot;&gt;&lt;strong&gt;Abstract:&lt;
 br&gt;&lt;/strong&gt;&lt;/span&gt;&lt;/span&gt;&lt;/span&gt;&lt;/span&gt;&lt;span style=&quot;font-size: small\; fo
 nt-family: &#39;Segoe UI&#39;\, serif\;&quot;&gt;Eclipse Event&lt;br&gt;&lt;/span&gt;&lt;span style=&quot;font
 -family: Times New Roman\, serif\;&quot;&gt;&lt;span style=&quot;font-size: medium\;&quot;&gt;&lt;spa
 n style=&quot;color: #000000\;&quot;&gt;&lt;span style=&quot;font-family: Segoe UI\, serif\;&quot;&gt;&lt;
 span style=&quot;font-size: small\;&quot;&gt;Recent landing of craft on moon.&lt;/span&gt;&lt;/s
 pan&gt;&lt;/span&gt;&lt;span style=&quot;color: #000000\;&quot;&gt;&lt;span style=&quot;font-family: Segoe 
 UI\, serif\;&quot;&gt;&lt;span style=&quot;font-size: small\;&quot;&gt;&lt;br&gt;&lt;/span&gt;&lt;/span&gt;&lt;/span&gt;&lt;s
 pan style=&quot;color: #000000\;&quot;&gt;&lt;span style=&quot;font-family: Segoe UI\, serif\;&quot;
 &gt;&lt;span style=&quot;font-size: small\;&quot;&gt;Space station.&lt;/span&gt;&lt;/span&gt;&lt;/span&gt;&lt;span
  style=&quot;color: #000000\;&quot;&gt;&lt;span style=&quot;font-family: Segoe UI\, serif\;&quot;&gt;&lt;s
 pan style=&quot;font-size: small\;&quot;&gt;&lt;br&gt;&lt;/span&gt;&lt;/span&gt;&lt;/span&gt;&lt;span style=&quot;color
 : #000000\;&quot;&gt;&lt;span style=&quot;font-family: Segoe UI\, serif\;&quot;&gt;&lt;span style=&quot;fo
 nt-size: small\;&quot;&gt;Observations of stars with magnet fields.&lt;/span&gt;&lt;/span&gt;&lt;
 /span&gt;&lt;span style=&quot;color: #000000\;&quot;&gt;&lt;span style=&quot;font-family: Segoe UI\, 
 serif\;&quot;&gt;&lt;span style=&quot;font-size: small\;&quot;&gt;&lt;br&gt;&lt;/span&gt;&lt;/span&gt;&lt;/span&gt;&lt;span s
 tyle=&quot;color: #000000\;&quot;&gt;&lt;span style=&quot;font-family: Segoe UI\, serif\;&quot;&gt;&lt;spa
 n style=&quot;font-size: small\;&quot;&gt;Compare rocket and ion propulsion to Mars?&lt;/s
 pan&gt;&lt;/span&gt;&lt;/span&gt;&lt;span style=&quot;color: #000000\;&quot;&gt;&lt;span style=&quot;font-family:
  Segoe UI\, serif\;&quot;&gt;&lt;span style=&quot;font-size: small\;&quot;&gt;&lt;br&gt;&lt;/span&gt;&lt;/span&gt;&lt;/
 span&gt;&lt;span style=&quot;color: #000000\;&quot;&gt;&lt;span style=&quot;font-family: Segoe UI\, s
 erif\;&quot;&gt;&lt;span style=&quot;font-size: small\;&quot;&gt;Any questions about astronomy.&lt;/s
 pan&gt;&lt;/span&gt;&lt;/span&gt;&lt;/span&gt;&lt;/span&gt;&lt;/p&gt;\n&lt;p&gt;&lt;span style=&quot;font-family: Times N
 ew Roman\, serif\;&quot;&gt;&lt;span style=&quot;font-size: medium\;&quot;&gt;&lt;span style=&quot;color: 
 #000000\;&quot;&gt;&lt;span style=&quot;font-family: Segoe UI\, serif\;&quot;&gt;&lt;span style=&quot;font
 -size: small\;&quot;&gt;&lt;span style=&quot;font-family: Times New Roman\, serif\;&quot;&gt;&lt;span
  style=&quot;font-size: medium\;&quot;&gt;&lt;span style=&quot;font-family: Segoe UI\, serif\;&quot;
 &gt;&lt;span style=&quot;font-size: small\;&quot;&gt;&lt;span style=&quot;font-family: Times New Roma
 n\, serif\;&quot;&gt;&lt;span style=&quot;font-size: medium\;&quot;&gt;&lt;span style=&quot;font-family: S
 egoe UI\, serif\;&quot;&gt;&lt;span style=&quot;font-size: small\;&quot;&gt;Astronomy education an
 d public outreach are important facets of&lt;/span&gt;&lt;/span&gt;&lt;span style=&quot;font-f
 amily: Segoe UI\, serif\;&quot;&gt;&lt;span style=&quot;font-size: small\;&quot;&gt; &lt;/span&gt;&lt;/span
 &gt;&lt;span style=&quot;font-family: Segoe UI\, serif\;&quot;&gt;&lt;span style=&quot;font-size: sma
 ll\;&quot;&gt;Matthews&amp;rsquo\; life and career. He served on the Board of Director
 s of Vancouver&amp;rsquo\;s H.R.&lt;/span&gt;&lt;/span&gt;&lt;span style=&quot;font-family: Segoe 
 UI\, serif\;&quot;&gt;&lt;span style=&quot;font-size: small\;&quot;&gt; &lt;/span&gt;&lt;/span&gt;&lt;span style=
 &quot;font-family: Segoe UI\, serif\;&quot;&gt;&lt;span style=&quot;font-size: small\;&quot;&gt;MacMill
 an Space Centre for almost 20 years\, and on the Board of Youth&lt;/span&gt;&lt;/sp
 an&gt;&lt;span style=&quot;font-family: Segoe UI\, serif\;&quot;&gt;&lt;span style=&quot;font-size: s
 mall\;&quot;&gt; &lt;/span&gt;&lt;/span&gt;&lt;span style=&quot;font-family: Segoe UI\, serif\;&quot;&gt;&lt;span
  style=&quot;font-size: small\;&quot;&gt;Science&lt;/span&gt;&lt;/span&gt;&lt;span style=&quot;font-family:
  Segoe UI\, serif\;&quot;&gt;&lt;span style=&quot;font-size: small\;&quot;&gt; &lt;/span&gt;&lt;/span&gt;&lt;span
  style=&quot;font-family: Segoe UI\, serif\;&quot;&gt;&lt;span style=&quot;font-size: small\;&quot;&gt;
 Canada. In 2015\, he received the Canada-Wide Science Fair Alumni Award.&amp;n
 bsp\;&lt;/span&gt;&lt;/span&gt;&lt;span style=&quot;font-family: Segoe UI\, serif\;&quot;&gt;&lt;span sty
 le=&quot;font-size: small\;&quot;&gt; &lt;/span&gt;&lt;/span&gt;&lt;span style=&quot;font-family: Segoe UI\
 , serif\;&quot;&gt;&lt;span style=&quot;font-size: small\;&quot;&gt;He&lt;/span&gt;&lt;/span&gt;&lt;span style=&quot;f
 ont-family: Segoe UI\, serif\;&quot;&gt;&lt;span style=&quot;font-size: small\;&quot;&gt; &lt;/span&gt;&lt;
 /span&gt;&lt;span style=&quot;font-family: Segoe UI\, serif\;&quot;&gt;&lt;span style=&quot;font-size
 : small\;&quot;&gt;was awarded a 1999 Killam Prize for teaching excellence in the 
 UBC&lt;/span&gt;&lt;/span&gt;&lt;span style=&quot;font-family: Segoe UI\, serif\;&quot;&gt;&lt;span style
 =&quot;font-size: small\;&quot;&gt; &lt;/span&gt;&lt;/span&gt;&lt;span style=&quot;font-family: Segoe UI\, 
 serif\;&quot;&gt;&lt;span style=&quot;font-size: small\;&quot;&gt;Faculty of&lt;/span&gt;&lt;/span&gt;&lt;span st
 yle=&quot;font-family: Segoe UI\, serif\;&quot;&gt;&lt;span style=&quot;font-size: small\;&quot;&gt; &lt;/
 span&gt;&lt;/span&gt;&lt;span style=&quot;font-family: Segoe UI\, serif\;&quot;&gt;&lt;span style=&quot;fon
 t-size: small\;&quot;&gt;Science\, and the 2002 Teaching Prize of the Canadian Ass
 ociation of&lt;/span&gt;&lt;/span&gt;&lt;span style=&quot;font-family: Segoe UI\, serif\;&quot;&gt;&lt;sp
 an style=&quot;font-size: small\;&quot;&gt; &lt;/span&gt;&lt;/span&gt;&lt;span style=&quot;font-family: Seg
 oe UI\, serif\;&quot;&gt;&lt;span style=&quot;font-size: small\;&quot;&gt;Physicists.&lt;/span&gt;&lt;/span
 &gt;&lt;span style=&quot;font-family: Segoe UI\, serif\;&quot;&gt;&lt;span style=&quot;font-size: sma
 ll\;&quot;&gt; &lt;/span&gt;&lt;/span&gt;&lt;span style=&quot;font-family: Segoe UI\, serif\;&quot;&gt;&lt;span s
 tyle=&quot;font-size: small\;&quot;&gt;In 2016\, Dr. Matthews was awarded the Canadian 
 Astronomy Society&amp;rsquo\;s Qilak&lt;/span&gt;&lt;/span&gt;&lt;span style=&quot;font-family: Se
 goe UI\, serif\;&quot;&gt;&lt;span style=&quot;font-size: small\;&quot;&gt; &lt;/span&gt;&lt;/span&gt;&lt;span st
 yle=&quot;font-family: Segoe UI\, serif\;&quot;&gt;&lt;span style=&quot;font-size: small\;&quot;&gt;Awa
 rd&lt;/span&gt;&lt;/span&gt;&lt;span style=&quot;font-family: Segoe UI\, serif\;&quot;&gt;&lt;span style=
 &quot;font-size: small\;&quot;&gt; &lt;/span&gt;&lt;/span&gt;&lt;span style=&quot;font-family: Segoe UI\, s
 erif\;&quot;&gt;&lt;span style=&quot;font-size: small\;&quot;&gt;for his efforts in astronomy educ
 ation and public outreach. Qilak is the&lt;/span&gt;&lt;/span&gt;&lt;span style=&quot;font-fam
 ily: Segoe UI\, serif\;&quot;&gt;&lt;span style=&quot;font-size: small\;&quot;&gt; &lt;/span&gt;&lt;/span&gt;&lt;
 span style=&quot;font-family: Segoe UI\, serif\;&quot;&gt;&lt;span style=&quot;font-size: small
 \;&quot;&gt;Inuit&lt;/span&gt;&lt;/span&gt;&lt;span style=&quot;font-family: Segoe UI\, serif\;&quot;&gt;&lt;span
  style=&quot;font-size: small\;&quot;&gt; &lt;/span&gt;&lt;/span&gt;&lt;span style=&quot;font-family: Segoe
  UI\, serif\;&quot;&gt;&lt;span style=&quot;font-size: small\;&quot;&gt;word for the &amp;ldquo\;canop
 y of the heavens&amp;rdquo\; or the sky overhead. He has an&lt;/span&gt;&lt;/span&gt;&lt;span
  style=&quot;font-family: Segoe UI\, serif\;&quot;&gt;&lt;span style=&quot;font-size: small\;&quot;&gt;
  &lt;/span&gt;&lt;/span&gt;&lt;span style=&quot;font-family: Segoe UI\, serif\;&quot;&gt;&lt;span style=&quot;
 font-size: small\;&quot;&gt;asteroid&lt;/span&gt;&lt;/span&gt;&lt;span style=&quot;font-family: Segoe 
 UI\, serif\;&quot;&gt;&lt;span style=&quot;font-size: small\;&quot;&gt; &lt;/span&gt;&lt;/span&gt;&lt;span style=
 &quot;font-family: Segoe UI\, serif\;&quot;&gt;&lt;span style=&quot;font-size: small\;&quot;&gt;named f
 or him.&lt;/span&gt;&lt;/span&gt;&lt;/span&gt;&lt;/span&gt;&lt;/span&gt;&lt;/span&gt;&lt;/span&gt;&lt;/span&gt;&lt;/span&gt;&lt;/sp
 an&gt;&lt;/span&gt;&lt;/span&gt;&lt;/span&gt;&lt;/p&gt;&lt;br /&gt;&lt;br /&gt;Agenda: &lt;br /&gt;&lt;p class=&quot;western&quot;&gt;R
 egistration is optional\, but we want to know who to expect.&lt;br&gt;&lt;strong&gt;10
 :00 AM P.D.T. Suggest you log in at 9:45 AM (12:45 PM Montreal) to check c
 onnection and say hello.&lt;br&gt;&lt;/strong&gt;All IEEE members are welcome\, especi
 ally those Life Members that don&#39;t have a local Affinity Group.&lt;strong&gt;&lt;br
 &gt;&lt;/strong&gt;&lt;/p&gt;\n&lt;p&gt;We are looking for speakers for the rest of the year\, 
 contact Carl Zanon &amp;lt\;sczanon@shaw.ca&amp;gt\; if interested.&lt;/p&gt;\n&lt;p&gt;9:45 A
 M Zoom opens&lt;br&gt;10:00 AM Welcome and speaker introduction&lt;br&gt;10:05 AM Spea
 ker&lt;/p&gt;\n&lt;p&gt;&amp;nbsp\;&lt;/p&gt;\n&lt;p&gt;&amp;nbsp\;&lt;/p&gt;\n&lt;p&gt;&amp;nbsp\;&lt;/p&gt;
END:VEVENT
END:VCALENDAR

