BEGIN:VCALENDAR
VERSION:2.0
PRODID:IEEE vTools.Events//EN
CALSCALE:GREGORIAN
BEGIN:VTIMEZONE
TZID:Asia/Kolkata
BEGIN:STANDARD
DTSTART:19451014T230000
TZOFFSETFROM:+0630
TZOFFSETTO:+0530
TZNAME:IST
END:STANDARD
END:VTIMEZONE
BEGIN:VEVENT
DTSTAMP:20241129T091924Z
UID:92E02C8A-0937-4687-BA77-1CEAFFA1C861
DTSTART;TZID=Asia/Kolkata:20240425T153000
DTEND;TZID=Asia/Kolkata:20241010T183000
DESCRIPTION:On the occasion of IEEE PES Day\, Basaveshwar Engineering Colle
 ge organized an IEEE PES Day celebration\, commemorating the advancements 
 and contributions in the field of Power and Energy and promoting the theme
  “Empowering Electric Mobility Innovation.” The event commenced with a
 n inauguration ceremony\, graced by esteemed dignitaries.\n\nInauguration 
 Ceremony Highlights:\n\nInauguration: The ceremony was inaugurated by the 
 Incharge HOD\, Prof. R.S. Allurkar\, and Dr. Sangamesh Goudappanavar\, BEC
  IEEE PES Faculty Advisor\, emphasizing the significance of IEEE PES Day.\
 n\nDistinguished Guests: Dr. Vijaylakshmi Jigajinni\, IEEE SBC Branch Coun
 sellor\, honored the event with their presence.\n\nAnchors: Miss Meghana B
 . S. and Miss Harsha V. Kulkarni efficiently anchored the proceedings\, en
 suring a smooth flow of events.\n\nWelcome Speech: Mr. Bharatesh B. delive
 red a warm welcome speech\, extending greetings to all attendees.\n\nCake 
 Cutting Celebration: The ceremony was marked by a cake-cutting celebration
 \, symbolizing unity and collaboration in the IEEE community.\n\nOverview 
 of IEEE PES Day: Dr. Sangamesh Goudappanavar provided an insightful overvi
 ew of IEEE PES Day\, highlighting its importance and objectives.\n\nBenefi
 ts of IEEE Membership: Dr. Vijaylakshmi Jigajinni enlightened the audience
  about the benefits of IEEE membership and the opportunities it offers in 
 various societies.\n\nPresidential Remarks: Prof. R.S. Allurkar shared pre
 sidential remarks\, emphasizing the role of IEEE in shaping the future of 
 engineering and technology.\n\nVote of Thanks: Miss A Nandita delivered a 
 vote of thanks\, expressing gratitude to all participants\, organizers\, a
 nd sponsors for their contributions.\n\nBldg: EEE Dept Seminar Hall\, Basa
 veshwar Engineering College\, Bagalkot\, Bagalkot\, Karnataka\, India\, 58
 7102
LOCATION:Bldg: EEE Dept Seminar Hall\, Basaveshwar Engineering College\, Ba
 galkot\, Bagalkot\, Karnataka\, India\, 587102
ORGANIZER:becieee.contact@gmail.com
SEQUENCE:11
SUMMARY:IEEE PES DAY CELEBRATION
URL;VALUE=URI:https://events.vtools.ieee.org/m/438709
X-ALT-DESC:Description: &lt;br /&gt;&lt;p&gt;On the occasion of IEEE PES Day\, Basavesh
 war Engineering College organized an IEEE PES Day celebration\, commemorat
 ing the advancements and contributions in the field of Power and Energy an
 d promoting the theme &amp;ldquo\;Empowering Electric Mobility Innovation.&amp;rdq
 uo\; The event commenced with an inauguration ceremony\, graced by esteeme
 d dignitaries.&lt;/p&gt;\n&lt;p&gt;&lt;strong&gt;Inauguration Ceremony Highlights:&lt;/strong&gt;&lt;
 /p&gt;\n&lt;p&gt;&lt;strong&gt;Inauguration:&lt;/strong&gt; The ceremony was inaugurated by the
  Incharge HOD\, Prof. R.S. Allurkar\, and Dr. Sangamesh Goudappanavar\, BE
 C IEEE PES Faculty Advisor\, emphasizing the significance of IEEE PES Day.
 &lt;/p&gt;\n&lt;p&gt;&lt;strong&gt;Distinguished Guests&lt;/strong&gt;: Dr. Vijaylakshmi Jigajinni
 \, IEEE SBC Branch Counsellor\, honored the event with their presence.&lt;/p&gt;
 \n&lt;p&gt;&lt;strong&gt;Anchors:&lt;/strong&gt; Miss Meghana B. S. and Miss Harsha V. Kulka
 rni efficiently anchored the proceedings\, ensuring a smooth flow of event
 s.&lt;/p&gt;\n&lt;p&gt;&lt;strong&gt;Welcome Speech:&lt;/strong&gt; Mr. Bharatesh B. delivered a w
 arm welcome speech\, extending greetings to all attendees.&lt;/p&gt;\n&lt;p&gt;&lt;strong
 &gt;Cake Cutting Celebration:&lt;/strong&gt; The ceremony was marked by a cake-cutt
 ing celebration\, symbolizing unity and collaboration in the IEEE communit
 y.&lt;/p&gt;\n&lt;p&gt;&lt;strong&gt;Overview of IEEE PES Day:&lt;/strong&gt; Dr. Sangamesh Goudap
 panavar provided an insightful overview of IEEE PES Day\, highlighting its
  importance and objectives.&lt;/p&gt;\n&lt;p&gt;&lt;strong&gt;Benefits of IEEE Membership: &lt;
 /strong&gt;Dr. Vijaylakshmi Jigajinni enlightened the audience about the bene
 fits of IEEE membership and the opportunities it offers in various societi
 es.&lt;/p&gt;\n&lt;p&gt;&lt;strong&gt;Presidential Remarks:&lt;/strong&gt; Prof. R.S. Allurkar sha
 red presidential remarks\, emphasizing the role of IEEE in shaping the fut
 ure of engineering and technology.&lt;/p&gt;\n&lt;p&gt;&lt;strong&gt;Vote of Thanks:&lt;/strong
 &gt; Miss A Nandita delivered a vote of thanks\, expressing gratitude to all 
 participants\, organizers\, and sponsors for their contributions.&lt;/p&gt;
END:VEVENT
END:VCALENDAR

