BEGIN:VCALENDAR
VERSION:2.0
PRODID:IEEE vTools.Events//EN
CALSCALE:GREGORIAN
BEGIN:VTIMEZONE
TZID:Asia/Kolkata
BEGIN:STANDARD
DTSTART:19451014T230000
TZOFFSETFROM:+0630
TZOFFSETTO:+0530
TZNAME:IST
END:STANDARD
END:VTIMEZONE
BEGIN:VEVENT
DTSTAMP:20241009T172335Z
UID:F866C6F1-1F26-44B1-9639-300037B34001
DTSTART;TZID=Asia/Kolkata:20241009T190000
DTEND;TZID=Asia/Kolkata:20241009T203000
DESCRIPTION:[]\n\nObjective:\n\nThe main objective of the session was to pr
 ovide an insightful overview of career opportunities in the space sector. 
 With space exploration becoming more accessible due to technological advan
 cements\, this session aimed to guide students on potential career paths a
 nd the skills necessary for entering this sector.\n\nEvent Highlights:\n\n
 -\nIntroduction by the Host: The session began with an introduction by the
  host\, emphasizing the significance of the space sector in today’s tech
 nological landscape and welcoming the guest speaker\, Varun K.\n\n-\nSpeak
 er Presentation: Varun K\, Founder and CEO of Zeta Space\, gave an engagin
 g talk on the space sector\, touching upon:\n\n- The current trends in spa
 ce exploration\, including private and public sector collaborations.\n- Th
 e growth of space-based startups and the challenges they face.\n- Emerging
  technologies such as satellite communication\, space tourism\, and resour
 ce extraction from asteroids.\n- The global job market in the space sector
 \, highlighting roles in satellite technology\, space robotics\, propulsio
 n systems\, and research in astrophysics.\n\n-\nSkills and Career Paths: V
 arun discussed various career paths available for students interested in t
 he space industry:\n\n- Engineering roles in spacecraft design\, satellite
  communications\, and propulsion systems.\n- Research roles in space scien
 ce\, including planetary science and astrophysics.\n- Entrepreneurial oppo
 rtunities for launching startups in the space tech domain.\n- How multidis
 ciplinary skills like programming\, robotics\, and electronics are valuabl
 e in space exploration.\n- The importance of gaining experience through in
 ternships and involvement in space-related projects.\n\n-\nZeta Space Over
 view: Varun provided insights into Zeta Space’s mission and the work the
 y do. He discussed their current projects\, which include satellite techno
 logy and space exploration initiatives\, and shared his journey of foundin
 g a space-related startup.\n\n-\nQ&amp;A Session: After the presentation\, the
 re was a Q&amp;A session where students asked various questions regarding:\n\n
 - The best universities and courses for pursuing a career in space science
 .\n- How to prepare for internships in space tech companies.\n- Potential 
 government and private sector collaborations in the future.\n\n-\nClosing 
 Remarks: The session ended with a vote of thanks from the organizing team\
 , acknowledging Varun K for his time and insights. The team also encourage
 d participants to stay connected for future IEEE MTTS SBC events.\n\nOutco
 me:\n\nThe session successfully provided participants with a comprehensive
  understanding of the space sector&#39;s opportunities. Students were inspired
  by Varun K’s entrepreneurial journey and received valuable advice on ho
 w to pursue careers in this field.\n\nSpeaker(s): Varun K\, \n\nVirtual: h
 ttps://events.vtools.ieee.org/m/438712
LOCATION:Virtual: https://events.vtools.ieee.org/m/438712
ORGANIZER:ieeemttssbcnssce@gmail.com
SEQUENCE:17
SUMMARY:Career Oppurtunities in Space Sector
URL;VALUE=URI:https://events.vtools.ieee.org/m/438712
X-ALT-DESC:Description: &lt;br /&gt;&lt;h3&gt;&lt;img src=&quot;https://events.vtools.ieee.org/
 vtools_ui/media/display/5ec7de33-a5b2-4cad-8c46-c3b4505a6fd9&quot; alt=&quot;&quot; width
 =&quot;452&quot; height=&quot;452&quot;&gt;&lt;/h3&gt;\n&lt;h3&gt;Objective:&lt;/h3&gt;\n&lt;p&gt;The main objective of t
 he session was to provide an insightful overview of career opportunities i
 n the space sector. With space exploration becoming more accessible due to
  technological advancements\, this session aimed to guide students on pote
 ntial career paths and the skills necessary for entering this sector.&lt;/p&gt;\
 n&lt;h3&gt;Event Highlights:&lt;/h3&gt;\n&lt;ol&gt;\n&lt;li&gt;\n&lt;p&gt;&lt;strong&gt;Introduction by the Ho
 st&lt;/strong&gt;: The session began with an introduction by the host\, emphasiz
 ing the significance of the space sector in today&amp;rsquo\;s technological l
 andscape and welcoming the guest speaker\, Varun K.&lt;/p&gt;\n&lt;/li&gt;\n&lt;li&gt;\n&lt;p&gt;&lt;
 strong&gt;Speaker Presentation&lt;/strong&gt;: Varun K\, Founder and CEO of Zeta Sp
 ace\, gave an engaging talk on the space sector\, touching upon:&lt;/p&gt;\n&lt;ul&gt;
 \n&lt;li&gt;The current trends in space exploration\, including private and publ
 ic sector collaborations.&lt;/li&gt;\n&lt;li&gt;The growth of space-based startups and
  the challenges they face.&lt;/li&gt;\n&lt;li&gt;Emerging technologies such as satelli
 te communication\, space tourism\, and resource extraction from asteroids.
 &lt;/li&gt;\n&lt;li&gt;The global job market in the space sector\, highlighting roles 
 in satellite technology\, space robotics\, propulsion systems\, and resear
 ch in astrophysics.&lt;/li&gt;\n&lt;/ul&gt;\n&lt;/li&gt;\n&lt;li&gt;\n&lt;p&gt;&lt;strong&gt;Skills and Career
  Paths&lt;/strong&gt;: Varun discussed various career paths available for studen
 ts interested in the space industry:&lt;/p&gt;\n&lt;ul&gt;\n&lt;li&gt;Engineering roles in s
 pacecraft design\, satellite communications\, and propulsion systems.&lt;/li&gt;
 \n&lt;li&gt;Research roles in space science\, including planetary science and as
 trophysics.&lt;/li&gt;\n&lt;li&gt;Entrepreneurial opportunities for launching startups
  in the space tech domain.&lt;/li&gt;\n&lt;li&gt;How multidisciplinary skills like pro
 gramming\, robotics\, and electronics are valuable in space exploration.&lt;/
 li&gt;\n&lt;li&gt;The importance of gaining experience through internships and invo
 lvement in space-related projects.&lt;/li&gt;\n&lt;/ul&gt;\n&lt;/li&gt;\n&lt;li&gt;\n&lt;p&gt;&lt;strong&gt;Ze
 ta Space Overview&lt;/strong&gt;: Varun provided insights into Zeta Space&amp;rsquo\
 ;s mission and the work they do. He discussed their current projects\, whi
 ch include satellite technology and space exploration initiatives\, and sh
 ared his journey of founding a space-related startup.&lt;/p&gt;\n&lt;/li&gt;\n&lt;li&gt;\n&lt;p
 &gt;&lt;strong&gt;Q&amp;amp\;A Session&lt;/strong&gt;: After the presentation\, there was a Q
 &amp;amp\;A session where students asked various questions regarding:&lt;/p&gt;\n&lt;ul
 &gt;\n&lt;li&gt;The best universities and courses for pursuing a career in space sc
 ience.&lt;/li&gt;\n&lt;li&gt;How to prepare for internships in space tech companies.&lt;/
 li&gt;\n&lt;li&gt;Potential government and private sector collaborations in the fut
 ure.&lt;/li&gt;\n&lt;/ul&gt;\n&lt;/li&gt;\n&lt;li&gt;\n&lt;p&gt;&lt;strong&gt;Closing Remarks&lt;/strong&gt;: The se
 ssion ended with a vote of thanks from the organizing team\, acknowledging
  Varun K for his time and insights. The team also encouraged participants 
 to stay connected for future IEEE MTTS SBC events.&lt;/p&gt;\n&lt;/li&gt;\n&lt;/ol&gt;\n&lt;h3&gt;
 Outcome:&lt;/h3&gt;\n&lt;p&gt;The session successfully provided participants with a co
 mprehensive understanding of the space sector&#39;s opportunities. Students we
 re inspired by Varun K&amp;rsquo\;s entrepreneurial journey and received valua
 ble advice on how to pursue careers in this field.&lt;/p&gt;
END:VEVENT
END:VCALENDAR

