BEGIN:VCALENDAR
VERSION:2.0
PRODID:IEEE vTools.Events//EN
CALSCALE:GREGORIAN
BEGIN:VTIMEZONE
TZID:Asia/Kolkata
BEGIN:STANDARD
DTSTART:19451014T230000
TZOFFSETFROM:+0630
TZOFFSETTO:+0530
TZNAME:IST
END:STANDARD
END:VTIMEZONE
BEGIN:VEVENT
DTSTAMP:20241010T162132Z
UID:3CE28537-87EE-47D9-8575-E5BDA9460A16
DTSTART;TZID=Asia/Kolkata:20241009T090000
DTEND;TZID=Asia/Kolkata:20241009T100000
DESCRIPTION:On October 9\, 2024\, the IEEE Student Chapter at SRIMT success
 fully conducted a Membership Drive as part of the IEEE Day 2024 - 15th Ann
 iversary celebration. The event aimed to encourage students to join the pr
 estigious IEEE organization and become a part of a global community of inn
 ovators and technology enthusiasts.\n\nPlanning and Preparation:\n\nThe me
 mbership drive was meticulously planned over the course of several weeks\,
  with our team putting in significant effort to ensure its success. We str
 ategized multiple ways to engage students and highlight the benefits of IE
 EE membership\, tailoring our efforts to attract a diverse range of partic
 ipants.\n\nOur Key Preparatory Efforts Included:\n\n-\nPromotional Campaig
 n:\nA comprehensive promotional campaign was launched across SRIMT. We des
 igned posters\, banners\, and digital content\, distributed both physicall
 y and via social media. We also worked closely with faculty members and st
 udent volunteers to raise awareness about the drive.\n\n-\nPre-Event Infor
 mation Sessions:\nTo spark interest\, we conducted several pre-event sessi
 ons where current IEEE members shared their experiences and explained how 
 IEEE can support students&#39; academic and career growth.\n\n-\nEngaging Volu
 nteers:\nA dedicated team of student volunteers worked day and night to or
 ganize the event. From logistical arrangements to preparing membership mat
 erials\, everyone contributed to ensure the drive ran smoothly.\n\nEvent D
 ay:\n\nThe membership drive was set up in the central atrium of SRIMT\, an
 d the atmosphere was vibrant with excitement. The venue was decorated with
  IEEE banners\, and the registration desk was equipped with brochures\, me
 mbership forms\, and digital screens showcasing the global reach and impac
 t of IEEE.\n\nKey Highlights of the Event:\n\n-\nInteractive Booths:\nWe s
 et up interactive booths where students could learn more about IEEE’s nu
 merous benefits\, including access to research papers\, participation in g
 lobal competitions\, networking opportunities\, and scholarships. Demonstr
 ations of past IEEE projects were showcased to inspire prospective members
 .\n\n-\nPersonalized Counseling:\nOur volunteers engaged in one-on-one dis
 cussions with students\, addressing their queries about IEEE membership an
 d explaining how it aligns with their career aspirations. This personal to
 uch helped create a welcoming environment and alleviated any concerns stud
 ents had about joining.\n\n-\nExclusive Membership Offers:\nSpecial discou
 nts and membership packages were available for those who signed up on IEEE
  Day\, which attracted many students who were keen on taking advantage of 
 the offer.\n\nResults and Achievements:\n\nThanks to the hard work of our 
 team\, the membership drive was a tremendous success. We achieved our goal
  of signing up [Number of New Members] new IEEE student members\, far exce
 eding our expectations. Many students expressed their excitement about bei
 ng part of a global professional community and were eager to participate i
 n upcoming IEEE events.\n\nConclusion:\n\nThe IEEE Membership Drive at SRI
 MT\, held in celebration of IEEE Day 2024\, was a remarkable success. The 
 drive highlighted the collective effort of our team\, from the comprehensi
 ve planning stage to the engaging execution of the event. Our dedicated vo
 lunteers\, faculty support\, and the enthusiasm of the student body were i
 nstrumental in making this event impactful.\n\nWe are proud of the efforts
  that went into making this drive a success and look forward to welcoming 
 the new members into the IEEE family. This membership drive has laid a sol
 id foundation for strengthening the IEEE community at SRIMT\, and we are e
 xcited about future opportunities to grow and collaborate.\n\nAgenda: \n-\
 nIncrease IEEE Student Membership at SRIMT\nTo encourage a significant num
 ber of students to join the IEEE community\, helping them access resources
 \, networking opportunities\, and professional development tools.\n\n-\nPr
 omote Awareness of IEEE Benefits\nTo inform students about the wide-rangin
 g benefits of IEEE membership\, including access to research papers\, indu
 stry conferences\, technical resources\, and global competitions.\n\n-\nPr
 ovide Guidance and Mentorship\nTo offer personalized counseling to student
 s on how IEEE membership can help them in their academic and professional 
 journeys\, addressing queries and concerns regarding membership.\n\n-\nEnc
 ourage Participation in IEEE Events and Initiatives\nTo inspire students t
 o take part in future IEEE events\, technical workshops\, and conferences\
 , enabling them to expand their knowledge and skills in technology and eng
 ineering.\n\n-\nStrengthen the IEEE Student Chapter at SRIMT\nTo enhance t
 he presence and impact of the IEEE student community at SRIMT\, building a
  strong base for future activities and growth within the institution\n\nRo
 om: Vivekanand Seminar hall\, Bldg: A - Block\, SR Institute of Management
  and Technology\, BKT\, Lucknow\, Uttar Pradesh\, India\, 226201
LOCATION:Room: Vivekanand Seminar hall\, Bldg: A - Block\, SR Institute of 
 Management and Technology\, BKT\, Lucknow\, Uttar Pradesh\, India\, 226201
ORGANIZER:ajay262438@gmail.com
SEQUENCE:2
SUMMARY:Membership Drive - IEEE Day 2024
URL;VALUE=URI:https://events.vtools.ieee.org/m/438715
X-ALT-DESC:Description: &lt;br /&gt;&lt;p&gt;On October 9\, 2024\, the IEEE Student Cha
 pter at SRIMT successfully conducted a &lt;strong&gt;Membership Drive&lt;/strong&gt; a
 s part of the IEEE Day 2024 - 15th Anniversary celebration. The event aime
 d to encourage students to join the prestigious IEEE organization and beco
 me a part of a global community of innovators and technology enthusiasts.&lt;
 /p&gt;\n&lt;h3&gt;&lt;strong&gt;Planning and Preparation:&lt;/strong&gt;&lt;/h3&gt;\n&lt;p&gt;The membershi
 p drive was meticulously planned over the course of several weeks\, with o
 ur team putting in significant effort to ensure its success. We strategize
 d multiple ways to engage students and highlight the benefits of IEEE memb
 ership\, tailoring our efforts to attract a diverse range of participants.
 &lt;/p&gt;\n&lt;p&gt;&lt;strong&gt;Our Key Preparatory Efforts Included:&lt;/strong&gt;&lt;/p&gt;\n&lt;ul&gt;\
 n&lt;li&gt;\n&lt;p&gt;&lt;strong&gt;Promotional Campaign:&lt;/strong&gt;&lt;br&gt;A comprehensive promot
 ional campaign was launched across SRIMT. We designed posters\, banners\, 
 and digital content\, distributed both physically and via social media. We
  also worked closely with faculty members and student volunteers to raise 
 awareness about the drive.&lt;/p&gt;\n&lt;/li&gt;\n&lt;li&gt;\n&lt;p&gt;&lt;strong&gt;Pre-Event Informat
 ion Sessions:&lt;/strong&gt;&lt;br&gt;To spark interest\, we conducted several pre-eve
 nt sessions where current IEEE members shared their experiences and explai
 ned how IEEE can support students&#39; academic and career growth.&lt;/p&gt;\n&lt;/li&gt;\
 n&lt;li&gt;\n&lt;p&gt;&lt;strong&gt;Engaging Volunteers:&lt;/strong&gt;&lt;br&gt;A dedicated team of stu
 dent volunteers worked day and night to organize the event. From logistica
 l arrangements to preparing membership materials\, everyone contributed to
  ensure the drive ran smoothly.&lt;/p&gt;\n&lt;/li&gt;\n&lt;/ul&gt;\n&lt;h3&gt;&lt;strong&gt;Event Day:&lt;
 /strong&gt;&lt;/h3&gt;\n&lt;p&gt;The membership drive was set up in the central atrium of
  SRIMT\, and the atmosphere was vibrant with excitement. The venue was dec
 orated with IEEE banners\, and the registration desk was equipped with bro
 chures\, membership forms\, and digital screens showcasing the global reac
 h and impact of IEEE.&lt;/p&gt;\n&lt;p&gt;&lt;strong&gt;Key Highlights of the Event:&lt;/strong
 &gt;&lt;/p&gt;\n&lt;ul&gt;\n&lt;li&gt;\n&lt;p&gt;&lt;strong&gt;Interactive Booths:&lt;/strong&gt;&lt;br&gt;We set up in
 teractive booths where students could learn more about IEEE&amp;rsquo\;s numer
 ous benefits\, including access to research papers\, participation in glob
 al competitions\, networking opportunities\, and scholarships. Demonstrati
 ons of past IEEE projects were showcased to inspire prospective members.&lt;/
 p&gt;\n&lt;/li&gt;\n&lt;li&gt;\n&lt;p&gt;&lt;strong&gt;Personalized Counseling:&lt;/strong&gt;&lt;br&gt;Our volun
 teers engaged in one-on-one discussions with students\, addressing their q
 ueries about IEEE membership and explaining how it aligns with their caree
 r aspirations. This personal touch helped create a welcoming environment a
 nd alleviated any concerns students had about joining.&lt;/p&gt;\n&lt;/li&gt;\n&lt;li&gt;\n&lt;
 p&gt;&lt;strong&gt;Exclusive Membership Offers:&lt;/strong&gt;&lt;br&gt;Special discounts and m
 embership packages were available for those who signed up on IEEE Day\, wh
 ich attracted many students who were keen on taking advantage of the offer
 .&lt;/p&gt;\n&lt;/li&gt;\n&lt;/ul&gt;\n&lt;h3&gt;&lt;strong&gt;Results and Achievements:&lt;/strong&gt;&lt;/h3&gt;\n
 &lt;p&gt;Thanks to the hard work of our team\, the membership drive was a tremen
 dous success. We achieved our goal of signing up [Number of New Members] n
 ew IEEE student members\, far exceeding our expectations. Many students ex
 pressed their excitement about being part of a global professional communi
 ty and were eager to participate in upcoming IEEE events.&lt;/p&gt;\n&lt;h3&gt;&lt;strong
 &gt;Conclusion:&lt;/strong&gt;&lt;/h3&gt;\n&lt;p&gt;The IEEE Membership Drive at SRIMT\, held i
 n celebration of IEEE Day 2024\, was a remarkable success. The drive highl
 ighted the collective effort of our team\, from the comprehensive planning
  stage to the engaging execution of the event. Our dedicated volunteers\, 
 faculty support\, and the enthusiasm of the student body were instrumental
  in making this event impactful.&lt;/p&gt;\n&lt;p&gt;We are proud of the efforts that 
 went into making this drive a success and look forward to welcoming the ne
 w members into the IEEE family. This membership drive has laid a solid fou
 ndation for strengthening the IEEE community at SRIMT\, and we are excited
  about future opportunities to grow and collaborate.&lt;/p&gt;&lt;br /&gt;&lt;br /&gt;Agenda
 : &lt;br /&gt;&lt;div class=&quot;flex max-w-full flex-col flex-grow&quot;&gt;\n&lt;div class=&quot;min-
 h-8 text-message flex w-full flex-col items-end gap-2 whitespace-normal br
 eak-words [.text-message+&amp;amp\;]:mt-5&quot; dir=&quot;auto&quot; data-message-author-role
 =&quot;assistant&quot; data-message-id=&quot;f92e3c83-a10d-4fd4-8065-24c328da77fa&quot; data-m
 essage-model-slug=&quot;gpt-4o&quot;&gt;\n&lt;div class=&quot;flex w-full flex-col gap-1 empty:
 hidden first:pt-[3px]&quot;&gt;\n&lt;div class=&quot;markdown prose w-full break-words dar
 k:prose-invert light&quot;&gt;\n&lt;ol&gt;\n&lt;li&gt;\n&lt;p&gt;&lt;strong&gt;Increase IEEE Student Membe
 rship at SRIMT&lt;/strong&gt;&lt;br&gt;To encourage a significant number of students t
 o join the IEEE community\, helping them access resources\, networking opp
 ortunities\, and professional development tools.&lt;/p&gt;\n&lt;/li&gt;\n&lt;li&gt;\n&lt;p&gt;&lt;str
 ong&gt;Promote Awareness of IEEE Benefits&lt;/strong&gt;&lt;br&gt;To inform students abou
 t the wide-ranging benefits of IEEE membership\, including access to resea
 rch papers\, industry conferences\, technical resources\, and global compe
 titions.&lt;/p&gt;\n&lt;/li&gt;\n&lt;li&gt;\n&lt;p&gt;&lt;strong&gt;Provide Guidance and Mentorship&lt;/str
 ong&gt;&lt;br&gt;To offer personalized counseling to students on how IEEE membershi
 p can help them in their academic and professional journeys\, addressing q
 ueries and concerns regarding membership.&lt;/p&gt;\n&lt;/li&gt;\n&lt;li&gt;\n&lt;p&gt;&lt;strong&gt;Enc
 ourage Participation in IEEE Events and Initiatives&lt;/strong&gt;&lt;br&gt;To inspire
  students to take part in future IEEE events\, technical workshops\, and c
 onferences\, enabling them to expand their knowledge and skills in technol
 ogy and engineering.&lt;/p&gt;\n&lt;/li&gt;\n&lt;li&gt;\n&lt;p&gt;&lt;strong&gt;Strengthen the IEEE Stud
 ent Chapter at SRIMT&lt;/strong&gt;&lt;br&gt;To enhance the presence and impact of the
  IEEE student community at SRIMT\, building a strong base for future activ
 ities and growth within the institution&lt;/p&gt;\n&lt;/li&gt;\n&lt;/ol&gt;\n&lt;/div&gt;\n&lt;/div&gt;\
 n&lt;/div&gt;\n&lt;/div&gt;\n&lt;div class=&quot;mb-2 flex gap-3 empty:hidden -ml-2&quot;&gt;\n&lt;div cl
 ass=&quot;items-center justify-start rounded-xl p-1 flex&quot;&gt;&amp;nbsp\;&lt;/div&gt;\n&lt;/div&gt;
END:VEVENT
END:VCALENDAR

