BEGIN:VCALENDAR
VERSION:2.0
PRODID:IEEE vTools.Events//EN
CALSCALE:GREGORIAN
BEGIN:VTIMEZONE
TZID:Asia/Riyadh
BEGIN:DAYLIGHT
DTSTART:20380119T061407
TZOFFSETFROM:+0300
TZOFFSETTO:+0300
RRULE:FREQ=YEARLY;BYDAY=3TU;BYMONTH=1
TZNAME:+03
END:DAYLIGHT
BEGIN:STANDARD
DTSTART:19470313T235308
TZOFFSETFROM:+0306
TZOFFSETTO:+0300
RRULE:FREQ=YEARLY;BYDAY=2TH;BYMONTH=3
TZNAME:+03
END:STANDARD
END:VTIMEZONE
BEGIN:VEVENT
DTSTAMP:20241207T175739Z
UID:7A3EF0B6-39B4-43E3-9A42-9EBA2C32EEC3
DTSTART;TZID=Asia/Riyadh:20241012T100000
DTEND;TZID=Asia/Riyadh:20241012T140000
DESCRIPTION:On October 12 \, 2024\, the IEEE Student Branch at Philadelphia
  University hosted a grand IEEE Day celebration that attracted a large num
 ber of students and faculty members. The event featured 30 booths\, with p
 articipation from several notable companies and student organizations.\n\n
 Participating Companies:\n\n- Green Circle\n- Shai\n- Waslleh\n- Pioneers\
 n- AIESEC\n- Biomed Squad\n- Key IT\n- ACM PHU\n- Flora AI\n- AI Team TTU\
 n- Hospitality Companies: Boom Boom\, Kitko\, Bonjour Nai\n\nThese compani
 es and organizations showcased their work and provided valuable insights i
 nto their industries\, fostering networking opportunities and professional
  development for students.\n\nStudent Projects:\n\nIn addition to company 
 booths\, there were several booths displaying innovative projects from stu
 dents in the Engineering and IT departments. These projects highlighted th
 e students’ skills and creativity\, receiving admiration and feedback fr
 om both attendees and industry representatives.\n\nActivities:\n\nThe even
 t also featured interactive activities and discussions centered around the
  Computer Society and Robotics and Automation Society (RAS)\, aimed at eng
 aging students and introducing them to the benefits of IEEE membership and
  involvement in these societies.\n\nAttendance:\n\nThe event was a tremend
 ous success\, with a high turnout from university students and faculty mem
 bers\, reflecting the strong interest in technology\, innovation\, and col
 laboration fostered by the IEEE Student Branch.\n\nPhiladelphia University
 \, Amman\, Jordan\, Jordan
LOCATION:Philadelphia University\, Amman\, Jordan\, Jordan
ORGANIZER:moahta35@gmail.com
SEQUENCE:2
SUMMARY:IEEE DAY PHU 2024
URL;VALUE=URI:https://events.vtools.ieee.org/m/438729
X-ALT-DESC:Description: &lt;br /&gt;&lt;p&gt;On October 12 \, 2024\, the IEEE Student B
 ranch at Philadelphia University hosted a grand IEEE Day celebration that 
 attracted a large number of students and faculty members. The event featur
 ed&amp;nbsp\;&lt;strong&gt;30 booths&lt;/strong&gt;\, with participation from several nota
 ble companies and student organizations.&lt;/p&gt;\n&lt;h3&gt;&lt;strong&gt;Participating Co
 mpanies:&lt;/strong&gt;&lt;/h3&gt;\n&lt;ul&gt;\n&lt;li&gt;&lt;strong&gt;Green Circle&lt;/strong&gt;&lt;/li&gt;\n&lt;li&gt;
 &lt;strong&gt;Shai&lt;/strong&gt;&lt;/li&gt;\n&lt;li&gt;&lt;strong&gt;Waslleh&lt;/strong&gt;&lt;/li&gt;\n&lt;li&gt;&lt;strong
 &gt;Pioneers&lt;/strong&gt;&lt;/li&gt;\n&lt;li&gt;&lt;strong&gt;AIESEC&lt;/strong&gt;&lt;/li&gt;\n&lt;li&gt;&lt;strong&gt;Bio
 med Squad&lt;/strong&gt;&lt;/li&gt;\n&lt;li&gt;&lt;strong&gt;Key IT&lt;/strong&gt;&lt;/li&gt;\n&lt;li&gt;&lt;strong&gt;ACM
  PHU&lt;/strong&gt;&lt;/li&gt;\n&lt;li&gt;&lt;strong&gt;Flora AI&lt;/strong&gt;&lt;/li&gt;\n&lt;li&gt;&lt;strong&gt;AI Tea
 m TTU&lt;/strong&gt;&lt;/li&gt;\n&lt;li&gt;&lt;strong&gt;Hospitality Companies: Boom Boom\, Kitko\
 , Bonjour Nai&lt;/strong&gt;&lt;/li&gt;\n&lt;/ul&gt;\n&lt;p&gt;These companies and organizations s
 howcased their work and provided valuable insights into their industries\,
  fostering networking opportunities and professional development for stude
 nts.&lt;/p&gt;\n&lt;h3&gt;&lt;strong&gt;Student Projects:&lt;/strong&gt;&lt;/h3&gt;\n&lt;p&gt;In addition to c
 ompany booths\, there were several booths displaying innovative projects f
 rom students in the &lt;strong&gt;Engineering&lt;/strong&gt; and &lt;strong&gt;IT&lt;/strong&gt; d
 epartments. These projects highlighted the students&amp;rsquo\; skills and cre
 ativity\, receiving admiration and feedback from both attendees and indust
 ry representatives.&lt;/p&gt;\n&lt;h3&gt;&lt;strong&gt;Activities:&lt;/strong&gt;&lt;/h3&gt;\n&lt;p&gt;The eve
 nt also featured interactive activities and discussions centered around th
 e &lt;strong&gt;Computer Society&lt;/strong&gt; and &lt;strong&gt;Robotics and Automation So
 ciety (RAS)&lt;/strong&gt;\, aimed at engaging students and introducing them to 
 the benefits of IEEE membership and involvement in these societies.&lt;/p&gt;\n&lt;
 h3&gt;&lt;strong&gt;Attendance:&lt;/strong&gt;&lt;/h3&gt;\n&lt;p&gt;The event was a tremendous succes
 s\, with a high turnout from university students and faculty members\, ref
 lecting the strong interest in technology\, innovation\, and collaboration
  fostered by the IEEE Student Branch.&lt;/p&gt;
END:VEVENT
END:VCALENDAR

