BEGIN:VCALENDAR
VERSION:2.0
PRODID:IEEE vTools.Events//EN
CALSCALE:GREGORIAN
BEGIN:VTIMEZONE
TZID:Asia/Kolkata
BEGIN:STANDARD
DTSTART:19451014T230000
TZOFFSETFROM:+0630
TZOFFSETTO:+0530
TZNAME:IST
END:STANDARD
END:VTIMEZONE
BEGIN:VEVENT
DTSTAMP:20241009T185632Z
UID:1D65D6CD-2417-467A-BBBD-F8F43B892069
DTSTART;TZID=Asia/Kolkata:20240929T190000
DTEND;TZID=Asia/Kolkata:20240929T200000
DESCRIPTION:“BlendEd: Learning Beyond Boundaries with IEEE”\, an insigh
 tful virtual session hosted by the IEEE Student Branch ASIET as part of IE
 EE Day celebrations 2024\, was held on 29th September 2024. The event was 
 designed to introduce students to IEEE and its Blended Learning Program in
 itiative\, focusing on the courses offered through BLP and their impact.\n
 \nThe session was led by Mr Pramod Kumar P\, Senior Manager of Education a
 t IEEE\, who shared his expertise on the benefits of blended learning and 
 the various educational opportunities available through IEEE. During the s
 ession\, he provided a comprehensive overview of IEEE&#39;s Blended Learning P
 rogram. He discussed the relevance of blended learning in today’s fast-p
 aced world\, offering participants valuable insights into IEEE’s wide ra
 nge of learning resources and opportunities for continuous professional de
 velopment. The speaker also emphasized how IEEE’s education platforms ar
 e tailored to meet the needs of students and professionals in the technolo
 gy field.\n\nThe event concluded with an engaging Q&amp;A session where partic
 ipants raised queries about IEEE’s educational offerings and how they co
 uld leverage them for their academic and professional growth. Mr Pramod ad
 dressed each question\, leaving the attendees with a clear understanding o
 f the benefits of blended learning and the resources available through IEE
 E. The session was a successful part of IEEE SB ASIET’s ongoing efforts 
 to provide its members with valuable learning experiences beyond tradition
 al classroom boundaries.\n\nSpeaker(s): Pramod\, \n\nVirtual: https://even
 ts.vtools.ieee.org/m/438734
LOCATION:Virtual: https://events.vtools.ieee.org/m/438734
ORGANIZER:ieeesb@adishankara.ac.in
SEQUENCE:28
SUMMARY:BlendEd: Learning Beyond Boundaries with IEEE
URL;VALUE=URI:https://events.vtools.ieee.org/m/438734
X-ALT-DESC:Description: &lt;br /&gt;&lt;p dir=&quot;ltr&quot;&gt;&amp;ldquo\;BlendEd: Learning Beyond
  Boundaries with IEEE&amp;rdquo\;\, an insightful virtual session hosted by th
 e IEEE Student Branch ASIET as part of IEEE Day celebrations 2024\, was he
 ld on 29th September 2024. The event was designed to introduce students to
  IEEE and its Blended Learning Program initiative\, focusing on the course
 s offered through BLP and their impact.&lt;/p&gt;\n&lt;p&gt;&lt;strong&gt;&amp;nbsp\;&lt;/strong&gt;&lt;/
 p&gt;\n&lt;p dir=&quot;ltr&quot;&gt;The session was led by Mr Pramod Kumar P\, Senior Manager
  of Education at IEEE\, who shared his expertise on the benefits of blende
 d learning and the various educational opportunities available through IEE
 E. During the session\, he provided a comprehensive overview of IEEE&#39;s Ble
 nded Learning Program. He discussed the relevance of blended learning in t
 oday&amp;rsquo\;s fast-paced world\, offering participants valuable insights i
 nto IEEE&amp;rsquo\;s wide range of learning resources and opportunities for c
 ontinuous professional development. The speaker also emphasized how IEEE&amp;r
 squo\;s education platforms are tailored to meet the needs of students and
  professionals in the technology field.&lt;/p&gt;\n&lt;p&gt;&lt;strong&gt;&amp;nbsp\;&lt;/strong&gt;&lt;/
 p&gt;\n&lt;p dir=&quot;ltr&quot;&gt;The event concluded with an engaging Q&amp;amp\;A session whe
 re participants raised queries about IEEE&amp;rsquo\;s educational offerings a
 nd how they could leverage them for their academic and professional growth
 . Mr Pramod addressed each question\, leaving the attendees with a clear u
 nderstanding of the benefits of blended learning and the resources availab
 le through IEEE. The session was a successful part of IEEE SB ASIET&amp;rsquo\
 ;s ongoing efforts to provide its members with valuable learning experienc
 es beyond traditional classroom boundaries.&lt;/p&gt;\n&lt;p&gt;&amp;nbsp\;&lt;/p&gt;
END:VEVENT
END:VCALENDAR

