BEGIN:VCALENDAR
VERSION:2.0
PRODID:IEEE vTools.Events//EN
CALSCALE:GREGORIAN
BEGIN:VTIMEZONE
TZID:Asia/Kolkata
BEGIN:STANDARD
DTSTART:19451014T230000
TZOFFSETFROM:+0630
TZOFFSETTO:+0530
TZNAME:IST
END:STANDARD
END:VTIMEZONE
BEGIN:VEVENT
DTSTAMP:20241010T191338Z
UID:42E06187-1E37-44C2-8E06-E3E075AE20C0
DTSTART;TZID=Asia/Kolkata:20240929T090000
DTEND;TZID=Asia/Kolkata:20240929T170000
DESCRIPTION:IEEE RAS SBC NSSCE in collaboration with IEEE RAS Kerala Chapte
 r as a part of IEEE day 2024\ncelebration organized an event named Craftin
 g Worlds with Blender which is also a part of HYBROT 2.0\, an exclusive wo
 rkshop on the free\nand open-source 3D computer graphics software tool.\nT
 he session was led by Pranav P Prasanth\,a famous digital Artist who share
 s his knowledge about the\nworking of Blender software and the making of 3
 D graphics using this.He basically points out the\nimportance of this soft
 ware and how a person can make use of it in various kinds of projects. He 
 also\ndiscussed the range of advanced modeling that can be done using Blen
 der and about the wide range of\ntasks performed using this and allows one
  to create highly detailed and realistic 3D models.He explained\nin a simp
 le and understandable manner about all of the topics associated with this 
 software.\nAround 30 enthusiastic participants actively engaged in the wor
 kshop\, eager to gain valuable insights on\nthe topic. Each and every part
 icipant got an idea about the working of Blender and motivated to use it\n
 furthermore in the future.\nOverall\, the session was a great success\, in
 spiring students to explore the exciting and interesting world of Blender[
 ]\n\nPalakkad\, Kerala\, India
LOCATION:Palakkad\, Kerala\, India
ORGANIZER:ieeerassbcnssce@gmail.com
SEQUENCE:161
SUMMARY:HYBROT 2.0 : Crafting Worlds with Blender 
URL;VALUE=URI:https://events.vtools.ieee.org/m/438838
X-ALT-DESC:Description: &lt;br /&gt;&lt;p&gt;&amp;nbsp\;IEEE RAS SBC NSSCE in collaboration
  with IEEE RAS Kerala Chapter as a part of IEEE day 2024&amp;nbsp\;&lt;br&gt;&amp;nbsp\;
 celebration organized an event named Crafting Worlds with Blender which is
  also a part of HYBROT 2.0\, an exclusive workshop on the free&lt;br&gt;&amp;nbsp\;a
 nd open-source 3D computer graphics software tool.&lt;br&gt;&amp;nbsp\;The session w
 as led by Pranav P Prasanth\,a famous digital Artist who shares his knowle
 dge about the&lt;br&gt;&amp;nbsp\;working of Blender software and the making of 3D g
 raphics using this.He basically points out the&lt;br&gt;&amp;nbsp\;importance of thi
 s software and how a person can make use of it in various kinds of project
 s. He also&lt;br&gt;&amp;nbsp\;discussed the range of advanced modeling that can be 
 done using Blender and about the wide range of&lt;br&gt;&amp;nbsp\;tasks performed u
 sing this and allows one to create highly detailed and realistic 3D models
 .He explained&lt;br&gt;&amp;nbsp\;in a simple and understandable manner about all of
  the topics associated with this software.&lt;br&gt;&amp;nbsp\;Around 30 enthusiasti
 c participants actively engaged in the workshop\, eager to gain valuable i
 nsights on&lt;br&gt;&amp;nbsp\;the topic. Each and every participant got an idea abo
 ut the working of Blender and motivated to use it&lt;br&gt;&amp;nbsp\;furthermore in
  the future.&lt;br&gt;&amp;nbsp\;Overall\, the session was a great success\, inspiri
 ng students to explore the exciting and interesting world of&amp;nbsp\;Blender
 &lt;img src=&quot;https://events.vtools.ieee.org/vtools_ui/media/display/184088a7-
 290f-4e44-9b72-4828c80d8e4b&quot; alt=&quot;&quot; width=&quot;400&quot; height=&quot;240&quot;&gt;&lt;/p&gt;
END:VEVENT
END:VCALENDAR

