BEGIN:VCALENDAR
VERSION:2.0
PRODID:IEEE vTools.Events//EN
CALSCALE:GREGORIAN
BEGIN:VTIMEZONE
TZID:Asia/Kolkata
BEGIN:STANDARD
DTSTART:19451014T230000
TZOFFSETFROM:+0630
TZOFFSETTO:+0530
TZNAME:IST
END:STANDARD
END:VTIMEZONE
BEGIN:VEVENT
DTSTAMP:20241023T155840Z
UID:FBF323CE-AABB-4F56-97D3-E559DC632636
DTSTART;TZID=Asia/Kolkata:20241001T000000
DTEND;TZID=Asia/Kolkata:20241003T235900
DESCRIPTION:&quot;Design is intelligence made visible&quot;\n\n~ Alina Wheeler\n\nFor
  peeps who loves art and technology\, Let&#39;s bring them to life🪄\n\n[]\n
 \nAs part of IEEE Day&#39;24\, IEEE SIGHT SB VJCET presented a Digital Poster 
 Making Competition to scoop out the digital masters✨✨\n\nTheme: &quot;Quant
 um Computing: Unlocking New Possibilities for a Connected World&quot;\n\nFormat
 : A3 vertical posters (visual-focused\, concise content)\n\n🔗Submit in 
 : https://forms.gle/bk4baWfCXfpQvBDP7\n\n📌Deadline: 3/10/&#39;24\n\nAgenda:
  \n1. Enhances creativity by merging artistic skills with cutting-edge tec
 hnology concepts.\n\n2. Promotes awareness of quantum computing and its tr
 ansformative potential in modern society.\n\n3. Fosters innovation through
  the challenge of visually representing complex ideas in a simple format.\
 n\n4. Encourages interdisciplinary learning\, combining art\, technology\,
  and communication.\n\n5. Boosts digital design skills\, essential for tec
 h-driven industries.\n\n6. Provides recognition for participants\, offerin
 g a platform to showcase talent to a broader audience.\n\nVirtual: https:/
 /events.vtools.ieee.org/m/438852
LOCATION:Virtual: https://events.vtools.ieee.org/m/438852
ORGANIZER:ieeevjc@gmail.com
SEQUENCE:28
SUMMARY:QUANTUM COMPUTING : Digital Poster Competition 
URL;VALUE=URI:https://events.vtools.ieee.org/m/438852
X-ALT-DESC:Description: &lt;br /&gt;&lt;p&gt;&quot;Design is intelligence made visible&quot;&lt;/p&gt;\
 n&lt;p&gt;&amp;nbsp\; ~ Alina Wheeler&lt;/p&gt;\n&lt;p&gt;&amp;nbsp\;&lt;/p&gt;\n&lt;p&gt;For peeps&amp;nbsp\;who lo
 ves art and technology\, Let&#39;s bring them to life🪄&lt;/p&gt;\n&lt;p&gt;&lt;img src=&quot;ht
 tps://events.vtools.ieee.org/vtools_ui/media/display/837ce81b-7829-4476-b7
 be-a950bd037dda&quot; alt=&quot;&quot; width=&quot;500&quot; height=&quot;500&quot;&gt;&lt;/p&gt;\n&lt;p&gt;As part of IEEE 
 Day&#39;24\, &lt;strong&gt;IEEE SIGHT SB VJCET&lt;/strong&gt; presented a Digital Poster M
 aking Competition to scoop out the digital masters✨✨&lt;/p&gt;\n&lt;p&gt;&amp;nbsp\;&lt;/
 p&gt;\n&lt;p&gt;Theme: &quot;Quantum Computing: Unlocking New Possibilities for a Connec
 ted World&quot;&lt;/p&gt;\n&lt;p&gt;Format: A3 vertical posters (visual-focused\, concise c
 ontent)&lt;/p&gt;\n&lt;p&gt;&amp;nbsp\;&lt;/p&gt;\n&lt;p&gt;🔗Submit in : https://forms.gle/bk4baWfC
 XfpQvBDP7&lt;/p&gt;\n&lt;p&gt;&amp;nbsp\;&lt;/p&gt;\n&lt;p&gt;📌Deadline: 3/10/&#39;24&lt;/p&gt;&lt;br /&gt;&lt;br /&gt;Ag
 enda: &lt;br /&gt;&lt;p&gt;1. Enhances creativity by merging artistic skills with cutt
 ing-edge technology concepts.&lt;/p&gt;\n&lt;p&gt;2. Promotes awareness of quantum com
 puting and its transformative potential in modern society.&lt;/p&gt;\n&lt;p&gt;3. Fost
 ers innovation through the challenge of visually representing complex idea
 s in a simple format.&lt;/p&gt;\n&lt;p&gt;4. Encourages interdisciplinary learning\, c
 ombining art\, technology\, and communication.&lt;/p&gt;\n&lt;p&gt;5. Boosts digital d
 esign skills\, essential for tech-driven industries.&lt;/p&gt;\n&lt;p&gt;6. Provides r
 ecognition for participants\, offering a platform to showcase talent to a 
 broader audience.&lt;/p&gt;\n&lt;p&gt;&amp;nbsp\;&lt;/p&gt;
END:VEVENT
END:VCALENDAR

