BEGIN:VCALENDAR
VERSION:2.0
PRODID:IEEE vTools.Events//EN
CALSCALE:GREGORIAN
BEGIN:VTIMEZONE
TZID:Europe/Warsaw
BEGIN:DAYLIGHT
DTSTART:20250330T030000
TZOFFSETFROM:+0100
TZOFFSETTO:+0200
RRULE:FREQ=YEARLY;BYDAY=-1SU;BYMONTH=3
TZNAME:CEST
END:DAYLIGHT
BEGIN:STANDARD
DTSTART:20241027T020000
TZOFFSETFROM:+0200
TZOFFSETTO:+0100
RRULE:FREQ=YEARLY;BYDAY=-1SU;BYMONTH=10
TZNAME:CET
END:STANDARD
END:VTIMEZONE
BEGIN:VEVENT
DTSTAMP:20241128T204433Z
UID:D3B5DC54-58D2-4040-9C70-61799D7F071F
DTSTART;TZID=Europe/Warsaw:20241122T120000
DTEND;TZID=Europe/Warsaw:20241122T133000
DESCRIPTION:Remote lecture for the Polish Chapters: IEEE RAS\, IEEE CSS\n\n
 Speaker(s): Piotr Kicki\, \n\nVirtual: https://events.vtools.ieee.org/m/43
 8878
LOCATION:Virtual: https://events.vtools.ieee.org/m/438878
ORGANIZER:granosik@p.lodz.pl
SEQUENCE:40
SUMMARY:Piotr Kicki&#39;s lecture &quot;Robot learning with structural priors&quot;
URL;VALUE=URI:https://events.vtools.ieee.org/m/438878
X-ALT-DESC:Description: &lt;br /&gt;&lt;p&gt;Remote lecture for the Polish Chapters: IE
 EE RAS\, IEEE CSS&lt;/p&gt;
END:VEVENT
END:VCALENDAR

