BEGIN:VCALENDAR
VERSION:2.0
PRODID:IEEE vTools.Events//EN
CALSCALE:GREGORIAN
BEGIN:VTIMEZONE
TZID:Asia/Kolkata
BEGIN:STANDARD
DTSTART:19451014T230000
TZOFFSETFROM:+0630
TZOFFSETTO:+0530
TZNAME:IST
END:STANDARD
END:VTIMEZONE
BEGIN:VEVENT
DTSTAMP:20241010T163218Z
UID:8180C081-BA11-4550-AD9B-E1CCB1935ED9
DTSTART;TZID=Asia/Kolkata:20241007T100000
DTEND;TZID=Asia/Kolkata:20241007T110000
DESCRIPTION:Event Overview:\n\nThe IEEE Student Branch organized an excitin
 g &quot;Circuit Completion Game&quot; as part of IEEE Days 2024\, aiming to provide 
 hands-on experience in electronics. The event was structured as a competit
 ion\, challenging participants to complete a pre-designed circuit within a
  specified time. This activity was intended to blend learning and fun whil
 e testing the participants&#39; technical skills in electronics and circuit th
 eory.\n\nEvent Structure:\n\n- Introduction Session\n- A brief introductio
 n to circuit theory\, components\, and essential tools was given to ensure
  all participants had a foundational understanding.\n- Participants were b
 riefed on the rules and objectives of the game.\n\n- Circuit Completion Ch
 allenge\n- Each participant or team received a circuit diagram with missin
 g connections or components.\n- Participants were required to interpret th
 e circuit diagram and complete the connections accurately.\n- Tools\, brea
 dboards\, and necessary components were provided.\n\n- Time Constraint and
  Evaluation\n\n-\n- The challenge had a strict time limit\, increasing the
  excitement and urgency.\n- Judges evaluated the completed circuits based 
 on:\n- Accuracy of connections\n- Efficiency in component placement\n- Com
 pletion time\n\nResult Announcement and Prize Distribution\n\n-\n- Winners
  were announced based on accuracy and completion time.\n- Prizes were awar
 ded to the top teams to encourage and recognize their achievements.\nOutco
 mes and Highlights:\n\n- Engagement: The event saw active participation fr
 om engineering students\, creating a dynamic learning environment.\n- Skil
 l Development: Participants enhanced their practical skills in circuit ana
 lysis\, component identification\, and circuit assembly.\n- Networking: St
 udents from different departments had the opportunity to interact and coll
 aborate\, fostering teamwork and communication.\n- Feedback: Participants 
 reported a positive experience\, appreciating the practical exposure and t
 he opportunity to test their skills under real-time conditions.\n\nConclus
 ion:\n\nThe Circuit Completion Game was a successful event\, contributing 
 to the technical skill development of IEEE Student Branch members and othe
 r attendees. The event not only provided practical insights into circuit d
 esign but also encouraged collaboration and healthy competition among part
 icipants.\n\nRoom: Circuit Designing Lab\, Bldg: Dronacharya College of En
 gineering\, Khentawas\, Farrukhnagar\, Gurugram\, Haryana\, India\, 122506
LOCATION:Room: Circuit Designing Lab\, Bldg: Dronacharya College of Enginee
 ring\, Khentawas\, Farrukhnagar\, Gurugram\, Haryana\, India\, 122506
ORGANIZER:itsabishekjha@ieee.org
SEQUENCE:7
SUMMARY:ELECTRICAL CIRCUIT COMPLETION CHALLENGE
URL;VALUE=URI:https://events.vtools.ieee.org/m/438933
X-ALT-DESC:Description: &lt;br /&gt;&lt;p class=&quot;MsoNormal&quot;&gt;&lt;strong&gt;&lt;span lang=&quot;EN-I
 N&quot;&gt;Event Overview:&lt;/span&gt;&lt;/strong&gt;&lt;/p&gt;\n&lt;p class=&quot;MsoNormal&quot;&gt;&lt;span lang=&quot;E
 N-IN&quot;&gt;The IEEE Student Branch organized an exciting &quot;Circuit Completion Ga
 me&quot; as part of IEEE Days 2024\, aiming to provide hands-on experience in e
 lectronics. The event was structured as a competition\, challenging partic
 ipants to complete a pre-designed circuit within a specified time. This ac
 tivity was intended to blend learning and fun while testing the participan
 ts&#39; technical skills in electronics and circuit theory.&lt;/span&gt;&lt;/p&gt;\n&lt;p cla
 ss=&quot;MsoNormal&quot;&gt;&lt;strong&gt;&lt;span lang=&quot;EN-IN&quot;&gt;Event Structure:&lt;/span&gt;&lt;/strong&gt;
 &lt;/p&gt;\n&lt;ol&gt;\n&lt;li class=&quot;MsoNormal&quot; style=&quot;mso-list: l0 level1 lfo1\; tab-st
 ops: list .5in\;&quot;&gt;&lt;strong&gt;&lt;span lang=&quot;EN-IN&quot;&gt;Introduction Session&lt;/span&gt;&lt;/
 strong&gt;\n&lt;ul style=&quot;margin-top: 0in\;&quot; type=&quot;circle&quot;&gt;\n&lt;li class=&quot;MsoNorma
 l&quot; style=&quot;mso-list: l0 level2 lfo1\; tab-stops: list 1.0in\;&quot;&gt;&lt;span lang=&quot;
 EN-IN&quot;&gt;A brief introduction to circuit theory\, components\, and essential
  tools was given to ensure all participants had a foundational understandi
 ng.&lt;/span&gt;&lt;/li&gt;\n&lt;li class=&quot;MsoNormal&quot; style=&quot;mso-list: l0 level2 lfo1\; t
 ab-stops: list 1.0in\;&quot;&gt;&lt;span lang=&quot;EN-IN&quot;&gt;Participants were briefed on th
 e rules and objectives of the game.&lt;/span&gt;&lt;/li&gt;\n&lt;/ul&gt;\n&lt;/li&gt;\n&lt;li class=&quot;
 MsoNormal&quot; style=&quot;mso-list: l0 level1 lfo1\; tab-stops: list .5in\;&quot;&gt;&lt;stro
 ng&gt;&lt;span lang=&quot;EN-IN&quot;&gt;Circuit Completion Challenge&lt;/span&gt;&lt;/strong&gt;\n&lt;ol st
 yle=&quot;margin-top: 0in\;&quot; type=&quot;circle&quot;&gt;\n&lt;li class=&quot;MsoNormal&quot; style=&quot;mso-l
 ist: l0 level2 lfo1\; tab-stops: list 1.0in\;&quot;&gt;&lt;span lang=&quot;EN-IN&quot;&gt;Each par
 ticipant or team received a circuit diagram with missing connections or co
 mponents.&lt;/span&gt;&lt;/li&gt;\n&lt;li class=&quot;MsoNormal&quot; style=&quot;mso-list: l0 level2 lf
 o1\; tab-stops: list 1.0in\;&quot;&gt;&lt;span lang=&quot;EN-IN&quot;&gt;Participants were require
 d to interpret the circuit diagram and complete the connections accurately
 .&lt;/span&gt;&lt;/li&gt;\n&lt;li class=&quot;MsoNormal&quot; style=&quot;mso-list: l0 level2 lfo1\; tab
 -stops: list 1.0in\;&quot;&gt;&lt;span lang=&quot;EN-IN&quot;&gt;Tools\, breadboards\, and necessa
 ry components were provided.&lt;br&gt;&lt;br&gt;&lt;img src=&quot;https://events.vtools.ieee.o
 rg/vtools_ui/media/display/791c9324-2dcc-4832-8273-19f214aef5f1&quot; width=&quot;33
 3&quot; height=&quot;250&quot;&gt; &amp;nbsp\; &amp;nbsp\;&lt;img src=&quot;https://events.vtools.ieee.org/v
 tools_ui/media/display/26f3381c-e379-474a-aea1-55239f84b781&quot; width=&quot;333&quot; h
 eight=&quot;252&quot;&gt;&amp;nbsp\;&lt;/span&gt;&lt;span lang=&quot;EN-IN&quot;&gt;&lt;img src=&quot;https://events.vtoo
 ls.ieee.org/vtools_ui/media/display/a7d32229-b2b3-46cd-99e8-26fecd880c10&quot; 
 width=&quot;332&quot; height=&quot;241&quot;&gt;&lt;/span&gt;&lt;/li&gt;\n&lt;/ol&gt;\n&lt;/li&gt;\n&lt;li&gt;&lt;strong&gt;&lt;span lan
 g=&quot;EN-IN&quot;&gt;Time Constraint and Evaluation&lt;/span&gt;&lt;/strong&gt;&lt;/li&gt;\n&lt;/ol&gt;\n&lt;ul&gt;
 \n&lt;li style=&quot;list-style-type: none\;&quot;&gt;\n&lt;ul style=&quot;margin-top: 0in\;&quot; type
 =&quot;circle&quot;&gt;\n&lt;li class=&quot;MsoNormal&quot; style=&quot;mso-list: l0 level2 lfo1\; tab-st
 ops: list 1.0in\;&quot;&gt;&lt;span lang=&quot;EN-IN&quot;&gt;The challenge had a strict time limi
 t\, increasing the excitement and urgency.&lt;/span&gt;&lt;/li&gt;\n&lt;li class=&quot;MsoNorm
 al&quot; style=&quot;mso-list: l0 level2 lfo1\; tab-stops: list 1.0in\;&quot;&gt;&lt;span lang=
 &quot;EN-IN&quot;&gt;Judges evaluated the completed circuits based on:&lt;/span&gt;\n&lt;ul styl
 e=&quot;margin-top: 0in\;&quot; type=&quot;square&quot;&gt;\n&lt;li class=&quot;MsoNormal&quot; style=&quot;mso-lis
 t: l0 level3 lfo1\; tab-stops: list 1.5in\;&quot;&gt;&lt;span lang=&quot;EN-IN&quot;&gt;Accuracy o
 f connections&lt;/span&gt;&lt;/li&gt;\n&lt;li class=&quot;MsoNormal&quot; style=&quot;mso-list: l0 level
 3 lfo1\; tab-stops: list 1.5in\;&quot;&gt;&lt;span lang=&quot;EN-IN&quot;&gt;Efficiency in compone
 nt placement&lt;/span&gt;&lt;/li&gt;\n&lt;li class=&quot;MsoNormal&quot; style=&quot;mso-list: l0 level3
  lfo1\; tab-stops: list 1.5in\;&quot;&gt;&lt;span lang=&quot;EN-IN&quot;&gt;Completion time&lt;/span&gt;
 &lt;/li&gt;\n&lt;/ul&gt;\n&lt;/li&gt;\n&lt;/ul&gt;\n&lt;/li&gt;\n&lt;/ul&gt;\n&lt;p&gt;&lt;span lang=&quot;EN-IN&quot;&gt;&amp;nbsp\;&lt;/s
 pan&gt;&lt;strong&gt;&lt;span lang=&quot;EN-IN&quot;&gt;Result Announcement and Prize Distribution&lt;
 /span&gt;&lt;/strong&gt;&lt;/p&gt;\n&lt;ul&gt;\n&lt;li style=&quot;list-style-type: none\;&quot;&gt;\n&lt;ul style
 =&quot;margin-top: 0in\;&quot; type=&quot;circle&quot;&gt;\n&lt;li class=&quot;MsoNormal&quot; style=&quot;mso-list
 : l0 level2 lfo1\; tab-stops: list 1.0in\;&quot;&gt;&lt;span lang=&quot;EN-IN&quot;&gt;Winners wer
 e announced based on accuracy and completion time.&lt;/span&gt;&lt;/li&gt;\n&lt;li class=
 &quot;MsoNormal&quot; style=&quot;mso-list: l0 level2 lfo1\; tab-stops: list 1.0in\;&quot;&gt;&lt;sp
 an lang=&quot;EN-IN&quot;&gt;Prizes were awarded to the top teams to encourage and reco
 gnize their achievements.&lt;/span&gt;&lt;span lang=&quot;EN-IN&quot;&gt;&lt;img src=&quot;https://event
 s.vtools.ieee.org/vtools_ui/media/display/52c5de45-84fa-4eba-a56e-4bb5b069
 b2f3&quot; width=&quot;485&quot; height=&quot;349&quot;&gt;&lt;/span&gt;\n&lt;p class=&quot;MsoNormal&quot;&gt;&lt;strong&gt;&lt;span
  lang=&quot;EN-IN&quot;&gt;Outcomes and Highlights:&lt;/span&gt;&lt;/strong&gt;&lt;/p&gt;\n&lt;ul style=&quot;mar
 gin-top: 0in\;&quot; type=&quot;disc&quot;&gt;\n&lt;li class=&quot;MsoNormal&quot; style=&quot;mso-list: l0 le
 vel1 lfo1\; tab-stops: list .5in\;&quot;&gt;&lt;strong&gt;&lt;span lang=&quot;EN-IN&quot;&gt;Engagement:
 &lt;/span&gt;&lt;/strong&gt;&lt;span lang=&quot;EN-IN&quot;&gt; The event saw active participation fro
 m engineering students\, creating a dynamic learning environment.&lt;/span&gt;&lt;/
 li&gt;\n&lt;li class=&quot;MsoNormal&quot; style=&quot;mso-list: l0 level1 lfo1\; tab-stops: li
 st .5in\;&quot;&gt;&lt;strong&gt;&lt;span lang=&quot;EN-IN&quot;&gt;Skill Development:&lt;/span&gt;&lt;/strong&gt;&lt;s
 pan lang=&quot;EN-IN&quot;&gt; Participants enhanced their practical skills in circuit 
 analysis\, component identification\, and circuit assembly.&lt;/span&gt;&lt;/li&gt;\n&lt;
 li class=&quot;MsoNormal&quot; style=&quot;mso-list: l0 level1 lfo1\; tab-stops: list .5i
 n\;&quot;&gt;&lt;strong&gt;&lt;span lang=&quot;EN-IN&quot;&gt;Networking:&lt;/span&gt;&lt;/strong&gt;&lt;span lang=&quot;EN-
 IN&quot;&gt; Students from different departments had the opportunity to interact a
 nd collaborate\, fostering teamwork and communication.&lt;/span&gt;&lt;/li&gt;\n&lt;li cl
 ass=&quot;MsoNormal&quot; style=&quot;mso-list: l0 level1 lfo1\; tab-stops: list .5in\;&quot;&gt;
 &lt;strong&gt;&lt;span lang=&quot;EN-IN&quot;&gt;Feedback:&lt;/span&gt;&lt;/strong&gt;&lt;span lang=&quot;EN-IN&quot;&gt; Pa
 rticipants reported a positive experience\, appreciating the practical exp
 osure and the opportunity to test their skills under real-time conditions.
 &lt;/span&gt;&lt;/li&gt;\n&lt;/ul&gt;\n&lt;p class=&quot;MsoNormal&quot;&gt;&lt;strong&gt;&lt;span lang=&quot;EN-IN&quot;&gt;Concl
 usion:&lt;/span&gt;&lt;/strong&gt;&lt;/p&gt;\n&lt;p class=&quot;MsoNormal&quot;&gt;&lt;span lang=&quot;EN-IN&quot;&gt;The Ci
 rcuit Completion Game was a successful event\, contributing to the technic
 al skill development of IEEE Student Branch members and other attendees. T
 he event not only provided practical insights into circuit design but also
  encouraged collaboration and healthy competition among participants.&lt;/spa
 n&gt;&lt;/p&gt;\n&lt;/li&gt;\n&lt;/ul&gt;\n&lt;/li&gt;\n&lt;/ul&gt;
END:VEVENT
END:VCALENDAR

