BEGIN:VCALENDAR
VERSION:2.0
PRODID:IEEE vTools.Events//EN
CALSCALE:GREGORIAN
BEGIN:VTIMEZONE
TZID:Asia/Karachi
BEGIN:STANDARD
DTSTART:20091031T230000
TZOFFSETFROM:+0600
TZOFFSETTO:+0500
TZNAME:PKT
END:STANDARD
END:VTIMEZONE
BEGIN:VEVENT
DTSTAMP:20241010T164455Z
UID:AF7F9180-781E-4AED-9F70-90DE35C25A5C
DTSTART;TZID=Asia/Karachi:20241010T113000
DTEND;TZID=Asia/Karachi:20241010T120000
DESCRIPTION:The event started with a brief introduction of event\, then the
  Overview of IEEE SB and IEEE PES was discussed. This event also featured 
 a cake-cutting ceremony\, and recognition to our outstanding volunteers wi
 th the Volunteer Awards\, celebrating their hard work and dedication to\no
 ur community.\n\nAgenda: \nIEEE SB UET TAXILA arranged the ceremony of IEE
 E DAY 2024 on 10th October\, 2024 by inviting all its chapters i-e PES\, C
 T SOC\, WIE and their honorable advisors for the ccelebrations.\n\nTaxila\
 , Punjab\, Pakistan
LOCATION:Taxila\, Punjab\, Pakistan
ORGANIZER:khizarahmed@ieee.org
SEQUENCE:17
SUMMARY:IEEE DAY 2024
URL;VALUE=URI:https://events.vtools.ieee.org/m/438940
X-ALT-DESC:Description: &lt;br /&gt;&lt;p&gt;The event started with a brief introductio
 n of event\, then the Overview of IEEE SB and IEEE PES&amp;nbsp\;was discussed
 . This event also featured a cake-cutting ceremony\, and recognition to ou
 r&amp;nbsp\;outstanding volunteers with the Volunteer Awards\, celebrating the
 ir hard work and dedication to&lt;br&gt;our community.&lt;/p&gt;\n&lt;p&gt;&lt;img src=&quot;https:/
 /events.vtools.ieee.org/vtools_ui/media/display/04e494b6-26ff-411d-8a95-fb
 64b5b30cf8&quot; width=&quot;450&quot; height=&quot;510&quot;&gt;&lt;/p&gt;&lt;br /&gt;&lt;br /&gt;Agenda: &lt;br /&gt;&lt;p clas
 s=&quot;MsoNormal&quot; style=&quot;margin-left: 5.0pt\; tab-stops: 108.8pt 300.8pt 495.2
 pt\;&quot;&gt;&lt;strong style=&quot;mso-bidi-font-weight: normal\;&quot;&gt;&lt;span style=&quot;font-siz
 e: 12.0pt\; font-family: &#39;Arial&#39;\,&#39;sans-serif&#39;\;&quot;&gt;IEEE SB UET TAXILA&amp;nbsp\
 ;&lt;/span&gt;&lt;/strong&gt;&lt;span style=&quot;font-size: 12.0pt\; font-family: &#39;Arial&#39;\,&#39;s
 ans-serif&#39;\;&quot;&gt;arranged the ceremony of IEEE DAY 2024 on 10th October\, 202
 4 by inviting all its chapters i-e PES\, CT SOC\, WIE and their honorable 
 advisors for the ccelebrations.&lt;/span&gt;&lt;/p&gt;
END:VEVENT
END:VCALENDAR

