BEGIN:VCALENDAR
VERSION:2.0
PRODID:IEEE vTools.Events//EN
CALSCALE:GREGORIAN
BEGIN:VTIMEZONE
TZID:America/Los_Angeles
BEGIN:DAYLIGHT
DTSTART:20240310T030000
TZOFFSETFROM:-0800
TZOFFSETTO:-0700
RRULE:FREQ=YEARLY;BYDAY=2SU;BYMONTH=3
TZNAME:PDT
END:DAYLIGHT
BEGIN:STANDARD
DTSTART:20241103T010000
TZOFFSETFROM:-0700
TZOFFSETTO:-0800
RRULE:FREQ=YEARLY;BYDAY=1SU;BYMONTH=11
TZNAME:PST
END:STANDARD
END:VTIMEZONE
BEGIN:VEVENT
DTSTAMP:20241016T224601Z
UID:D2189438-2C3F-4B85-903D-76313E4EC316
DTSTART;TZID=America/Los_Angeles:20241014T180000
DTEND;TZID=America/Los_Angeles:20241014T200000
DESCRIPTION:Monday\, October 14\, 2024\n\nIEEE Consultants’ Network of Sa
 n Diego\n\nSan Diego Startup Week 2024 &amp; SD Startup Ecosystem\n\nSan Diego
  Startup Week is October 21-25. In anticipation\, we will have a technical
  startup enabler and a tech startup evangelist present at our October meet
 ing. Come learn how to navigate our local binational startup ecosystem and
  what to expect for SDSW2024\n\nhttps://startupsd.org/san-diego-startup-we
 ek/\n\nLocation:\nLeucadia Pizza UTC / La Jolla\n7748 Regents Rd\nSan Dieg
 o\, CA\nMenu: https://lajolla.leucadiapizza.com/la-jolla-san-diego-leucadi
 a-pizzeria-and-italian-restaurant-la-jolla-food-menu\n\nWe welcome newcome
 rs and old faces we haven’t seen in a while.\n\nCost:\nFree\, but you ar
 e responsible for your own food/drinks\n\nRSVP:\nRSVP is preferred.\n\nAre
  you on our [Linked-in group](https://www.linkedin.com/groups/2112928)?\n\
 nSpeaker(s): Enrique Monteagudo\, Ping Wang\n\nAgenda: \nSan Diego IEEE Co
 nsultants&#39; Network Meeting Date and Time:\n\n6:00-6:30 Networking\, Order 
 food/drinks\n6:30-6:45 &quot;Round Robin&quot; Intros\; Announcements\n6:45-7:30 Pre
 sentation\n7:30-8:00 Networking\; Close\n\nWe welcome newcomers and old fa
 ces we haven’t seen in a while.\n\nBldg: Leucadia Pizza UTC / La Jolla\,
  7748 Regents Rd\, San Diego\, Maryland\, United States
LOCATION:Bldg: Leucadia Pizza UTC / La Jolla\, 7748 Regents Rd\, San Diego\
 , Maryland\, United States
ORGANIZER:enriquem03@yahoo.com
SEQUENCE:23
SUMMARY:IEEE/CN - San Diego Startup Week 2024 &amp; SD Startup Ecosystem
URL;VALUE=URI:https://events.vtools.ieee.org/m/438997
X-ALT-DESC:Description: &lt;br /&gt;&lt;p class=&quot;MsoNormal&quot; style=&quot;text-align: cente
 r\;&quot; align=&quot;center&quot;&gt;&lt;strong style=&quot;mso-bidi-font-weight: normal\;&quot;&gt;&lt;span s
 tyle=&quot;font-size: 14.0pt\; font-family: &#39;Arial&#39;\,sans-serif\;&quot;&gt;Monday\,&lt;/sp
 an&gt;&lt;/strong&gt;&lt;strong&gt;&lt;span style=&quot;font-size: 14.0pt\; font-family: &#39;Arial&#39;\
 ,sans-serif\; font-weight: normal\; mso-bidi-font-weight: bold\;&quot;&gt; &lt;/span&gt;
 &lt;/strong&gt;&lt;strong&gt;&lt;span style=&quot;font-size: 14.0pt\; font-family: &#39;Arial&#39;\,sa
 ns-serif\;&quot;&gt;October 14\,&lt;/span&gt;&lt;/strong&gt;&lt;strong style=&quot;mso-bidi-font-weigh
 t: normal\;&quot;&gt;&lt;span style=&quot;font-size: 14.0pt\; font-family: &#39;Arial&#39;\,sans-s
 erif\;&quot;&gt; 2024&lt;/span&gt;&lt;/strong&gt;&lt;/p&gt;\n&lt;p class=&quot;MsoNormal&quot; style=&quot;text-align:
  center\;&quot; align=&quot;center&quot;&gt;&lt;strong style=&quot;mso-bidi-font-weight: normal\;&quot;&gt;&lt;
 span style=&quot;font-size: 14.0pt\; font-family: &#39;Arial&#39;\,sans-serif\;&quot;&gt;&amp;nbsp\
 ;&lt;/span&gt;&lt;/strong&gt;&lt;/p&gt;\n&lt;p class=&quot;MsoNormal&quot; style=&quot;text-align: center\;&quot; a
 lign=&quot;center&quot;&gt;&lt;strong style=&quot;mso-bidi-font-weight: normal\;&quot;&gt;&lt;span style=&quot;
 font-size: 14.0pt\; font-family: &#39;Arial&#39;\,sans-serif\;&quot;&gt;IEEE Consultants&amp;r
 squo\; Network of San Diego&lt;/span&gt;&lt;/strong&gt;&lt;/p&gt;\n&lt;p class=&quot;MsoNormal&quot; styl
 e=&quot;text-align: center\;&quot; align=&quot;center&quot;&gt;&lt;strong style=&quot;mso-bidi-font-weigh
 t: normal\;&quot;&gt;&lt;span style=&quot;font-size: 14.0pt\; font-family: &#39;Arial&#39;\,sans-s
 erif\;&quot;&gt;&amp;nbsp\;&lt;/span&gt;&lt;/strong&gt;&lt;/p&gt;\n&lt;p class=&quot;MsoNormal&quot; style=&quot;text-alig
 n: center\;&quot; align=&quot;center&quot;&gt;&lt;strong&gt;&lt;span style=&quot;font-size: 14.0pt\; font-
 family: &#39;Arial&#39;\,sans-serif\;&quot;&gt;San Diego Startup Week 2024 &amp;amp\; SD Start
 up Ecosystem&lt;/span&gt;&lt;/strong&gt;&lt;/p&gt;\n&lt;p class=&quot;MsoNormal&quot; style=&quot;text-align: 
 center\;&quot; align=&quot;center&quot;&gt;&lt;strong&gt;&lt;span style=&quot;font-size: 10.0pt\; font-fam
 ily: &#39;Arial&#39;\,sans-serif\;&quot;&gt;&amp;nbsp\;&lt;/span&gt;&lt;/strong&gt;&lt;/p&gt;\n&lt;p class=&quot;MsoNorm
 al&quot;&gt;&lt;span style=&quot;font-family: &#39;Arial&#39;\,sans-serif\;&quot;&gt;San Diego Startup Wee
 k is October 21-25. In anticipation\, we will have a technical startup ena
 bler and a tech startup evangelist present at our October meeting. Come le
 arn how to navigate our local binational startup ecosystem and what to exp
 ect for SDSW2024&lt;/span&gt;&lt;/p&gt;\n&lt;p class=&quot;MsoNormal&quot;&gt;&lt;a href=&quot;https://startup
 sd.org/san-diego-startup-week/&quot;&gt;&lt;span style=&quot;font-family: &#39;Arial&#39;\,sans-se
 rif\;&quot;&gt;https://startupsd.org/san-diego-startup-week/&lt;/span&gt;&lt;/a&gt;&lt;span style
 =&quot;font-size: 10.0pt\; font-family: &#39;Arial&#39;\,sans-serif\;&quot;&gt; &lt;br style=&quot;mso-
 special-character: line-break\;&quot;&gt;&lt;!-- [if !supportLineBreakNewLine]--&gt;&lt;br 
 style=&quot;mso-special-character: line-break\;&quot;&gt;&lt;!--[endif]--&gt;&lt;/span&gt;&lt;/p&gt;\n&lt;p 
 class=&quot;MsoNormal&quot;&gt;&lt;strong&gt;&lt;span style=&quot;font-family: &#39;Arial&#39;\,sans-serif\;&quot;
 &gt;&amp;nbsp\;&lt;/span&gt;&lt;/strong&gt;&lt;strong&gt;&lt;span style=&quot;font-size: 11.0pt\; line-heig
 ht: 150%\; font-family: &#39;Helvetica&#39;\,sans-serif\; color: black\;&quot;&gt;&amp;nbsp\;&lt;
 /span&gt;&lt;/strong&gt;&lt;/p&gt;\n&lt;p class=&quot;MsoNormal&quot; style=&quot;line-height: 150%\;&quot;&gt;&lt;str
 ong&gt;&lt;span style=&quot;font-size: 11.0pt\; line-height: 150%\; font-family: &#39;Hel
 vetica&#39;\,sans-serif\; color: black\;&quot;&gt;Location:&lt;/span&gt;&lt;/strong&gt;&lt;span style
 =&quot;font-size: 11.0pt\; line-height: 150%\; font-family: &#39;Helvetica&#39;\,sans-s
 erif\; color: black\;&quot;&gt;&amp;nbsp\; &lt;br&gt;&lt;/span&gt;&lt;strong&gt;&lt;span style=&quot;font-family
 : Roboto\; color: black\; background: #F6F7F8\;&quot;&gt;Leucadia Pizza UTC / La J
 olla&lt;/span&gt;&lt;/strong&gt;&lt;span style=&quot;font-family: Roboto\; color: black\;&quot;&gt;&lt;br
 &gt;&lt;span style=&quot;background: #F6F7F8\;&quot;&gt;7748 Regents Rd&lt;/span&gt;&lt;br&gt;&lt;span style
 =&quot;background: #F6F7F8\;&quot;&gt;San Diego\, CA&lt;/span&gt;&lt;br&gt;&lt;span style=&quot;background:
  #F6F7F8\;&quot;&gt;Menu: https:&lt;a href=&quot;//lajolla.leucadiapizza.com/la-jolla-san-
 diego-leucadia-pizzeria-and-italian-restaurant-la-jolla-food-menu&quot; target=
 &quot;_blank&quot; rel=&quot;noopener&quot;&gt;//lajolla.leucadiapizza.com/la-jolla-san-diego-leu
 cadia-pizzeria-and-italian-restaurant-la-jolla-food-menu&lt;/a&gt;&lt;/span&gt;&lt;/span&gt;
 &lt;/p&gt;\n&lt;p class=&quot;MsoNormal&quot; style=&quot;line-height: 150%\;&quot;&gt;&lt;span style=&quot;font-s
 ize: 11.0pt\; line-height: 150%\; font-family: &#39;Helvetica&#39;\,sans-serif\; c
 olor: black\;&quot;&gt;&amp;nbsp\;&lt;/span&gt;&lt;span style=&quot;font-size: 11.0pt\; font-family:
  &#39;Helvetica&#39;\,sans-serif\; color: black\;&quot;&gt;We welcome newcomers and old fa
 ces we haven&amp;rsquo\;t seen in a while.&lt;/span&gt;&lt;/p&gt;\n&lt;p class=&quot;MsoNormal&quot;&gt;&lt;s
 pan style=&quot;font-size: 11.0pt\; font-family: &#39;Helvetica&#39;\,sans-serif\; colo
 r: black\;&quot;&gt;&amp;nbsp\;&lt;/span&gt;&lt;span style=&quot;font-size: 11.0pt\; font-family: &#39;H
 elvetica&#39;\,sans-serif\; color: black\;&quot;&gt;&amp;nbsp\;&lt;/span&gt;&lt;strong&gt;&lt;span style=
 &quot;font-size: 11.0pt\; font-family: &#39;Helvetica&#39;\,sans-serif\; color: black\;
 &quot;&gt;Cost:&amp;nbsp\; &lt;/span&gt;&lt;/strong&gt;&lt;span style=&quot;font-size: 11.0pt\; font-famil
 y: &#39;Helvetica&#39;\,sans-serif\; color: black\;&quot;&gt;&lt;br&gt;&lt;/span&gt;&lt;span style=&quot;font-
 family: Roboto\; color: black\; background: #F6F7F8\;&quot;&gt;Free\, but you are 
 responsible for your own food/drinks&lt;/span&gt;&lt;/p&gt;\n&lt;p class=&quot;MsoNormal&quot;&gt;&lt;spa
 n style=&quot;font-size: 11.0pt\; font-family: &#39;Helvetica&#39;\,sans-serif\; color:
  black\;&quot;&gt;&amp;nbsp\;&lt;/span&gt;&lt;/p&gt;\n&lt;p class=&quot;MsoNormal&quot;&gt;&lt;strong&gt;&lt;span style=&quot;fo
 nt-size: 11.0pt\; font-family: &#39;Helvetica&#39;\,sans-serif\; color: black\;&quot;&gt;R
 SVP:&lt;/span&gt;&lt;/strong&gt;&lt;span style=&quot;font-size: 11.0pt\; font-family: &#39;Helveti
 ca&#39;\,sans-serif\; color: black\;&quot;&gt;&lt;br&gt;&lt;strong&gt;&lt;span style=&quot;font-family: &#39;H
 elvetica&#39;\,sans-serif\;&quot;&gt;&lt;span style=&quot;mso-spacerun: yes\;&quot;&gt;&amp;nbsp\;&amp;nbsp\;&amp;
 nbsp\;&amp;nbsp\;&amp;nbsp\;&amp;nbsp\;&amp;nbsp\; &lt;/span&gt;&lt;/span&gt;&lt;/strong&gt;&lt;/span&gt;&lt;span sty
 le=&quot;font-family: Roboto\; color: black\; background: #F6F7F8\;&quot;&gt;RSVP is pr
 eferred. &lt;/span&gt;&lt;span style=&quot;font-size: 11.0pt\; font-family: &#39;Helvetica&#39;\
 ,sans-serif\; color: black\;&quot;&gt;&lt;br style=&quot;mso-special-character: line-break
 \;&quot;&gt;&lt;!--[endif]--&gt;&lt;/span&gt;&lt;/p&gt;\n&lt;p class=&quot;MsoNormal&quot;&gt;&lt;strong&gt;&lt;span style=&quot;f
 ont-size: 11.0pt\; font-family: &#39;Helvetica&#39;\,sans-serif\; color: black\;&quot;&gt;
 Are you on our &lt;/span&gt;&lt;/strong&gt;&lt;a href=&quot;https://www.linkedin.com/groups/21
 12928&quot;&gt;&lt;span style=&quot;font-size: 11.0pt\; font-family: &#39;Helvetica&#39;\,sans-ser
 if\;&quot;&gt;Linked-in group&lt;/span&gt;&lt;/a&gt;&lt;strong&gt;&lt;span style=&quot;font-size: 11.0pt\; f
 ont-family: &#39;Helvetica&#39;\,sans-serif\; color: black\;&quot;&gt;?&lt;/span&gt;&lt;/strong&gt;&lt;sp
 an style=&quot;font-size: 11.0pt\; font-family: &#39;Helvetica&#39;\,sans-serif\; color
 : black\;&quot;&gt; &lt;/span&gt;&lt;/p&gt;&lt;br /&gt;&lt;br /&gt;Agenda: &lt;br /&gt;&lt;p class=&quot;MsoNormal&quot;&gt;&lt;str
 ong&gt;&lt;span style=&quot;font-size: 11.0pt\; font-family: &#39;Arial&#39;\,sans-serif\;&quot;&gt;S
 an Diego IEEE Consultants&#39; Network Meeting Date and Time:&lt;/span&gt;&lt;/strong&gt;&lt;
 /p&gt;\n&lt;p class=&quot;MsoNormal&quot;&gt;&lt;span style=&quot;font-size: 11.0pt\; font-family: &#39;A
 rial&#39;\,sans-serif\; color: black\; mso-color-alt: windowtext\; background:
  #F6F7F8\;&quot;&gt;6:00-6:30 Networking\, Order food/drinks&lt;br&gt;&lt;/span&gt;&lt;span style
 =&quot;font-size: 11.0pt\; font-family: &#39;Arial&#39;\,sans-serif\; color: black\; ms
 o-color-alt: windowtext\; background: #F6F7F8\;&quot;&gt;6:30-6:45 &quot;Round Robin&quot; I
 ntros\; Announcements&lt;br&gt;&lt;/span&gt;&lt;span style=&quot;font-size: 11.0pt\; font-fami
 ly: &#39;Arial&#39;\,sans-serif\; color: black\; mso-color-alt: windowtext\; backg
 round: #F6F7F8\;&quot;&gt;6:45-7:30 Presentation&lt;br&gt;&lt;/span&gt;&lt;span style=&quot;font-size:
  11.0pt\; font-family: &#39;Arial&#39;\,sans-serif\; color: black\; mso-color-alt:
  windowtext\; background: #F6F7F8\;&quot;&gt;7:30-8:00 Networking\; Close&lt;/span&gt;&lt;/
 p&gt;\n&lt;p class=&quot;MsoNormal&quot;&gt;&lt;span style=&quot;font-size: 11.0pt\; font-family: &#39;Ar
 ial&#39;\,sans-serif\;&quot;&gt;We welcome newcomers and old faces we haven&amp;rsquo\;t s
 een in a while.&lt;/span&gt;&lt;/p&gt;
END:VEVENT
END:VCALENDAR

