BEGIN:VCALENDAR
VERSION:2.0
PRODID:IEEE vTools.Events//EN
CALSCALE:GREGORIAN
BEGIN:VTIMEZONE
TZID:America/La_Paz
BEGIN:DAYLIGHT
DTSTART:20380118T231407
TZOFFSETFROM:-0400
TZOFFSETTO:-0400
RRULE:FREQ=YEARLY;BYDAY=3MO;BYMONTH=1
TZNAME:-04
END:DAYLIGHT
BEGIN:STANDARD
DTSTART:19320320T233236
TZOFFSETFROM:-0427
TZOFFSETTO:-0400
RRULE:FREQ=YEARLY;BYDAY=3SU;BYMONTH=3
TZNAME:-04
END:STANDARD
END:VTIMEZONE
BEGIN:VEVENT
DTSTAMP:20241011T031013Z
UID:0368A8EF-4DFC-4239-B55A-D5EC44964B86
DTSTART;TZID=America/La_Paz:20241008T190000
DTEND;TZID=America/La_Paz:20241015T220000
DESCRIPTION:¡Hoy celebramos el [#IEEEDay](https://www.facebook.com/hashtag
 /ieeeday?__eep__=6&amp;__cft__[0]=AZWjAl1cxyKtazsvdUbzK-wv3IK9pkvSsL_qMPZwdb-x
 8ot976O_hpZs73Js3--yca7h_-XH2wMJf6XKRkXHddgavgsRYfxN_2PtCpUYe4Q34I6oK7JMxF
 -AjctZj0ZLS54VhNHEPF5jXhQE40ID2BSaU6llwpkRqIQ5XX8yYT-BtuSZkdyO5INLcuk_7Ajg
 zYk&amp;__tn__=*NK-R)!\n\nDesde la directiva del IEEE Bolivia queremos agradec
 er a todos nuestros miembros por su pasión y dedicación. Juntos\, estamo
 s construyendo un futuro más brillante a través de la innovación tecnol
 ógica. ¡Feliz día a todos los ingenieros y entusiastas de la tecnologí
 a!\n\n[Puede ser una imagen de texto]\n\nPlaza triangular\, La paz\, La Pa
 z\, Bolivia
LOCATION:Plaza triangular\, La paz\, La Paz\, Bolivia
ORGANIZER:eliasch@ieee.org
SEQUENCE:11
SUMMARY:IEEE Day Bolivia Section
URL;VALUE=URI:https://events.vtools.ieee.org/m/439074
X-ALT-DESC:Description: &lt;br /&gt;&lt;div class=&quot;xdj266r x11i5rnm xat24cr x1mh8g0r
  x1vvkbs x126k92a&quot;&gt;\n&lt;div dir=&quot;auto&quot;&gt;&amp;iexcl\;Hoy celebramos el &lt;span class
 =&quot;html-span xdj266r x11i5rnm xat24cr x1mh8g0r xexx8yu x4uap5 x18d9i69 xkhd
 6sd x1hl2dhg x16tdsg8 x1vvkbs&quot;&gt;&lt;a class=&quot;x1i10hfl xjbqb8w x1ejq31n xd10rxx
  x1sy0etr x17r0tee x972fbf xcfux6l x1qhh985 xm0m39n x9f619 x1ypdohk xt0psk
 2 xe8uvvx xdj266r x11i5rnm xat24cr x1mh8g0r xexx8yu x4uap5 x18d9i69 xkhd6s
 d x16tdsg8 x1hl2dhg xggy1nq x1a2a7pz x1sur9pj xkrqix3 x1fey0fg x1s688f&quot; ta
 bindex=&quot;0&quot; role=&quot;link&quot; href=&quot;https://www.facebook.com/hashtag/ieeeday?__ee
 p__=6&amp;amp\;__cft__[0]=AZWjAl1cxyKtazsvdUbzK-wv3IK9pkvSsL_qMPZwdb-x8ot976O_
 hpZs73Js3--yca7h_-XH2wMJf6XKRkXHddgavgsRYfxN_2PtCpUYe4Q34I6oK7JMxF-AjctZj0
 ZLS54VhNHEPF5jXhQE40ID2BSaU6llwpkRqIQ5XX8yYT-BtuSZkdyO5INLcuk_7AjgzYk&amp;amp\
 ;__tn__=*NK-R&quot;&gt;#IEEEDay&lt;/a&gt;&lt;/span&gt;!&lt;/div&gt;\n&lt;/div&gt;\n&lt;div class=&quot;x11i5rnm xa
 t24cr x1mh8g0r x1vvkbs xtlvy1s x126k92a&quot;&gt;\n&lt;div dir=&quot;auto&quot;&gt;Desde la direct
 iva del IEEE Bolivia queremos agradecer a todos nuestros miembros por su p
 asi&amp;oacute\;n y dedicaci&amp;oacute\;n. Juntos\, estamos construyendo un futur
 o m&amp;aacute\;s brillante a trav&amp;eacute\;s de la innovaci&amp;oacute\;n tecnol&amp;o
 acute\;gica. &amp;iexcl\;Feliz d&amp;iacute\;a a todos los ingenieros y entusiasta
 s de la tecnolog&amp;iacute\;a!&lt;br&gt;&lt;br&gt;&lt;img src=&quot;https://scontent.flim41-1.fna
 .fbcdn.net/v/t39.30808-6/461862879_862369689368408_7916177367977755226_n.j
 pg?_nc_cat=109&amp;amp\;ccb=1-7&amp;amp\;_nc_sid=127cfc&amp;amp\;_nc_ohc=6wu3tklWQNwQ7
 kNvgEqRNBy&amp;amp\;_nc_ht=scontent.flim41-1.fna&amp;amp\;_nc_gid=AtxHBHsHUpyN2OLR
 kHLa5Af&amp;amp\;oh=00_AYCCHmwvUbAxCmvGH7O7JhI6b5E2rF3DowGZspWOEzidQg&amp;amp\;oe=
 670E5FBB&quot; alt=&quot;Puede ser una imagen de texto&quot;&gt;&lt;/div&gt;\n&lt;/div&gt;
END:VEVENT
END:VCALENDAR

