BEGIN:VCALENDAR
VERSION:2.0
PRODID:IEEE vTools.Events//EN
CALSCALE:GREGORIAN
BEGIN:VTIMEZONE
TZID:Asia/Kolkata
BEGIN:STANDARD
DTSTART:19451014T230000
TZOFFSETFROM:+0630
TZOFFSETTO:+0530
TZNAME:IST
END:STANDARD
END:VTIMEZONE
BEGIN:VEVENT
DTSTAMP:20241230T131821Z
UID:EB6F64F8-5028-4224-A397-893557DA5B74
DTSTART;TZID=Asia/Kolkata:20241009T093000
DTEND;TZID=Asia/Kolkata:20241010T123000
DESCRIPTION:IEEE celebrates the first time in history when engineers worldw
 ide gathered to share their technical ideas in 1884 as IEEE Day. While it 
 is celebrated on the 1st Tuesday of Oct every year\, institutions observe 
 the IEEE Day on a convenient day in the month of Oct depending on the loca
 l consideration.\n\nOne of the IEEE Day’s objectives is to show the ways
  IEEE members\, in local communities\, join together to collaborate on ide
 as that leverage technology for a better tomorrow.\n\nThe Computer Science
  &amp; Engineering Dept of St. Joseph Inst of Tech (SJIT)\, Chennai in associa
 tion with IEEE &amp; IEEE Computer Society Madras celebrated the 15th IEEE Day
  with a two day workshop on Idea Generation &amp; Project Expo.\n\nMr HR Mohan
 \, IEEE Ambassador\, Chair - Events &amp; Imm Past Chair\, IEEE Computer Socie
 ty Madras inaugurated the workshop on 9th Oct 2024. In his inaugural addre
 ss\, Mr Mohan said that in the VUCA world\, innovation is the key to survi
 ve and grow. To innovate\, Knowledge and collaboration &amp; networking is ess
 ential and IEEE\, through it&#39;s global presence provides an ecosystem for t
 he same. He highlighted how students can be benefitted from the various in
 itiatives of IEEE providing opportunities to engage in implementing techni
 cal projects for the benefit of humanity. He urged the student participant
 s to join both IEEE &amp; IEEE CS availing the special offer -- free membershi
 p in IEEE CS\, (available upto 12th Oct) &amp; extended membership period (upt
 o Dec 2025)\n\nDr Arivazhagan\, Principal\, SJIT\, in his presidential add
 ress emphasized the role of IEEE and added that SJIT is keen in making it&#39;
 s students innovators through workshop\, knowledge sharing &amp; hands-on sess
 ions.\n\nThe workshop attendees were of 1st &amp; 2nd year CSE students and ha
 ve submitted around 45 projects to demonstrate on the 2nd day of the works
 hop.\n\nThis event -- workshop &amp; project expo is coordinated by Dr Dafni R
 ose\, HoD/CSE\, SJIT and the IEEE CS Chapter Advisor with a dedicated team
  of IEEE /IEEE CS volunteers. Dr Sreekumar\, Dean\, SJIT graced the occasi
 on.\n\nBldg: AV Hall 1\, St. Joseph&#39;s Institute of Technology\, Chennai\, 
 Tamil Nadu\, India\, 600119
LOCATION:Bldg: AV Hall 1\, St. Joseph&#39;s Institute of Technology\, Chennai\,
  Tamil Nadu\, India\, 600119
ORGANIZER:binoj@stjosephstechnology.ac.in
SEQUENCE:9
SUMMARY:IEEE Day Celebration at SJIT
URL;VALUE=URI:https://events.vtools.ieee.org/m/439190
X-ALT-DESC:Description: &lt;br /&gt;&lt;p&gt;IEEE celebrates the first time in history 
 when engineers worldwide gathered to share their technical ideas in 1884 a
 s IEEE Day. While it is celebrated on the 1st Tuesday of Oct every year\, 
 institutions observe the IEEE Day on a convenient day in the month of Oct 
 depending on the local consideration.&lt;br&gt;&lt;br&gt;One of the IEEE Day&amp;rsquo\;s 
 objectives is to show the ways IEEE members\, in local communities\, join 
 together to collaborate on ideas that leverage technology for a better tom
 orrow. &lt;br&gt;&lt;br&gt;The Computer Science &amp;amp\; Engineering Dept of St. Joseph 
 Inst of Tech (SJIT)\, Chennai in association with IEEE &amp;amp\; IEEE Compute
 r Society Madras celebrated the 15th IEEE Day with a two day workshop on I
 dea Generation &amp;amp\; Project Expo.&lt;br&gt;&lt;br&gt;Mr HR Mohan\, IEEE Ambassador\,
  Chair - Events &amp;amp\; Imm Past Chair\, IEEE Computer Society Madras inaug
 urated the workshop on 9th Oct 2024. In his inaugural address\, Mr Mohan s
 aid that in the VUCA world\, innovation is the key to survive and grow. To
  innovate\, Knowledge and collaboration &amp;amp\; networking is essential and
  IEEE\, through it&#39;s global presence provides an ecosystem for the same. H
 e highlighted how students can be benefitted from the various initiatives 
 of IEEE providing opportunities to engage in implementing technical projec
 ts for the benefit of humanity. He urged the student participants to join 
 both IEEE &amp;amp\; IEEE CS availing the special offer -- free membership in 
 IEEE CS\, (available upto 12th Oct) &amp;amp\; extended membership period (upt
 o Dec 2025)&lt;br&gt;&lt;br&gt;Dr Arivazhagan\, Principal\, SJIT\, in his presidential
  address emphasized the role of IEEE and added that SJIT is keen in making
  it&#39;s students innovators through workshop\, knowledge sharing &amp;amp\; hand
 s-on sessions.&lt;br&gt;&lt;br&gt;The workshop attendees were of 1st &amp;amp\; 2nd year C
 SE students and have submitted around 45 projects to demonstrate on the 2n
 d day of the workshop.&lt;br&gt;&lt;br&gt;This event -- workshop &amp;amp\; project expo i
 s coordinated by Dr Dafni Rose\, HoD/CSE\, SJIT and the IEEE CS Chapter Ad
 visor with a dedicated team of IEEE /IEEE CS volunteers. Dr Sreekumar\, De
 an\, SJIT graced the occasion.&lt;/p&gt;
END:VEVENT
END:VCALENDAR

