BEGIN:VCALENDAR
VERSION:2.0
PRODID:IEEE vTools.Events//EN
CALSCALE:GREGORIAN
BEGIN:VTIMEZONE
TZID:Europe/Brussels
BEGIN:DAYLIGHT
DTSTART:20240331T030000
TZOFFSETFROM:+0100
TZOFFSETTO:+0200
RRULE:FREQ=YEARLY;BYDAY=-1SU;BYMONTH=3
TZNAME:CEST
END:DAYLIGHT
BEGIN:STANDARD
DTSTART:20241027T020000
TZOFFSETFROM:+0200
TZOFFSETTO:+0100
RRULE:FREQ=YEARLY;BYDAY=-1SU;BYMONTH=10
TZNAME:CET
END:STANDARD
END:VTIMEZONE
BEGIN:VEVENT
DTSTAMP:20241212T153200Z
UID:AAEBE8DC-46BB-4059-9B47-19D33A7701E0
DTSTART;TZID=Europe/Brussels:20241001T100000
DTEND;TZID=Europe/Brussels:20241001T120000
DESCRIPTION:Welcoming new students and introducing IEEE Branch and Chapters
  Leuven while having an engaging chat over some coffee\, chocolate milk an
 d cookies.\n\n[]\n\nKasteelpark Arenberg 10\, Leuven\, Vlaams Brabant\, Be
 lgium\, 3000
LOCATION:Kasteelpark Arenberg 10\, Leuven\, Vlaams Brabant\, Belgium\, 3000
ORGANIZER:info@ieee-sb-leuven.be
SEQUENCE:10
SUMMARY:Coffee and Cookies
URL;VALUE=URI:https://events.vtools.ieee.org/m/439238
X-ALT-DESC:Description: &lt;br /&gt;&lt;p&gt;Welcoming new students and introducing IEE
 E Branch and Chapters Leuven while having an engaging chat over some coffe
 e\, chocolate milk and cookies.&lt;/p&gt;\n&lt;p&gt;&lt;img src=&quot;https://events.vtools.ie
 ee.org/vtools_ui/media/display/2f7331f9-6778-483a-a009-3d4ecd29d0a9&quot; alt=&quot;
 &quot; width=&quot;953&quot; height=&quot;714&quot;&gt;&lt;/p&gt;
END:VEVENT
END:VCALENDAR

