BEGIN:VCALENDAR
VERSION:2.0
PRODID:IEEE vTools.Events//EN
CALSCALE:GREGORIAN
BEGIN:VTIMEZONE
TZID:Asia/Kolkata
BEGIN:STANDARD
DTSTART:19451014T230000
TZOFFSETFROM:+0630
TZOFFSETTO:+0530
TZNAME:IST
END:STANDARD
END:VTIMEZONE
BEGIN:VEVENT
DTSTAMP:20241119T055514Z
UID:C560837B-FBD3-47EB-9292-B4DDC674AE85
DTSTART;TZID=Asia/Kolkata:20241005T115900
DTEND;TZID=Asia/Kolkata:20241006T115900
DESCRIPTION:ENIGMA is coming up on October 5th\, and it&#39;s gonna be a blast!
  You can join solo if you&#39;re feeling like a one-person army or team up wit
 h a buddy for double the fun! \, you&#39;ll tackle 10+ cryptic questions rangi
 ng from easy to mind-bendingly difficult.\n\nDetails:\n\nWhat: IEEE IPEC&#39;s
  epic online treasure hunt!\nWhen: October 5th\, starting at 12 PM\nWho: O
 pen to all (bring a friend or go solo!)\nPrize: Sweet goodies for the winn
 ers\nGet your thinking caps on and don&#39;t miss out!\n\nVirtual: https://eve
 nts.vtools.ieee.org/m/439240
LOCATION:Virtual: https://events.vtools.ieee.org/m/439240
ORGANIZER:pantshantanu0@gmail.com
SEQUENCE:8
SUMMARY:IEEE DAY Celebration 2024- Enigma &#39;24
URL;VALUE=URI:https://events.vtools.ieee.org/m/439240
X-ALT-DESC:Description: &lt;br /&gt;&lt;p&gt;ENIGMA is coming up on October 5th\, and i
 t&#39;s gonna be a blast! You can join solo if you&#39;re feeling like a one-perso
 n army&amp;nbsp\; or team up with a buddy for double the fun! \, you&#39;ll tackle
  10+ cryptic questions ranging from easy to mind-bendingly difficult.&lt;/p&gt;\
 n&lt;p&gt;Details:&lt;/p&gt;\n&lt;p&gt;What: IEEE IPEC&#39;s epic online treasure hunt!&lt;br&gt;When:
  October 5th\, starting at 12 PM&lt;br&gt;Who: Open to all (bring a friend or go
  solo!)&lt;br&gt;Prize: Sweet goodies for the winners&amp;nbsp\;&lt;br&gt;Get your thinkin
 g caps on and don&#39;t miss out!&lt;/p&gt;
END:VEVENT
END:VCALENDAR

