BEGIN:VCALENDAR
VERSION:2.0
PRODID:IEEE vTools.Events//EN
CALSCALE:GREGORIAN
BEGIN:VTIMEZONE
TZID:Europe/London
BEGIN:DAYLIGHT
DTSTART:20240331T020000
TZOFFSETFROM:+0000
TZOFFSETTO:+0100
RRULE:FREQ=YEARLY;BYDAY=-1SU;BYMONTH=3
TZNAME:BST
END:DAYLIGHT
BEGIN:STANDARD
DTSTART:20241027T010000
TZOFFSETFROM:+0100
TZOFFSETTO:+0000
RRULE:FREQ=YEARLY;BYDAY=-1SU;BYMONTH=10
TZNAME:GMT
END:STANDARD
END:VTIMEZONE
BEGIN:VEVENT
DTSTAMP:20241011T202251Z
UID:C5633ED7-AAD3-4A0F-BD71-38F8788DE6DA
DTSTART;TZID=Europe/London:20241006T090000
DTEND;TZID=Europe/London:20241006T160000
DESCRIPTION:Celebrating IEEE Day at Villa K6 in Mnihla\, Ariana\, was an un
 forgettable experience! The collaboration between six student branches bro
 ught together a dynamic mix of creativity\, innovation\, and fun. The vill
 a’s beautiful setting\, nestled in the heart of nature\, gave us the per
 fect backdrop for a day of learning\, bonding\, and inspiration. We kicked
  things off with insightful tech talks\, where students shared groundbreak
 ing ideas and explored new trends in engineering. Between sessions\, we in
 dulged in delicious food and relaxed in the lush surroundings\, swapping s
 tories and meeting new friends.\n\nThe atmosphere was electric with excite
 ment as we participated in interactive workshops\, engaged in lively debat
 es\, and brainstormed new solutions for real-world challenges. Whether it 
 was discussing future collaborations or simply enjoying a moment of laught
 er\, the event highlighted the true spirit of IEEE – bringing people tog
 ether through technology and innovation. As the day came to a close\, we a
 ll felt energized and motivated\, knowing we had been part of something sp
 ecial\, celebrating the future of engineering with a talented\, passionate
  community!\n\nMnihla\, Ariana\, Tunisia
LOCATION:Mnihla\, Ariana\, Tunisia
ORGANIZER:ahmed.essouaied@ieee.org
SEQUENCE:9
SUMMARY:IEEE DAY CELEBRATION
URL;VALUE=URI:https://events.vtools.ieee.org/m/439292
X-ALT-DESC:Description: &lt;br /&gt;&lt;p&gt;Celebrating IEEE Day at Villa K6 in Mnihla
 \, Ariana\, was an unforgettable experience! The collaboration between six
  student branches brought together a dynamic mix of creativity\, innovatio
 n\, and fun. The villa&amp;rsquo\;s beautiful setting\, nestled in the heart o
 f nature\, gave us the perfect backdrop for a day of learning\, bonding\, 
 and inspiration. We kicked things off with insightful tech talks\, where s
 tudents shared groundbreaking ideas and explored new trends in engineering
 . Between sessions\, we indulged in delicious food and relaxed in the lush
  surroundings\, swapping stories and meeting new friends.&lt;/p&gt;\n&lt;p&gt;The atmo
 sphere was electric with excitement as we participated in interactive work
 shops\, engaged in lively debates\, and brainstormed new solutions for rea
 l-world challenges. Whether it was discussing future collaborations or sim
 ply enjoying a moment of laughter\, the event highlighted the true spirit 
 of IEEE &amp;ndash\; bringing people together through technology and innovatio
 n. As the day came to a close\, we all felt energized and motivated\, know
 ing we had been part of something special\, celebrating the future of engi
 neering with a talented\, passionate community!&lt;/p&gt;\n&lt;p&gt;&lt;img src=&quot;https://
 events.vtools.ieee.org/vtools_ui/media/display/488a3095-20ac-4fc1-ad49-f1a
 c008af212&quot; width=&quot;696&quot; height=&quot;464&quot;&gt;&lt;/p&gt;
END:VEVENT
END:VCALENDAR

