BEGIN:VCALENDAR
VERSION:2.0
PRODID:IEEE vTools.Events//EN
CALSCALE:GREGORIAN
BEGIN:VTIMEZONE
TZID:Africa/Casablanca
BEGIN:DAYLIGHT
DTSTART:20240414T030000
TZOFFSETFROM:+0000
TZOFFSETTO:+0100
RRULE:FREQ=YEARLY;BYDAY=2SU;BYMONTH=4
TZNAME:+01
END:DAYLIGHT
BEGIN:STANDARD
DTSTART:20250223T020000
TZOFFSETFROM:+0100
TZOFFSETTO:+0000
RRULE:FREQ=YEARLY;BYDAY=-1SU;BYMONTH=2
TZNAME:+00
END:STANDARD
END:VTIMEZONE
BEGIN:VEVENT
DTSTAMP:20241011T230636Z
UID:61C666C2-839E-48CC-961D-DE3D1EB8E0CC
DTSTART;TZID=Africa/Casablanca:20241006T150000
DTEND;TZID=Africa/Casablanca:20241006T180000
DESCRIPTION:On IEEE Day\, IEEE ISIMG Student Branch gathered in Chnini to c
 elebrate this special occasion and to warmly welcome our new members. The 
 event was organized in a relaxed and engaging environment where members\, 
 both new and returning\, participated in various games and activities. The
 se fun-filled moments provided an excellent opportunity for everyone to ge
 t to know each other\, fostering a sense of community and camaraderie with
 in the branch.\n\nThis year’s IEEE Day ambassador\, Badiss Belhadj\, pla
 yed a key role in ensuring the success of the event.\n\n[IEEE DAY PHOTO]\n
 \nChnini\, Gabes\, Gabes\, Tunisia
LOCATION:Chnini\, Gabes\, Gabes\, Tunisia
ORGANIZER:_anonimized_@_20250127_a8509ed2-29de-4b92-9dec-75fdf64e2dcf_.com
SEQUENCE:19
SUMMARY:IEEE Day
URL;VALUE=URI:https://events.vtools.ieee.org/m/439321
X-ALT-DESC:Description: &lt;br /&gt;&lt;p&gt;On&amp;nbsp\;&lt;strong&gt;IEEE Day&lt;/strong&gt;\,&amp;nbsp\
 ;&lt;strong&gt;IEEE ISIMG Student Branch&lt;/strong&gt;&amp;nbsp\;gathered in Chnini to ce
 lebrate this special occasion and to warmly welcome our new members. The e
 vent was organized in a relaxed and engaging environment where members\, b
 oth new and returning\, participated in various games and activities. Thes
 e fun-filled moments provided an excellent opportunity for everyone to get
  to know each other\, fostering a sense of community and camaraderie withi
 n the branch.&lt;/p&gt;\n&lt;p&gt;This year&amp;rsquo\;s IEEE Day ambassador\,&amp;nbsp\;&lt;stro
 ng&gt;Badiss Belhadj&lt;/strong&gt;\, played a key role in ensuring the success of 
 the event.&lt;/p&gt;\n&lt;p&gt;&lt;img src=&quot;https://events.vtools.ieee.org/vtools_ui/medi
 a/display/7a8e3d31-121a-4d39-81da-fedd10665c54&quot; alt=&quot;IEEE DAY PHOTO&quot; width
 =&quot;1095&quot; height=&quot;821&quot;&gt;&lt;/p&gt;\n&lt;p&gt;&amp;nbsp\;&lt;/p&gt;
END:VEVENT
END:VCALENDAR

