BEGIN:VCALENDAR
VERSION:2.0
PRODID:IEEE vTools.Events//EN
CALSCALE:GREGORIAN
BEGIN:VTIMEZONE
TZID:Asia/Kolkata
BEGIN:STANDARD
DTSTART:19451014T230000
TZOFFSETFROM:+0630
TZOFFSETTO:+0530
TZNAME:IST
END:STANDARD
END:VTIMEZONE
BEGIN:VEVENT
DTSTAMP:20241012T173444Z
UID:32818781-B649-49BA-BABD-22C2C7E4029B
DTSTART;TZID=Asia/Kolkata:20241004T190000
DTEND;TZID=Asia/Kolkata:20241004T210000
DESCRIPTION:[]\n\n&quot;The ideas of today creates the image of tomorrow&quot;. Are y
 ou a tech-savvy and a friend of nature? Do you want to get introduced to t
 he ideas that could spearhead the movement of technological advancements i
 n the pantheon of multitudes that could revolutionize the world and make i
 t a better place ? Do you want to discover the paths of sustainability and
  co-existence with nature ?\n\nWait no more\, as the IEEE DAY 2024 brings 
 to you \, Innovations Unveiled\, a poster presentation event by IEEE VSSUT
  Student Branch \, where the ideas get recognition and the creators get in
 spired\; an event where future shows the glimpse to the present world.\n\n
 TOPICS: 1) Climate change and its impact\n\n2) Advancement of technology f
 or a better future\n\nVirtual: https://events.vtools.ieee.org/m/439344
LOCATION:Virtual: https://events.vtools.ieee.org/m/439344
ORGANIZER:deviprasadpani@ieee.org
SEQUENCE:52
SUMMARY:POSTER PRESENTATION COMPETITION
URL;VALUE=URI:https://events.vtools.ieee.org/m/439344
X-ALT-DESC:Description: &lt;br /&gt;&lt;p&gt;&lt;img src=&quot;https://events.vtools.ieee.org/v
 tools_ui/media/display/e8eb851a-b2e9-429c-a23e-751a18869cae&quot; alt=&quot;&quot; width=
 &quot;411&quot; height=&quot;411&quot;&gt;&lt;/p&gt;\n&lt;p&gt;&quot;The ideas of today creates the image of tomor
 row&quot;. Are you a tech-savvy and a friend of nature? Do you want to get intr
 oduced to the ideas that could spearhead the movement of technological adv
 ancements&amp;nbsp\; in the pantheon of multitudes that could revolutionize th
 e world and make it a better place ? Do you want to discover the paths of 
 sustainability and co-existence with nature ?&lt;/p&gt;\n&lt;p&gt;Wait no more\, as th
 e IEEE DAY 2024 brings to you \,&lt;strong&gt; Innovations Unveiled\,&amp;nbsp\;&lt;/st
 rong&gt;a poster presentation event by IEEE VSSUT Student Branch \, where the
  ideas get recognition and the creators get inspired\; an event where futu
 re shows the glimpse to the present world.&amp;nbsp\;&lt;/p&gt;\n&lt;p&gt;TOPICS: 1) Clima
 te change and its impact&lt;/p&gt;\n&lt;p&gt;&amp;nbsp\; &amp;nbsp\; &amp;nbsp\; &amp;nbsp\; &amp;nbsp\; &amp;
 nbsp\; &amp;nbsp\;2) Advancement of technology for a better future&lt;/p&gt;
END:VEVENT
END:VCALENDAR

