BEGIN:VCALENDAR
VERSION:2.0
PRODID:IEEE vTools.Events//EN
CALSCALE:GREGORIAN
BEGIN:VTIMEZONE
TZID:Asia/Kolkata
BEGIN:STANDARD
DTSTART:19451014T230000
TZOFFSETFROM:+0630
TZOFFSETTO:+0530
TZNAME:IST
END:STANDARD
END:VTIMEZONE
BEGIN:VEVENT
DTSTAMP:20241227T095639Z
UID:682446CF-FFEC-417C-A6D7-3D068AA16101
DTSTART;TZID=Asia/Kolkata:20241007T090000
DTEND;TZID=Asia/Kolkata:20241007T120000
DESCRIPTION:The event is a two-round competition focused on robotics and au
 tomation. Round 1 features an online quiz to assess participants&#39; knowledg
 e of robotics\, automation\, and sensors\, shortlisting candidates for the
  next phase. Round 2 involves teams developing and presenting a hardware p
 rototype based on automation and sensors during a live event on IEEE DAY. 
 This competition promotes practical skills\, innovation\, and collaboratio
 n in tackling real-world challenges in robotics.\n\nROUND 1:\n\nThe event 
 begins with an online quiz designed to test participants&#39; basic knowledge 
 of robotics\, automation\, and sensor technologies. This quiz will assess 
 participants&#39; initial understanding and spark their interest in these fiel
 ds. Conducted in mentimeter on October 1 2024 from 7.00pm.All team leaders
  attended the quiz in mentimeter and other members are connected through G
 oogle meet. Totally 21 teams(63 members) registered for the event and amon
 g 21 teams\,14 teams(42 members) participated in round 1 and 13 teams are 
 shortlisted for round 2.\nNo of teams: 14\nParticipants: 42\n\nROUND 2:\nP
 articipants who perform well in the quiz will advance to Round 2. In this 
 phase\, shortlisted participants are required to develop a prototype hardw
 are based on a provided theme related to automation and sensors. Participa
 nts will work on creating and refining their prototypes prior to the event
  day. On IEEE DAY oct 7 2024\,participants brought their developed prototy
 pes for presentation and demonstration. Among 13 shortlisted teams for rou
 nd 2\,10 teams(30 members) were present and came with prototype. After the
  presentation of all teams\, the jury panel with scope members discussed a
 nd announce 3 teams(9 members) as winners.\n\nNo of teams: 10\nParticipant
 s: 30\n\nConclusion :\nThe &quot;Bot Vault&quot; competition concluded successfully\
 , starting with an engaging preliminary round that tested participants&#39; kn
 owledge in robotics and automation through a dynamic online quiz. This rou
 nd set the stage for the final phase\, where teams showcased their creativ
 ity and technical skills by presenting innovative prototypes focused on au
 tomation and sensors. Overall\, the event celebrated the participants&#39; ach
 ievements and fostered collaboration\, culminating in an inspiring experie
 nce on IEEE DAY.\n\nBldg: INCUBATION CENTER\, SAI LEO NAGAR\, POONTHANDALA
 M VILLAGE\, WEST TAMBARAM\, CHENNAI\, Tamil Nadu\, India\, 600044
LOCATION:Bldg: INCUBATION CENTER\, SAI LEO NAGAR\, POONTHANDALAM VILLAGE\, 
 WEST TAMBARAM\, CHENNAI\, Tamil Nadu\, India\, 600044
ORGANIZER:manikandan.ece@ieee.org
SEQUENCE:9
SUMMARY:BOT VAULT
URL;VALUE=URI:https://events.vtools.ieee.org/m/439531
X-ALT-DESC:Description: &lt;br /&gt;&lt;p&gt;The event is a two-round competition focus
 ed on robotics and automation. Round 1 features an online quiz to assess p
 articipants&#39; knowledge of robotics\, automation\, and sensors\, shortlisti
 ng candidates for the next phase. Round 2 involves teams developing and pr
 esenting a hardware prototype based on automation and sensors during a liv
 e event on IEEE DAY. This competition promotes practical skills\, innovati
 on\, and collaboration in tackling real-world challenges in robotics.&lt;/p&gt;\
 n&lt;p&gt;&amp;nbsp\;&lt;/p&gt;\n&lt;p&gt;ROUND 1:&lt;/p&gt;\n&lt;p&gt;&lt;br&gt;The event begins with an online q
 uiz designed to test participants&#39; basic knowledge of robotics\, automatio
 n\, and sensor technologies. This quiz will assess participants&#39; initial u
 nderstanding and spark their interest in these fields. Conducted in mentim
 eter on October 1 2024 from 7.00pm.All team leaders attended the quiz in m
 entimeter and other members are connected through Google meet. Totally 21 
 teams(63 members) registered for the event and among 21 teams\,14 teams(42
  members) participated in round 1 and 13 teams are shortlisted for round 2
 .&lt;br&gt;No of teams: 14&lt;br&gt;Participants: 42&lt;/p&gt;\n&lt;p&gt;ROUND 2:&lt;br&gt;Participants 
 who perform well in the quiz will advance to Round 2. In this phase\, shor
 tlisted participants are required to develop a prototype hardware based on
  a provided theme related to automation and sensors. Participants will wor
 k on creating and refining their prototypes prior to the event day. On IEE
 E DAY oct 7 2024\,participants brought their developed prototypes for pres
 entation and demonstration. Among 13 shortlisted teams for round 2\,10 tea
 ms(30 members) were present and came with prototype. After the presentatio
 n of all teams\, the jury panel with scope members discussed and announce 
 3 teams(9 members) as winners.&lt;/p&gt;\n&lt;p&gt;No of teams: 10&lt;br&gt;Participants: 30
 &lt;/p&gt;\n&lt;p&gt;&lt;br&gt;Conclusion :&lt;br&gt;The &quot;Bot Vault&quot; competition concluded success
 fully\, starting with an engaging preliminary round that tested participan
 ts&#39; knowledge in robotics and automation through a dynamic online quiz. Th
 is round set the stage for the final phase\, where teams showcased their c
 reativity and technical skills by presenting innovative prototypes focused
  on automation and sensors. Overall\, the event celebrated the participant
 s&#39; achievements and fostered collaboration\, culminating in an inspiring e
 xperience on IEEE DAY.&lt;/p&gt;
END:VEVENT
END:VCALENDAR

