BEGIN:VCALENDAR
VERSION:2.0
PRODID:IEEE vTools.Events//EN
CALSCALE:GREGORIAN
BEGIN:VTIMEZONE
TZID:Asia/Kolkata
BEGIN:STANDARD
DTSTART:19451014T230000
TZOFFSETFROM:+0630
TZOFFSETTO:+0530
TZNAME:IST
END:STANDARD
END:VTIMEZONE
BEGIN:VEVENT
DTSTAMP:20241014T170302Z
UID:B2391EC6-27D3-4134-858E-B54356326D5C
DTSTART;TZID=Asia/Kolkata:20241007T140000
DTEND;TZID=Asia/Kolkata:20241008T160000
DESCRIPTION:&quot;Creative Engineering: Freshers&#39; Art &amp; Innovation Fest\,&quot; hoste
 d by JCER IEEE SB was a dynamic event designed to help first-year engineer
 ing students build confidence\, interact with peers\, and explore their cr
 eative sides through engaging activities. The students collaborated with f
 ellow batchmates to create unique art pieces. These activities not only fo
 ster teamwork but also encourage innovative thinking and problem-solving i
 n a fun and supportive environment. An experienced artist or simply curiou
 s to explore your creative side\, this event aimed to engage the students 
 to learn new techniques and create everything from a collaborative mural t
 o innovative sculptures made from recycled materials. Showcase your work\,
  share ideas\, and connect with fellow students in an inspiring environmen
 t. JCER IEEE SB provided this unique opportunity to express the artistic t
 alents while enhancing your engineering skills.\n\nRoom: Dr A. P. J Abdul 
 Kalam Hall\, Bldg: 682/2\, 683/2A\, 682/2\, 683/2A\, Udyambag Angol Belaga
 vi \, Karnataka India 590006 \, Belagavi\, Karnataka\, India\, 590006
LOCATION:Room: Dr A. P. J Abdul Kalam Hall\, Bldg: 682/2\, 683/2A\, 682/2\,
  683/2A\, Udyambag Angol Belagavi \, Karnataka India 590006 \, Belagavi\, 
 Karnataka\, India\, 590006
ORGANIZER:yash.mane666@gmail.com
SEQUENCE:10
SUMMARY:Creative Engineering: Freshers&#39; Art &amp; Innovation Fest
URL;VALUE=URI:https://events.vtools.ieee.org/m/439571
X-ALT-DESC:Description: &lt;br /&gt;&lt;p&gt;&lt;strong&gt;&quot;Creative Engineering: Freshers&#39; A
 rt &amp;amp\; Innovation Fest\,&quot;&lt;/strong&gt; hosted by JCER IEEE SB was a dynamic
  event designed to help first-year engineering students build confidence\,
  interact with peers\, and explore their creative sides through engaging a
 ctivities. The students collaborated with fellow batchmates to create uniq
 ue art pieces. These activities not only foster teamwork but also encourag
 e innovative thinking and problem-solving in a fun and supportive environm
 ent. An experienced artist or simply curious to explore your creative side
 \, this event aimed&amp;nbsp\; to engage the students to learn new techniques 
 and create everything from a collaborative mural to innovative sculptures 
 made from recycled materials. Showcase your work\, share ideas\, and conne
 ct with fellow students in an inspiring environment. JCER IEEE SB provided
  this unique opportunity to express the artistic talents while enhancing y
 our engineering skills.&lt;/p&gt;
END:VEVENT
END:VCALENDAR

