BEGIN:VCALENDAR
VERSION:2.0
PRODID:IEEE vTools.Events//EN
CALSCALE:GREGORIAN
BEGIN:VTIMEZONE
TZID:Asia/Kolkata
BEGIN:STANDARD
DTSTART:19451014T230000
TZOFFSETFROM:+0630
TZOFFSETTO:+0530
TZNAME:IST
END:STANDARD
END:VTIMEZONE
BEGIN:VEVENT
DTSTAMP:20241012T173130Z
UID:C81EA5D4-E07E-4D14-A3A2-E068CE2B9081
DTSTART;TZID=Asia/Kolkata:20241011T150000
DTEND;TZID=Asia/Kolkata:20241011T160000
DESCRIPTION:Event name: IEEE Day Week Quiz Competition Date: October 11\, 2
 024 Mode of session: Offline Number of participants: 40 The IEEE RSCOE Stu
 dent Branch organized a quiz competition to commemorate IEEE Day Week. The
  primary objective of the quiz was to engage students with the history\, v
 alues\, and contributions of the IEEE organization while also testing thei
 r general knowledge. The quiz was conducted online using the Kahoot platfo
 rm. This interactive platform allowed for real-time participation and imme
 diate scoring. The questions were designed to challenge participants&#39; unde
 rstanding of IEEE&#39;s history\, its significance in the field of technology\
 , and their general knowledge. A significant number of students from the R
 SCOE SB participated in the quiz. The competition was fierce\, with partic
 ipants demonstrating their knowledge and enthusiasm. After a series of que
 stions\, Aniket Kashid emerged as the winner. The IEEE Day Week quiz prove
 d to be a successful event. It not only celebrated the contributions of IE
 EE but also provided a fun and engaging learning experience for the studen
 ts.\n\nBldg: A 411\, JSPM&#39;s RSCOE\, Pune\, Pune\, Maharashtra\, India\, 41
 1033
LOCATION:Bldg: A 411\, JSPM&#39;s RSCOE\, Pune\, Pune\, Maharashtra\, India\, 4
 11033
ORGANIZER:ieeerscoe@jspmrscoe.edu.in
SEQUENCE:0
SUMMARY:IEEE Day Week Quiz Competition
URL;VALUE=URI:https://events.vtools.ieee.org/m/439588
X-ALT-DESC:Description: &lt;br /&gt;&lt;p&gt;Event name: IEEE Day Week Quiz Competition
  Date: October 11\, 2024 Mode of session: Offline Number of participants: 
 40 The IEEE RSCOE Student Branch organized a quiz competition to commemora
 te IEEE Day Week. The primary objective of the quiz was to engage students
  with the history\, values\, and contributions of the IEEE organization wh
 ile also testing their general knowledge. The quiz was conducted online us
 ing the Kahoot platform. This interactive platform allowed for real-time p
 articipation and immediate scoring. The questions were designed to challen
 ge participants&#39; understanding of IEEE&#39;s history\, its significance in the
  field of technology\, and their general knowledge. A significant number o
 f students from the RSCOE SB participated in the quiz. The competition was
  fierce\, with participants demonstrating their knowledge and enthusiasm. 
 After a series of questions\, Aniket Kashid emerged as the winner. The IEE
 E Day Week quiz proved to be a successful event. It not only celebrated th
 e contributions of IEEE but also provided a fun and engaging learning expe
 rience for the students.&lt;/p&gt;
END:VEVENT
END:VCALENDAR

