BEGIN:VCALENDAR
VERSION:2.0
PRODID:IEEE vTools.Events//EN
CALSCALE:GREGORIAN
BEGIN:VTIMEZONE
TZID:Europe/Paris
BEGIN:DAYLIGHT
DTSTART:20240331T030000
TZOFFSETFROM:+0100
TZOFFSETTO:+0200
RRULE:FREQ=YEARLY;BYDAY=-1SU;BYMONTH=3
TZNAME:CEST
END:DAYLIGHT
BEGIN:STANDARD
DTSTART:20241027T020000
TZOFFSETFROM:+0200
TZOFFSETTO:+0100
RRULE:FREQ=YEARLY;BYDAY=-1SU;BYMONTH=10
TZNAME:CET
END:STANDARD
END:VTIMEZONE
BEGIN:VEVENT
DTSTAMP:20241012T210222Z
UID:20847CAA-F74D-49DC-8685-AD1D7120572F
DTSTART;TZID=Europe/Paris:20241003T100000
DTEND;TZID=Europe/Paris:20241004T003000
DESCRIPTION:On the second day of the IEEE Day celebration\, booths were set
  up for the IEEE Student Branch and its various subunits. Members actively
  engaged in conversations about IEEE at the local level\, sharing insights
  about the different chapters and their impact. It was a day focused on le
 arning\, interaction\, and showcasing the contributions of the IEEE commun
 ity\, fostering a deeper connection among members.\n\nMonastir 5000 Tunisi
 a\, monastir\, Monastir\, Tunisia\, 5000
LOCATION:Monastir 5000 Tunisia\, monastir\, Monastir\, Tunisia\, 5000
ORGANIZER:sb-isimm@ieee.org
SEQUENCE:47
SUMMARY:IEEE Day Celebration : Day 2
URL;VALUE=URI:https://events.vtools.ieee.org/m/439681
X-ALT-DESC:Description: &lt;br /&gt;&lt;p&gt;On the second day of the IEEE Day celebrat
 ion\, booths were set up for the IEEE Student Branch and its various subun
 its. Members actively engaged in conversations about IEEE at the local lev
 el\, sharing insights about the different chapters and their impact. It wa
 s a day focused on learning\, interaction\, and showcasing the contributio
 ns of the IEEE community\, fostering a deeper connection among members.&lt;/p
 &gt;\n&lt;p&gt;&amp;nbsp\;&lt;/p&gt;\n&lt;p&gt;&amp;nbsp\;&lt;/p&gt;
END:VEVENT
END:VCALENDAR

