BEGIN:VCALENDAR
VERSION:2.0
PRODID:IEEE vTools.Events//EN
CALSCALE:GREGORIAN
BEGIN:VTIMEZONE
TZID:Asia/Kolkata
BEGIN:STANDARD
DTSTART:19451014T230000
TZOFFSETFROM:+0630
TZOFFSETTO:+0530
TZNAME:IST
END:STANDARD
END:VTIMEZONE
BEGIN:VEVENT
DTSTAMP:20241023T113152Z
UID:A5202A89-8F1A-4BFE-B1DD-EB5E3B7BDAC7
DTSTART;TZID=Asia/Kolkata:20241010T190000
DTEND;TZID=Asia/Kolkata:20241020T190000
DESCRIPTION:IEEE MTT-S/AP-S/EMC-S Joint Chapter Hyderabad Section organises
  poster design competion as aprt of IEEE day celebration 2024.\n\nCreate a
  Captivating Visual that Celebrates Technologies &amp; Innovations with one of
  the themes:\n\n- Microwave Technologies for Sustainable Development\n- 75
  Glorious Years of Antennas &amp; Propagation Society (AP-S)\n- Role of EMC Te
 chniques in Creating Safe Working Environment\n\nSubmit your innovative po
 sters on one of the above themes and win attractive prizes.\n\n[]\n\nVirtu
 al: https://events.vtools.ieee.org/m/439999
LOCATION:Virtual: https://events.vtools.ieee.org/m/439999
ORGANIZER:pkmishra@ieee.org
SEQUENCE:21
SUMMARY:IEEE Day Celebration : Poster Design Competition
URL;VALUE=URI:https://events.vtools.ieee.org/m/439999
X-ALT-DESC:Description: &lt;br /&gt;&lt;p&gt;IEEE MTT-S/AP-S/EMC-S Joint Chapter Hydera
 bad Section organises poster design competion as aprt of IEEE day celebrat
 ion 2024.&amp;nbsp\;&lt;/p&gt;\n&lt;p class=&quot;cvGsUA direction-ltr align-center para-sty
 le-body&quot; style=&quot;color: rgb(0\, 151\, 178)\; font-family: &#39;YAFcfoaHu-s 0&#39;\,
  &#39;_fb_&#39;\, &#39;auto&#39;\; --cyv3zq: 55.7012px\; --gjplxq: 1.19\; text-transform: 
 none\; line-height: 66px\;&quot;&gt;&lt;span class=&quot;OYPEnA font-feature-liga-off font
 -feature-clig-off font-feature-calt-off text-decoration-none text-striketh
 rough-none&quot; style=&quot;color: rgb(3\, 78\, 123)\; font-weight: bold\; font-sty
 le: normal\; font-kerning: none\;&quot;&gt;Create a Captivating Visual that Celebr
 ates Technologies &amp;amp\; Innovations with one of the themes:&lt;/span&gt;&lt;span c
 lass=&quot;OYPEnA font-feature-liga-off font-feature-clig-off font-feature-calt
 -off text-decoration-none text-strikethrough-none white-space-prewrap&quot; sty
 le=&quot;color: rgb(3\, 78\, 123)\; font-weight: bold\; font-style: normal\; fo
 nt-kerning: none\;&quot;&gt; &lt;/span&gt;&lt;/p&gt;\n&lt;ul&gt;\n&lt;li&gt;&lt;span class=&quot;OYPEnA font-featu
 re-liga-off font-feature-clig-off font-feature-calt-off text-decoration-no
 ne text-strikethrough-none&quot; style=&quot;color: rgb(0\, 151\, 178)\; font-weight
 : bold\; font-style: normal\; font-kerning: none\;&quot;&gt;Microwave Technologies
  for Sustainable Development&lt;/span&gt;&lt;/li&gt;\n&lt;li&gt;&lt;span class=&quot;OYPEnA font-fea
 ture-liga-off font-feature-clig-off font-feature-calt-off text-decoration-
 none text-strikethrough-none&quot; style=&quot;color: rgb(0\, 151\, 178)\; font-weig
 ht: bold\; font-style: normal\; font-kerning: none\;&quot;&gt;75 Glorious Years of
  Antennas &amp;amp\; Propagation Society (AP-S)&lt;/span&gt;&lt;/li&gt;\n&lt;li&gt;&lt;span class=&quot;
 OYPEnA font-feature-liga-off font-feature-clig-off font-feature-calt-off t
 ext-decoration-none text-strikethrough-none&quot; style=&quot;color: rgb(0\, 151\, 1
 78)\; font-weight: bold\; font-style: normal\; font-kerning: none\;&quot;&gt;Role 
 of EMC Techniques in Creating Safe Working Environment&lt;/span&gt;&lt;/li&gt;\n&lt;/ul&gt;\
 n&lt;p&gt;&lt;span class=&quot;OYPEnA font-feature-liga-off font-feature-clig-off font-f
 eature-calt-off text-decoration-none text-strikethrough-none&quot; style=&quot;color
 : rgb(0\, 151\, 178)\; font-weight: bold\; font-style: normal\; font-kerni
 ng: none\;&quot;&gt;Submit your innovative posters on one of the above themes and 
 win attractive prizes.&lt;/span&gt;&lt;/p&gt;\n&lt;p&gt;&amp;nbsp\;&lt;/p&gt;\n&lt;p&gt;&lt;span class=&quot;OYPEnA 
 font-feature-liga-off font-feature-clig-off font-feature-calt-off text-dec
 oration-none text-strikethrough-none&quot; style=&quot;color: rgb(0\, 151\, 178)\; f
 ont-weight: bold\; font-style: normal\; font-kerning: none\;&quot;&gt;&lt;img src=&quot;ht
 tps://events.vtools.ieee.org/vtools_ui/media/display/5c1cb43b-e387-42ba-ad
 0c-057c1f6c67a8&quot; alt=&quot;&quot; width=&quot;1000&quot; height=&quot;2245&quot;&gt;&lt;br&gt;&lt;/span&gt;&lt;/p&gt;
END:VEVENT
END:VCALENDAR

