BEGIN:VCALENDAR
VERSION:2.0
PRODID:IEEE vTools.Events//EN
CALSCALE:GREGORIAN
BEGIN:VTIMEZONE
TZID:Asia/Kolkata
BEGIN:STANDARD
DTSTART:19451014T230000
TZOFFSETFROM:+0630
TZOFFSETTO:+0530
TZNAME:IST
END:STANDARD
END:VTIMEZONE
BEGIN:VEVENT
DTSTAMP:20241015T171927Z
UID:6A474FB6-FEA9-4D8B-A579-28BE73DD08D0
DTSTART;TZID=Asia/Kolkata:20241012T113000
DTEND;TZID=Asia/Kolkata:20241012T123000
DESCRIPTION:Join us on October 12 at 11:30 AM for an exciting virtual works
 hop introducing 3D modeling 🎨\, organized by PSIT IEEE Aryabhat and SIG
 HT IEEE\, featuring M. Saud Siddiqui as the speaker. This beginner-friendl
 y workshop will cover the basics of 3D modeling using Blender\, Unity\, an
 d Unreal Engine 🎮. Whether you&#39;re new to 3D design or looking to enhanc
 e your skills\, this event is perfect for you! If interested\, you can joi
 n the WhatsApp group 👉 https://chat.whatsapp.com/D22nJ2VtayR76t8STdnkwk
 .\n\nSpeaker(s): M. Saud Siddiqui\, \n\nVirtual: https://events.vtools.iee
 e.org/m/440319
LOCATION:Virtual: https://events.vtools.ieee.org/m/440319
ORGANIZER:ieeepsit@gmail.com
SEQUENCE:21
SUMMARY:Introduction to 3D Modeling
URL;VALUE=URI:https://events.vtools.ieee.org/m/440319
X-ALT-DESC:Description: &lt;br /&gt;&lt;p&gt;Join us on October 12 at 11:30 AM for an e
 xciting virtual workshop introducing 3D modeling 🎨\, organized by PSIT 
 IEEE Aryabhat and SIGHT IEEE\, featuring M. Saud Siddiqui as the speaker. 
 This beginner-friendly workshop will cover the basics of 3D modeling using
  Blender\, Unity\, and Unreal Engine 🎮. Whether you&#39;re new to 3D design
  or looking to enhance your skills\, this event is perfect for you! If int
 erested\, you can join the WhatsApp group 👉 https://chat.whatsapp.com/D
 22nJ2VtayR76t8STdnkwk.&lt;/p&gt;\n&lt;p&gt;&amp;nbsp\;&lt;/p&gt;\n&lt;p&gt;&lt;img src=&quot;https://events.vt
 ools.ieee.org/vtools_ui/media/display/3cbb1341-4e39-4b58-96b8-406d3c815de3
 &quot;&gt;&lt;/p&gt;
END:VEVENT
END:VCALENDAR

