BEGIN:VCALENDAR
VERSION:2.0
PRODID:IEEE vTools.Events//EN
CALSCALE:GREGORIAN
BEGIN:VTIMEZONE
TZID:Asia/Kolkata
BEGIN:STANDARD
DTSTART:19451014T230000
TZOFFSETFROM:+0630
TZOFFSETTO:+0530
TZNAME:IST
END:STANDARD
END:VTIMEZONE
BEGIN:VEVENT
DTSTAMP:20241015T181418Z
UID:9AA04799-2A14-4CDF-A796-577034C3BF93
DTSTART;TZID=Asia/Kolkata:20240928T150000
DTEND;TZID=Asia/Kolkata:20240928T160000
DESCRIPTION:The WIE IEEE General Body Meeting\, held on 28th September 2024
  at Dhyan Kaksh\, focused on event planning and leadership development. Th
 e session began with a welcome from the WIE Chairperson and Secretary\, se
 tting the stage for discussions on two key events: the Elocution Competiti
 on and Tech Mavens 2.0.\n\nDetailed plans for the Elocution Competition\, 
 scheduled for 30th September\, were discussed\, with tasks assigned for pr
 omotion and execution. The meeting also provided an in-depth briefing on T
 ech Mavens 2.0\, set for 1st October\, featuring challenges like code debu
 gging\, fact-checking\, navigating Wikipedia\, and identifying movie quote
 s. Second-year students were encouraged to contribute by preparing questio
 ns and taking on technical roles in organizing the event.\n\nA major focus
  of the meeting was encouraging leadership and responsibility among second
 -year students. They were invited to take on both technical and managerial
  roles\, with guidance on role selection based on personal strengths and c
 areer aspirations. The introduction of mentorship programs further support
 ed students in transitioning into leadership positions for future events.\
 n\nIn conclusion\, the meeting was productive\, with clear roles assigned 
 and active participation from students. Preparations for the upcoming even
 ts are progressing smoothly\, fostering leadership and skill-building with
 in the IEEE community at JUIT.\n\nBldg: Dhyan Kaksh\, Jaypee University Of
  Information Technology\, Waknaghat\, Solan\, Himachal Pradesh\, India\, 1
 73234
LOCATION:Bldg: Dhyan Kaksh\, Jaypee University Of Information Technology\, 
 Waknaghat\, Solan\, Himachal Pradesh\, India\, 173234
ORGANIZER:wieieee@juitsolan.in
SEQUENCE:5
SUMMARY:WIE General Body Meeting
URL;VALUE=URI:https://events.vtools.ieee.org/m/440334
X-ALT-DESC:Description: &lt;br /&gt;&lt;p&gt;The WIE IEEE General Body Meeting\, held o
 n &lt;strong&gt;28th September 2024&lt;/strong&gt; at &lt;strong&gt;Dhyan Kaksh&lt;/strong&gt;\, f
 ocused on event planning and leadership development. The session began wit
 h a welcome from the WIE Chairperson and Secretary\, setting the stage for
  discussions on two key events: the Elocution Competition and Tech Mavens 
 2.0.&amp;nbsp\;&lt;/p&gt;\n&lt;p&gt;&lt;img src=&quot;https://events.vtools.ieee.org/vtools_ui/med
 ia/display/250950e5-e6e7-4aa1-bdd0-a2d83a0437cb&quot; width=&quot;789&quot; height=&quot;592&quot;&gt;
 &lt;/p&gt;\n&lt;p&gt;Detailed plans for the Elocution Competition\, scheduled for 30th
  September\, were discussed\, with tasks assigned for promotion and execut
 ion. The meeting also provided an in-depth briefing on Tech Mavens 2.0\, s
 et for 1st October\, featuring challenges like code debugging\, fact-check
 ing\, navigating Wikipedia\, and identifying movie quotes. Second-year stu
 dents were encouraged to contribute by preparing questions and taking on t
 echnical roles in organizing the event.&lt;/p&gt;\n&lt;p&gt;A major focus of the meeti
 ng was encouraging leadership and responsibility among second-year student
 s. They were invited to take on both technical and managerial roles\, with
  guidance on role selection based on personal strengths and career aspirat
 ions. The introduction of mentorship programs further supported students i
 n transitioning into leadership positions for future events.&lt;/p&gt;\n&lt;p&gt;In co
 nclusion\, the meeting was productive\, with clear roles assigned and acti
 ve participation from students. Preparations for the upcoming events are p
 rogressing smoothly\, fostering leadership and skill-building within the I
 EEE community at JUIT.&lt;/p&gt;
END:VEVENT
END:VCALENDAR

