BEGIN:VCALENDAR
VERSION:2.0
PRODID:IEEE vTools.Events//EN
CALSCALE:GREGORIAN
BEGIN:VTIMEZONE
TZID:Africa/Nairobi
BEGIN:STANDARD
DTSTART:19420801T001500
TZOFFSETFROM:+0245
TZOFFSETTO:+0300
TZNAME:EAT
END:STANDARD
END:VTIMEZONE
BEGIN:VEVENT
DTSTAMP:20241019T064253Z
UID:E9409B16-C4BF-4327-9D86-5EC39810D157
DTSTART;TZID=Africa/Nairobi:20241017T200000
DTEND;TZID=Africa/Nairobi:20241017T210000
DESCRIPTION:Discussion of the challenges facing power systems\, emerging te
 chnologies in power systems and foreign interference in Power Systems mana
 gements in Kenya and how as a country we could step up to promote better i
 nnovations\n\nSpeaker(s): Mr. Daniel Gombe\, \n\nVirtual: https://events.v
 tools.ieee.org/m/440369
LOCATION:Virtual: https://events.vtools.ieee.org/m/440369
ORGANIZER:ieeepesmmuksbc@gmail.com
SEQUENCE:1
SUMMARY:Power systems webinar series
URL;VALUE=URI:https://events.vtools.ieee.org/m/440369
X-ALT-DESC:Description: &lt;br /&gt;&lt;p&gt;Discussion of the challenges facing power 
 systems\, emerging technologies in power systems and foreign interference 
 in Power Systems managements in Kenya and how as a country we could step u
 p to promote better innovations&lt;/p&gt;
END:VEVENT
END:VCALENDAR

