BEGIN:VCALENDAR
VERSION:2.0
PRODID:IEEE vTools.Events//EN
CALSCALE:GREGORIAN
BEGIN:VTIMEZONE
TZID:Pacific/Honolulu
BEGIN:STANDARD
DTSTART:19470608T023000
TZOFFSETFROM:-1130
TZOFFSETTO:-1000
TZNAME:HST
END:STANDARD
END:VTIMEZONE
BEGIN:VEVENT
DTSTAMP:20241221T023248Z
UID:5073C6B5-FA16-4A7A-B03A-45B01E9BF73F
DTSTART;TZID=Pacific/Honolulu:20241217T180000
DTEND;TZID=Pacific/Honolulu:20241217T190000
DESCRIPTION:Are you familiar with SWEBOK v4.0 (The Guide to the Software En
 gineering Body of Knowledge)?\n\nDid you attend any of the webinars introd
 ucing SWEBOK v4.0?\nThe info on the webinars is copied below.\n\nLet&#39;s dis
 cuss this new document.\n\n- How many of these practices are useful in Haw
 aii?\n- Are there topics you would like to discuss more or invite a speake
 r?\n- Is this document useful when mentoring young engineers?\n\neugene.ch
 ang@ieee.org\n\nAgenda: \n[Click here to see a web copy of this email](htt
 ps://email.computer.org/lt.php?x=3DZy~GDHInKh758v__PKhOhu263WuQQkj-hlkKI6J
 XPL550syky.0OJy2XRzitDuj_YwbHfGJnig)\n\n[SWEBOK banner]\n\nFrom Membership
 .email@computer.org\n\nI’m thrilled to announce the release of the Guide
  to the Software Engineering Body of Knowledge v4.0 (SWEBOK).\n\nFor over 
 20 years\, SWEBOK has been a trusted resource\, helping software engineers
  navigate core knowledge and skills needed in the industry. With version 4
 .0\, SWEBOK has evolved to reflect the latest software engineering practic
 es.\n\n[DOWNLOAD SWEBOK v4.0 (PDF)](https://email.computer.org/lt.php?x=3D
 Zy~GDHInKh758v__PKhOhu263WuQQkj-hlkKI6JXPL550syky.0OJy2XRzitDuj_YwbHfGJnih
 )\n\nKey highlights of SWEBOK v4.0:\n\n-\nThree new knowledge areas (KA) h
 ave been added: software architecture\, software security\, and software e
 ngineering operations.\n\n-\nExisting KAs have been updated with modern pr
 actices\, including Agile and DevOps.\n\n-\nEmerging technologies like AI\
 , machine learning\, and IoT are now incorporated across KAs.\n\n-\nThe gu
 ide has been restructured to improve clarity and usability\, making it mor
 e practical for day-to-day application.\n\nSWEBOK v4.0 is not just a guide
 —it’s a comprehensive reference for aligning your skills with the most
  current practices to advance your career in software engineering.\n\n[Reg
 ister for an upcoming webinar](https://email.computer.org/lt.php?x=3DZy~GD
 HInKh758v__PKhOhu263WuQQkj-hlkKI6JXPL550syky.0OJy2XRzitDuj_YwbHfGJnii) to 
 learn about what’s new in version 4.0. Please also refer to the [flyer a
 bout the webinar and view the past video](https://email.computer.org/lt.ph
 p?x=3DZy~GDHInKh758v__PKhOhu263WuQQkj-hlkKI6JXPL550syky.0OJy2XRzitDuj_YwbH
 fGJnmZ)recordings and materials.\n\n-\n23 October\, 2:00 PM - 4:00 PM UTC 
 / 11:00 PM~01:00 AM JST\n\n-\n27 November\, 1:00 AM- 3:00 AM UTC / 10:00 A
 M~12:00 PM JST\n\n-\n9 December\, 2:00 PM - 4:00 PM UTC / 11:00 PM~01:00 A
 M JST\n\nSincerely\,\n\nHironori Washizaki\n\nIEEE Computer Society 2024 P
 resident-Elect\, 2025 President\n\n[]\n\nVirtual: https://events.vtools.ie
 ee.org/m/440385
LOCATION:Virtual: https://events.vtools.ieee.org/m/440385
ORGANIZER:eugene.chang@ieee.org
SEQUENCE:7
SUMMARY:Is SWEBOK v4.0 relevant in Hawaii?
URL;VALUE=URI:https://events.vtools.ieee.org/m/440385
X-ALT-DESC:Description: &lt;br /&gt;&lt;p&gt;Are you familiar with SWEBOK v4.0 (The Gui
 de to the Software Engineering Body of Knowledge)?&lt;/p&gt;\n&lt;p&gt;Did you attend 
 any of the webinars introducing SWEBOK v4.0?&lt;br&gt;The info on the webinars i
 s copied below.&lt;/p&gt;\n&lt;p&gt;Let&#39;s discuss this new document.&lt;/p&gt;\n&lt;ul&gt;\n&lt;li&gt;Ho
 w many of these practices are useful in Hawaii?&lt;/li&gt;\n&lt;li&gt;Are there topics
  you would like to discuss more or invite a speaker?&lt;/li&gt;\n&lt;li&gt;Is this doc
 ument useful when mentoring young engineers?&lt;/li&gt;\n&lt;/ul&gt;\n&lt;p&gt;&amp;nbsp\;&lt;/p&gt;\n
 &lt;p&gt;eugene.chang@ieee.org&lt;/p&gt;&lt;br /&gt;&lt;br /&gt;Agenda: &lt;br /&gt;&lt;p&gt;&amp;nbsp\;&lt;/p&gt;\n&lt;tab
 le class=&quot;es-wrapper&quot; role=&quot;none&quot; width=&quot;100%&quot; cellspacing=&quot;0&quot; cellpadding
 =&quot;0&quot;&gt;\n&lt;tbody&gt;\n&lt;tr&gt;\n&lt;td valign=&quot;top&quot;&gt;\n&lt;table class=&quot;es-content&quot; role=&quot;n
 one&quot; cellspacing=&quot;0&quot; cellpadding=&quot;0&quot; align=&quot;center&quot;&gt;\n&lt;tbody&gt;\n&lt;tr&gt;\n&lt;td a
 lign=&quot;center&quot;&gt;\n&lt;table class=&quot;es-content-body&quot; role=&quot;none&quot; cellspacing=&quot;0&quot;
  cellpadding=&quot;0&quot; align=&quot;center&quot;&gt;\n&lt;tbody&gt;\n&lt;tr&gt;\n&lt;td align=&quot;left&quot;&gt;\n&lt;table
  class=&quot;es-left&quot; role=&quot;none&quot; cellspacing=&quot;0&quot; cellpadding=&quot;0&quot; align=&quot;left&quot;&gt;
 \n&lt;tbody&gt;\n&lt;tr&gt;\n&lt;td align=&quot;left&quot;&gt;\n&lt;table role=&quot;presentation&quot; width=&quot;100%
 &quot; cellspacing=&quot;0&quot; cellpadding=&quot;0&quot;&gt;\n&lt;tbody&gt;\n&lt;tr&gt;\n&lt;td align=&quot;center&quot;&gt;\n&lt;p
 &gt;&lt;a href=&quot;https://email.computer.org/lt.php?x=3DZy~GDHInKh758v__PKhOhu263W
 uQQkj-hlkKI6JXPL550syky.0OJy2XRzitDuj_YwbHfGJnig&quot; target=&quot;_blank&quot; rel=&quot;noo
 pener&quot;&gt;Click here to see a web copy of this email&lt;/a&gt;&lt;/p&gt;\n&lt;/td&gt;\n&lt;/tr&gt;\n&lt;
 /tbody&gt;\n&lt;/table&gt;\n&lt;/td&gt;\n&lt;/tr&gt;\n&lt;/tbody&gt;\n&lt;/table&gt;\n&lt;table class=&quot;es-righ
 t&quot; role=&quot;none&quot; cellspacing=&quot;0&quot; cellpadding=&quot;0&quot; align=&quot;right&quot;&gt;\n&lt;tbody&gt;\n&lt;t
 r&gt;\n&lt;td align=&quot;left&quot;&gt;\n&lt;table style=&quot;height: 24px\; width: 500%\;&quot; role=&quot;p
 resentation&quot; width=&quot;5&quot; cellspacing=&quot;0&quot; cellpadding=&quot;0&quot;&gt;\n&lt;tbody&gt;\n&lt;tr&gt;\n&lt;t
 d style=&quot;width: 100%\;&quot; align=&quot;center&quot;&gt;&amp;nbsp\;&lt;/td&gt;\n&lt;/tr&gt;\n&lt;/tbody&gt;\n&lt;/ta
 ble&gt;\n&lt;/td&gt;\n&lt;/tr&gt;\n&lt;/tbody&gt;\n&lt;/table&gt;\n&lt;/td&gt;\n&lt;/tr&gt;\n&lt;tr&gt;\n&lt;td align=&quot;lef
 t&quot;&gt;\n&lt;table role=&quot;none&quot; width=&quot;100%&quot; cellspacing=&quot;0&quot; cellpadding=&quot;0&quot;&gt;\n&lt;tb
 ody&gt;\n&lt;tr&gt;\n&lt;td align=&quot;center&quot; valign=&quot;top&quot;&gt;\n&lt;table role=&quot;presentation&quot; w
 idth=&quot;100%&quot; cellspacing=&quot;0&quot; cellpadding=&quot;0&quot;&gt;\n&lt;tbody&gt;\n&lt;tr class=&quot;es-mobil
 e-hidden&quot;&gt;\n&lt;td align=&quot;center&quot;&gt;&lt;img class=&quot;adapt-img&quot; title=&quot;SWEBOK banner
 &quot; src=&quot;https://content.app-us1.com/cdn-cgi/image/width=650\,dpr=2\,fit=sca
 le-down\,format=auto\,onerror=redirect/WjweQ/2024/10/14/af27ffaf-8996-4f4d
 -9ee9-652d46c7e0a3.png&quot; alt=&quot;SWEBOK banner&quot; width=&quot;650&quot; data-cf-ir-is-resi
 zed=&quot;true&quot;&gt;&lt;/td&gt;\n&lt;/tr&gt;\n&lt;/tbody&gt;\n&lt;/table&gt;\n&lt;/td&gt;\n&lt;/tr&gt;\n&lt;/tbody&gt;\n&lt;/tab
 le&gt;\n&lt;/td&gt;\n&lt;/tr&gt;\n&lt;tr&gt;\n&lt;td align=&quot;left&quot; bgcolor=&quot;#ffffff&quot;&gt;\n&lt;table role=
 &quot;none&quot; width=&quot;100%&quot; cellspacing=&quot;0&quot; cellpadding=&quot;0&quot;&gt;\n&lt;tbody&gt;\n&lt;tr&gt;\n&lt;td a
 lign=&quot;center&quot; valign=&quot;top&quot;&gt;\n&lt;table role=&quot;presentation&quot; width=&quot;100%&quot; cells
 pacing=&quot;0&quot; cellpadding=&quot;0&quot;&gt;\n&lt;tbody&gt;\n&lt;tr&gt;\n&lt;td align=&quot;left&quot;&gt;\n&lt;p&gt;From Mem
 bership.email@computer.org&lt;/p&gt;\n&lt;p&gt;&amp;nbsp\;&lt;/p&gt;\n&lt;p&gt;I&amp;rsquo\;m thrilled to 
 announce the release of the &lt;em&gt;Guide to the Software Engineering Body of 
 Knowledge v4.0&lt;/em&gt; (SWEBOK).&lt;/p&gt;\n&lt;p&gt;&amp;nbsp\;&lt;/p&gt;\n&lt;p&gt;For over 20 years\, 
 SWEBOK has been a trusted resource\, helping software engineers navigate c
 ore knowledge and skills needed in the industry. With version 4.0\, SWEBOK
  has evolved to reflect the latest software engineering practices.&amp;nbsp\;&lt;
 /p&gt;\n&lt;/td&gt;\n&lt;/tr&gt;\n&lt;tr&gt;\n&lt;td class=&quot;es-m-txt-c es-m-p0b&quot; align=&quot;center&quot;&gt;&lt;s
 pan class=&quot;msohide es-button-border&quot;&gt;&lt;a class=&quot;es-button es-button-1690394
 236090&quot; href=&quot;https://email.computer.org/lt.php?x=3DZy~GDHInKh758v__PKhOhu
 263WuQQkj-hlkKI6JXPL550syky.0OJy2XRzitDuj_YwbHfGJnih&quot; target=&quot;_blank&quot; rel=
 &quot;noopener&quot;&gt;DOWNLOAD SWEBOK v4.0 (PDF)&lt;/a&gt;&lt;/span&gt;&lt;/td&gt;\n&lt;/tr&gt;\n&lt;tr&gt;\n&lt;td al
 ign=&quot;left&quot;&gt;\n&lt;p&gt;Key highlights of SWEBOK v4.0:&lt;/p&gt;\n&lt;ul&gt;\n&lt;li&gt;\n&lt;p&gt;Three n
 ew knowledge areas (KA) have been added: software architecture\, software 
 security\, and software engineering operations.&amp;nbsp\;&lt;/p&gt;\n&lt;/li&gt;\n&lt;li&gt;\n&lt;
 p&gt;Existing KAs have been updated with modern practices\, including Agile a
 nd DevOps.&lt;/p&gt;\n&lt;/li&gt;\n&lt;li&gt;\n&lt;p&gt;Emerging technologies like AI\, machine le
 arning\, and IoT are now incorporated across KAs.&amp;nbsp\;&lt;/p&gt;\n&lt;/li&gt;\n&lt;li&gt;\
 n&lt;p&gt;The guide has been restructured to improve clarity and usability\, mak
 ing it more practical for day-to-day application.&lt;/p&gt;\n&lt;/li&gt;\n&lt;/ul&gt;\n&lt;p&gt;SW
 EBOK v4.0 is not just a guide&amp;mdash\;it&amp;rsquo\;s a comprehensive reference
  for aligning your skills with the most current practices to advance your 
 career in software engineering.&lt;/p&gt;\n&lt;p&gt;&amp;nbsp\;&lt;/p&gt;\n&lt;p&gt;&lt;a href=&quot;https://e
 mail.computer.org/lt.php?x=3DZy~GDHInKh758v__PKhOhu263WuQQkj-hlkKI6JXPL550
 syky.0OJy2XRzitDuj_YwbHfGJnii&quot; target=&quot;_blank&quot; rel=&quot;noopener&quot;&gt;Register for
  an upcoming webinar&lt;/a&gt; to learn about what&amp;rsquo\;s new in version 4.0. 
 Please also refer to the &lt;a href=&quot;https://email.computer.org/lt.php?x=3DZy
 ~GDHInKh758v__PKhOhu263WuQQkj-hlkKI6JXPL550syky.0OJy2XRzitDuj_YwbHfGJnmZ&quot; 
 target=&quot;_blank&quot; rel=&quot;noopener&quot;&gt;flyer about the webinar and view the past v
 ideo&lt;/a&gt;recordings and materials.&lt;/p&gt;\n&lt;ul&gt;\n&lt;li&gt;\n&lt;p&gt;23 October\, 2:00 PM
  - 4:00 PM UTC / 11:00 PM~01:00 AM JST&lt;/p&gt;\n&lt;/li&gt;\n&lt;li&gt;\n&lt;p&gt;27 November\, 
 1:00 AM- 3:00 AM UTC / 10:00 AM~12:00 PM JST&lt;/p&gt;\n&lt;/li&gt;\n&lt;li&gt;\n&lt;p&gt;9 Decemb
 er\, 2:00 PM - 4:00 PM UTC / 11:00 PM~01:00 AM JST&lt;/p&gt;\n&lt;/li&gt;\n&lt;/ul&gt;\n&lt;p&gt;S
 incerely\,&amp;nbsp\;&lt;/p&gt;\n&lt;p&gt;&amp;nbsp\;&lt;/p&gt;\n&lt;p&gt;Hironori Washizaki&lt;/p&gt;\n&lt;p&gt;IEEE 
 Computer Society 2024 President-Elect\, 2025 President&lt;/p&gt;\n&lt;/td&gt;\n&lt;/tr&gt;\n
 &lt;/tbody&gt;\n&lt;/table&gt;\n&lt;/td&gt;\n&lt;/tr&gt;\n&lt;/tbody&gt;\n&lt;/table&gt;\n&lt;/td&gt;\n&lt;/tr&gt;\n&lt;tr&gt;\n
 &lt;td align=&quot;left&quot; bgcolor=&quot;#3B3B3B&quot;&gt;\n&lt;table style=&quot;height: 10px\;&quot; role=&quot;n
 one&quot; width=&quot;100%&quot; cellspacing=&quot;0&quot; cellpadding=&quot;0&quot;&gt;\n&lt;tbody&gt;\n&lt;tr style=&quot;he
 ight: 10px\;&quot;&gt;\n&lt;td style=&quot;height: 10px\;&quot; align=&quot;center&quot; valign=&quot;top&quot;&gt;&amp;nb
 sp\;&lt;/td&gt;\n&lt;/tr&gt;\n&lt;/tbody&gt;\n&lt;/table&gt;\n&lt;/td&gt;\n&lt;/tr&gt;\n&lt;/tbody&gt;\n&lt;/table&gt;\n&lt;/
 td&gt;\n&lt;/tr&gt;\n&lt;/tbody&gt;\n&lt;/table&gt;\n&lt;/td&gt;\n&lt;/tr&gt;\n&lt;/tbody&gt;\n&lt;/table&gt;\n&lt;p&gt;&lt;img 
 src=&quot;https://email.computer.org/lt.php?x=41Zy~GDHInKh758v__PKhOhu263WuQQkj
 -hlkKI6JXPL550syk2DjFFsPa.UidXzllZs05PFIXMKGwC4AAAD&quot; alt=&quot;&quot; width=&quot;1&quot; heig
 ht=&quot;1&quot; border=&quot;0&quot;&gt;&lt;/p&gt;
END:VEVENT
END:VCALENDAR

