BEGIN:VCALENDAR
VERSION:2.0
PRODID:IEEE vTools.Events//EN
CALSCALE:GREGORIAN
BEGIN:VTIMEZONE
TZID:America/Chicago
BEGIN:DAYLIGHT
DTSTART:20250309T030000
TZOFFSETFROM:-0600
TZOFFSETTO:-0500
RRULE:FREQ=YEARLY;BYDAY=2SU;BYMONTH=3
TZNAME:CDT
END:DAYLIGHT
BEGIN:STANDARD
DTSTART:20241103T010000
TZOFFSETFROM:-0500
TZOFFSETTO:-0600
RRULE:FREQ=YEARLY;BYDAY=1SU;BYMONTH=11
TZNAME:CST
END:STANDARD
END:VTIMEZONE
BEGIN:VEVENT
DTSTAMP:20241105T223829Z
UID:4B455FB5-BED1-4E3B-B09A-EC2F161E8C01
DTSTART;TZID=America/Chicago:20241104T170000
DTEND;TZID=America/Chicago:20241104T200000
DESCRIPTION:Dinner with friends is the best way I could imagine celebrating
  the 80th Anniversary celebration of the IEEE Cedar Rapids Section so we a
 re inviting you to a social and dinner November 4th\, 2024. As celebration
 s go\, it’s planned Iowa low key\, a reception hosted by the WIE Affinit
 y Group from 5-6:00pm with time to greet old friends and meet new ones. Di
 nner at 6:00\, followed by a short recognition program.\n\nPlease add the 
 evening to your calendar\, sign up on line to register and we look forward
  to seeing you November 4\, 2024 at 5:00 pm. At Edison&#39;s Eatery 475 Northl
 and Ave NE\, Cedar Rapids\, IA 52402.\n\nMost of the cost of this event is
  covered by the IEEE Cedar Rapids Section. So please\, check with your cal
 endar manager\, invite a guest\, and register online.\n\n475 Northland Ave
 nue NE\, Cedar Rapids\, Iowa\, United States\, 52402
LOCATION:475 Northland Avenue NE\, Cedar Rapids\, Iowa\, United States\, 52
 402
ORGANIZER:vaozburn@ieee.org
SEQUENCE:6
SUMMARY:WIE Social &amp; 80th Anniversary Celebration of the IEEE Cedar Rapids 
 Section
URL;VALUE=URI:https://events.vtools.ieee.org/m/440389
X-ALT-DESC:Description: &lt;br /&gt;&lt;p class=&quot;MsoNormal&quot;&gt;Dinner with friends is t
 he best way I could imagine celebrating the 80&lt;sup&gt;th&lt;/sup&gt; Anniversary ce
 lebration of the IEEE Cedar Rapids Section so we are inviting you to a soc
 ial and dinner November 4th\, 2024.&amp;nbsp\; As celebrations go\, it&amp;rsquo\;
 s planned Iowa low key\, a reception hosted by the WIE Affinity Group&amp;nbsp
 \; from&amp;nbsp\; 5-6:00pm with time to greet old friends and meet new ones.&amp;
 nbsp\; Dinner at 6:00\, followed by a short recognition program.&lt;/p&gt;\n&lt;p c
 lass=&quot;MsoNormal&quot;&gt;Please add the evening to your calendar\, sign up on line
  to register and we look forward to seeing you November 4\, 2024 at 5:00 p
 m. At Edison&#39;s Eatery 475 Northland Ave NE\, Cedar Rapids\, IA 52402.&lt;/p&gt;\
 n&lt;p class=&quot;MsoNormal&quot;&gt;Most of the cost of this event is covered by the IEE
 E Cedar Rapids Section.&amp;nbsp\; So please\, check with your calendar manage
 r\, invite a guest\, and register online.&amp;nbsp\; &amp;nbsp\;&amp;nbsp\;&lt;/p&gt;
END:VEVENT
END:VCALENDAR

