BEGIN:VCALENDAR
VERSION:2.0
PRODID:IEEE vTools.Events//EN
CALSCALE:GREGORIAN
BEGIN:VTIMEZONE
TZID:Asia/Kolkata
BEGIN:STANDARD
DTSTART:19451014T230000
TZOFFSETFROM:+0630
TZOFFSETTO:+0530
TZNAME:IST
END:STANDARD
END:VTIMEZONE
BEGIN:VEVENT
DTSTAMP:20241030T044605Z
UID:7589BB71-8C1E-46FC-A9A2-BB8D3FED6BDE
DTSTART;TZID=Asia/Kolkata:20241001T100000
DTEND;TZID=Asia/Kolkata:20241001T120000
DESCRIPTION:The **IEEE Membership Drive** for B.Tech students in Electrical
  Engineering is an excellent opportunity to introduce students to one of t
 he most influential professional organizations in the world. The **Institu
 te of Electrical and Electronics Engineers (IEEE)** is dedicated to the ad
 vancement of technology and has a strong global presence\, providing a pla
 tform for innovation\, research\, and professional growth. For electrical 
 engineering students\, IEEE offers access to cutting-edge research\, profe
 ssional networking opportunities\, and resources that are vital for both a
 cademic and career development. Through memberships\, students can partici
 pate in technical societies\, attend conferences\, and gain exposure to in
 dustry trends\, helping them stay informed about the latest advancements i
 n their field. This membership drive aims to empower students by connectin
 g them with a global community of professionals\, fostering an environment
  of learning\, collaboration\, and innovation.\n\nA-31 UPSIDC \, INDUSTRIA
 L AREA\, UCER\, PRAYAGRAJ\, Uttar Pradesh\, India\, 211010
LOCATION:A-31 UPSIDC \, INDUSTRIAL AREA\, UCER\, PRAYAGRAJ\, Uttar Pradesh\
 , India\, 211010
ORGANIZER:vineettiwari@united.ac.in
SEQUENCE:10
SUMMARY:IEEE membership drive ELECTRICAL ENGINEERING for btech
URL;VALUE=URI:https://events.vtools.ieee.org/m/440519
X-ALT-DESC:Description: &lt;br /&gt;&lt;p&gt;The **IEEE Membership Drive** for B.Tech s
 tudents in Electrical Engineering is an excellent opportunity to introduce
  students to one of the most influential professional organizations in the
  world. The **Institute of Electrical and Electronics Engineers (IEEE)** i
 s dedicated to the advancement of technology and has a strong global prese
 nce\, providing a platform for innovation\, research\, and professional gr
 owth. For electrical engineering students\, IEEE offers access to cutting-
 edge research\, professional networking opportunities\, and resources that
  are vital for both academic and career development. Through memberships\,
  students can participate in technical societies\, attend conferences\, an
 d gain exposure to industry trends\, helping them stay informed about the 
 latest advancements in their field. This membership drive aims to empower 
 students by connecting them with a global community of professionals\, fos
 tering an environment of learning\, collaboration\, and innovation.&lt;/p&gt;\n&lt;
 p&gt;&lt;img src=&quot;https://events.vtools.ieee.org/vtools_ui/media/display/fc07791
 b-4384-46a5-9109-59f58fb9553f&quot;&gt;&lt;/p&gt;
END:VEVENT
END:VCALENDAR

