BEGIN:VCALENDAR
VERSION:2.0
PRODID:IEEE vTools.Events//EN
CALSCALE:GREGORIAN
BEGIN:VTIMEZONE
TZID:Asia/Kolkata
BEGIN:STANDARD
DTSTART:19451014T230000
TZOFFSETFROM:+0630
TZOFFSETTO:+0530
TZNAME:IST
END:STANDARD
END:VTIMEZONE
BEGIN:VEVENT
DTSTAMP:20241016T173614Z
UID:23EE68ED-F610-42F3-B6D2-D9C67D880C7E
DTSTART;TZID=Asia/Kolkata:20241001T023000
DTEND;TZID=Asia/Kolkata:20241005T170000
DESCRIPTION:The IEEE Student Branch at Rajkiya Engineering College Mainpuri
  organized a 5-day event\, CareerTech Conclave 2024\, in celebration of IE
 EE Day 2024. The event aimed to provide first and second-year students wit
 h crucial technical skills\, professional insights\, and networking opport
 unities with alumni and faculty members.\n\nEvent Highlights:\n\n-\nDay 1:
  Inauguration Ceremony\n\n- Student members Abhay\, Harshita\, Deepak\, Ri
 tik\, and Kushagra shared their journeys with IEEE.\n- The Dean of Academi
 cs\, Prof. Aseem Chandel\, highlighted the benefits of IEEE membership for
  young engineers.\n\n-\nDay 2: Technical Quiz Competition\n\n- A quiz cove
 ring general science and engineering topics engaged the students.\n- Top 3
  winners and 5 students receiving consolation prizes were awarded.\n\n-\nD
 ay 3: Educational Film Screening &amp; Public Speaking\n\n- Animated education
 al short films were shown\, followed by public speaking sessions.\n- The b
 est 11 speakers received treats as a token of appreciation for their effor
 ts.\n\n-\nDay 4: Alumni Guidance Session\n\n- Alumnus Anshul Rao\, current
 ly at IIM Lucknow\, conducted a virtual session on career planning\, upski
 lling\, and personal branding.\n- A student-led session provided insights 
 on LinkedIn and other professional platforms.\n\n-\nDay 5: Closing Ceremon
 y &amp; Membership Drive\n\n- Branch Counselor Prof. Sachin Pachauri\, EE HoD 
 Dr. Anshul Mishra\, and Robotics Club Coordinator Shivam Sir participated 
 in the closing ceremony.\n- Faculty encouraged students to join IEEE and t
 ake advantage of its resources.\n\nSpeaker(s): Anshul Rao\, Aseem chandel\
 n\nRoom: Smart Class\, Bldg: EE Block\, Smart Class\, EED\, Mainpuri\, Utt
 ar Pradesh\, India\, 205001
LOCATION:Room: Smart Class\, Bldg: EE Block\, Smart Class\, EED\, Mainpuri\
 , Uttar Pradesh\, India\, 205001
ORGANIZER:ieeerecm@gmail.com
SEQUENCE:11
SUMMARY:5-Day CareerTech Conclave on IEEE Day 2024 
URL;VALUE=URI:https://events.vtools.ieee.org/m/440548
X-ALT-DESC:Description: &lt;br /&gt;&lt;p&gt;The IEEE Student Branch at Rajkiya Enginee
 ring College Mainpuri organized a 5-day event\, CareerTech Conclave 2024\,
  in celebration of IEEE Day 2024. The event aimed to provide first and sec
 ond-year students with crucial technical skills\, professional insights\, 
 and networking opportunities with alumni and faculty members.&lt;/p&gt;\n&lt;h3&gt;Eve
 nt Highlights:&lt;/h3&gt;\n&lt;ul&gt;\n&lt;li&gt;\n&lt;p&gt;&lt;strong&gt;Day 1: Inauguration Ceremony&lt;/
 strong&gt;&lt;/p&gt;\n&lt;ul&gt;\n&lt;li&gt;Student members Abhay\, Harshita\, Deepak\, Ritik\,
  and Kushagra shared their journeys with IEEE.&lt;/li&gt;\n&lt;li&gt;The Dean of Acade
 mics\, Prof. Aseem Chandel\, highlighted the benefits of IEEE membership f
 or young engineers.&lt;/li&gt;\n&lt;/ul&gt;\n&lt;/li&gt;\n&lt;li&gt;\n&lt;p&gt;&lt;strong&gt;Day 2: Technical 
 Quiz Competition&lt;/strong&gt;&lt;/p&gt;\n&lt;ul&gt;\n&lt;li&gt;A quiz covering general science a
 nd engineering topics engaged the students.&lt;/li&gt;\n&lt;li&gt;Top 3 winners and 5 
 students receiving consolation prizes were awarded.&lt;/li&gt;\n&lt;/ul&gt;\n&lt;/li&gt;\n&lt;l
 i&gt;\n&lt;p&gt;&lt;strong&gt;Day 3: Educational Film Screening &amp;amp\; Public Speaking&lt;/s
 trong&gt;&lt;/p&gt;\n&lt;ul&gt;\n&lt;li&gt;Animated educational short films were shown\, follow
 ed by public speaking sessions.&lt;/li&gt;\n&lt;li&gt;The best 11 speakers received tr
 eats as a token of appreciation for their efforts.&lt;/li&gt;\n&lt;/ul&gt;\n&lt;/li&gt;\n&lt;li
 &gt;\n&lt;p&gt;&lt;strong&gt;Day 4: Alumni Guidance Session&lt;/strong&gt;&lt;/p&gt;\n&lt;ul&gt;\n&lt;li&gt;Alumn
 us Anshul Rao\, currently at IIM Lucknow\, conducted a virtual session on 
 career planning\, upskilling\, and personal branding.&lt;/li&gt;\n&lt;li&gt;A student-
 led session provided insights on LinkedIn and other professional platforms
 .&lt;/li&gt;\n&lt;/ul&gt;\n&lt;/li&gt;\n&lt;li&gt;\n&lt;p&gt;&lt;strong&gt;Day 5: Closing Ceremony &amp;amp\; Memb
 ership Drive&lt;/strong&gt;&lt;/p&gt;\n&lt;ul&gt;\n&lt;li&gt;Branch Counselor Prof. Sachin Pachaur
 i\, EE HoD Dr. Anshul Mishra\, and Robotics Club Coordinator Shivam Sir pa
 rticipated in the closing ceremony.&lt;/li&gt;\n&lt;li&gt;Faculty encouraged students 
 to join IEEE and take advantage of its resources.&lt;/li&gt;\n&lt;/ul&gt;\n&lt;/li&gt;\n&lt;/ul
 &gt;
END:VEVENT
END:VCALENDAR

