BEGIN:VCALENDAR
VERSION:2.0
PRODID:IEEE vTools.Events//EN
CALSCALE:GREGORIAN
BEGIN:VTIMEZONE
TZID:America/Los_Angeles
BEGIN:DAYLIGHT
DTSTART:20240310T030000
TZOFFSETFROM:-0800
TZOFFSETTO:-0700
RRULE:FREQ=YEARLY;BYDAY=2SU;BYMONTH=3
TZNAME:PDT
END:DAYLIGHT
BEGIN:STANDARD
DTSTART:20241103T010000
TZOFFSETFROM:-0700
TZOFFSETTO:-0800
RRULE:FREQ=YEARLY;BYDAY=1SU;BYMONTH=11
TZNAME:PST
END:STANDARD
END:VTIMEZONE
BEGIN:VEVENT
DTSTAMP:20241103T163612Z
UID:6D7E08AC-323B-4E5F-9596-E90BB44352BA
DTSTART;TZID=America/Los_Angeles:20241031T110000
DTEND;TZID=America/Los_Angeles:20241031T123000
DESCRIPTION:Date: October 31\,2024 - 11 AM to 12:30 PM PST\n\nTopic: IEEE G
 uide for Distribution Grid Resilience Metrics\n\nWho Should Attend: Power 
 system engineers working in electric utilities\, system planners\, researc
 hers\, policy makers and regulators.\n\nSpeaker: Shikhar Pandey holds a Ba
 chelor’s in Electrical Engineering from NIT Patna\, India\, and a Master
 ’s and Ph.D. in Electrical Engineering from Washington State University 
 Pullman. He is pursuing an MBA from Chicago Booth School of Business. Curr
 ently\, he serves as Sr. Manager of DER Planning and Engineering at Common
 wealth Edison (ComEd). He is the Chair of the IEEE Distribution Resiliency
  Task Force\, Co-Chair of the IEEE Grid Flexibility Taskforce\, and Techno
 logy Lead for the IEEE Industry Technical Support Leadership Committee (IT
 SLC).\n\nAgenda: \nAbstract for Talk by Dr. Shikhar Pandey\, Sr. Manager D
 ER Planning and Engineering\, ComEd\, and IEEE Distribution Resiliency Tas
 k Force Chair\n\nIn the past decade\, the global shift towards addressing 
 climate change has highlighted the electric grid as a critical enabler in 
 achieving net-zero emissions. Electrification demands from sectors like tr
 ansportation and buildings rely heavily on a resilient\, reliable grid—e
 specially as extreme weather events\, such as wildfires and hurricanes\, i
 ncreasingly challenge its stability. Ensuring continuous power during thes
 e events is crucial\, both for maintaining infrastructure and minimizing d
 isruption to daily life.\n\nAs a result\, stakeholders across governments\
 , utilities\, and regulatory bodies are focusing more than ever on policie
 s and initiatives to enhance grid resiliency. However\, a fundamental ques
 tion arises: how do we effectively measure grid resiliency?\n\nDeveloping 
 metrics that assess the grid&#39;s ability to withstand and recover from extre
 me weather events is essential to ensure progress.\n\nThis talk will intro
 duce a comprehensive resiliency metric framework\, designed to evaluate th
 e grid&#39;s performance in adverse weather conditions. The metrics fall under
  two categories: System Performance\, which assesses the grid&#39;s ability to
  endure extreme events\, and Operational Performance\, measuring its recov
 ery capacity. Through this framework\, we can better understand\, measure\
 , and enhance the resilience of our electric distribution grid.\n\nVirtual
 : https://events.vtools.ieee.org/m/440558
LOCATION:Virtual: https://events.vtools.ieee.org/m/440558
ORGANIZER:memrick@ieee.org
SEQUENCE:48
SUMMARY:IEEE Guide for Distribution Grid Resilience Metrics
URL;VALUE=URI:https://events.vtools.ieee.org/m/440558
X-ALT-DESC:Description: &lt;br /&gt;&lt;p dir=&quot;ltr&quot;&gt;&lt;strong&gt;Date:&lt;/strong&gt; October 3
 1\,2024 - 11 AM to 12:30 PM PST&lt;/p&gt;\n&lt;p dir=&quot;ltr&quot;&gt;&lt;strong&gt;Topic: &lt;/strong&gt;
 IEEE Guide for Distribution Grid Resilience Metrics&lt;/p&gt;\n&lt;p dir=&quot;ltr&quot;&gt;&lt;str
 ong&gt;Who Should Attend:&lt;/strong&gt; Power system engineers working in electric
  utilities\, system planners\, researchers\, policy makers and regulators.
 &lt;/p&gt;\n&lt;p dir=&quot;ltr&quot;&gt;&lt;strong&gt;Speaker:&lt;/strong&gt; Shikhar Pandey holds a Bachel
 or&amp;rsquo\;s in Electrical Engineering from NIT Patna\, India\, and a Maste
 r&amp;rsquo\;s and Ph.D. in Electrical Engineering from Washington State Unive
 rsity Pullman. He is pursuing an MBA from Chicago Booth School of Business
 . Currently\, he serves as Sr. Manager of DER Planning and Engineering at 
 Commonwealth Edison (ComEd). He is the Chair of the IEEE Distribution Resi
 liency Task Force\, Co-Chair of the IEEE Grid Flexibility Taskforce\, and 
 Technology Lead for the IEEE Industry Technical Support Leadership Committ
 ee (ITSLC).&lt;/p&gt;\n&lt;p dir=&quot;ltr&quot;&gt;&amp;nbsp\;&lt;/p&gt;\n&lt;p dir=&quot;ltr&quot;&gt;&amp;nbsp\;&lt;/p&gt;\n&lt;p&gt;&amp;n
 bsp\;&lt;/p&gt;&lt;br /&gt;&lt;br /&gt;Agenda: &lt;br /&gt;&lt;p dir=&quot;ltr&quot;&gt;Abstract for Talk by Dr. S
 hikhar Pandey\, Sr. Manager DER Planning and Engineering\, ComEd\, and IEE
 E Distribution Resiliency Task Force Chair&lt;/p&gt;\n&lt;p&gt;&lt;strong&gt;&amp;nbsp\;&lt;/strong
 &gt;&lt;/p&gt;\n&lt;p dir=&quot;ltr&quot;&gt;In the past decade\, the global shift towards addressi
 ng climate change has highlighted the electric grid as a critical enabler 
 in achieving net-zero emissions. Electrification demands from sectors like
  transportation and buildings rely heavily on a resilient\, reliable grid&amp;
 mdash\;especially as extreme weather events\, such as wildfires and hurric
 anes\, increasingly challenge its stability. Ensuring continuous power dur
 ing these events is crucial\, both for maintaining infrastructure and mini
 mizing disruption to daily life.&lt;/p&gt;\n&lt;p dir=&quot;ltr&quot;&gt;As a result\, stakehold
 ers across governments\, utilities\, and regulatory bodies are focusing mo
 re than ever on policies and initiatives to enhance grid resiliency. Howev
 er\, a fundamental question arises: how do we effectively measure grid res
 iliency?&lt;/p&gt;\n&lt;p dir=&quot;ltr&quot;&gt;Developing metrics that assess the grid&#39;s abili
 ty to withstand and recover from extreme weather events is essential to en
 sure progress.&lt;/p&gt;\n&lt;p dir=&quot;ltr&quot;&gt;This talk will introduce a comprehensive 
 resiliency metric framework\, designed to evaluate the grid&#39;s performance 
 in adverse weather conditions. The metrics fall under two categories: Syst
 em Performance\, which assesses the grid&#39;s ability to endure extreme event
 s\, and Operational Performance\, measuring its recovery capacity. Through
  this framework\, we can better understand\, measure\, and enhance the res
 ilience of our electric distribution grid.&lt;/p&gt;\n&lt;p&gt;&amp;nbsp\;&lt;/p&gt;
END:VEVENT
END:VCALENDAR

