BEGIN:VCALENDAR
VERSION:2.0
PRODID:IEEE vTools.Events//EN
CALSCALE:GREGORIAN
BEGIN:VTIMEZONE
TZID:Europe/Madrid
BEGIN:DAYLIGHT
DTSTART:20250330T030000
TZOFFSETFROM:+0100
TZOFFSETTO:+0200
RRULE:FREQ=YEARLY;BYDAY=-1SU;BYMONTH=3
TZNAME:CEST
END:DAYLIGHT
BEGIN:STANDARD
DTSTART:20241027T020000
TZOFFSETFROM:+0200
TZOFFSETTO:+0100
RRULE:FREQ=YEARLY;BYDAY=-1SU;BYMONTH=10
TZNAME:CET
END:STANDARD
END:VTIMEZONE
BEGIN:VEVENT
DTSTAMP:20241206T233543Z
UID:D96B3CB7-6DDE-432B-BEE8-6852F5641CAE
DTSTART;TZID=Europe/Madrid:20241203T180000
DTEND;TZID=Europe/Madrid:20241203T190000
DESCRIPTION:Apreciados/as miembros del capítulo\,\n\nConvocamos una reuni
 ón del capítulo español de la sociedad IEEE Aerospace and Electronic Sy
 stems.\n\nEl principal objetivo es presentar las activiades realizadas por
  el capítulo\, recoger opiniones\, ideas\, etc. de los miembros de cara a
  mejorar las actividades del capítulo. Pueden participar todos los miembr
 os del capítulo con voz y voto\, y cualquier otro miembro del IEEE\, sin 
 voto. Se realizará online. También pretende ser el punto de partida para
  iniciar la renovación del equipo directivo mediante la convocatoria de e
 lecciones.\n\nOrden del día:\n\n- Presentación de las actividades del ca
 pítulo\n- Presentación del estado de la cuentas\n- Resumen del IEEE Day 
 2024 celebrado recientemente\n- Renovación del equipo directivo\; eleccio
 nes.\n- Turno abierto de palabra\n\nAtentamente\,\n\nGonzalo Seco (Preside
 nte)\, Pilar Jarabo (Vicepresidenta)\, José Salcedo (Tesorero/Secretario)
 \n\nEquipo directivo del capítulo.\n\nVirtual: https://events.vtools.ieee
 .org/m/440675
LOCATION:Virtual: https://events.vtools.ieee.org/m/440675
ORGANIZER:gonzalo.seco@uab.cat
SEQUENCE:31
SUMMARY:Reunión del Capítulo Español de la IEEE Aerospace and Electronic
  Systems Society
URL;VALUE=URI:https://events.vtools.ieee.org/m/440675
X-ALT-DESC:Description: &lt;br /&gt;&lt;p&gt;Apreciados/as miembros del cap&amp;iacute\;tul
 o\,&lt;/p&gt;\n&lt;p&gt;Convocamos una reuni&amp;oacute\;n del cap&amp;iacute\;tulo espa&amp;ntild
 e\;ol de la sociedad IEEE Aerospace and Electronic Systems.&lt;/p&gt;\n&lt;p&gt;El pri
 ncipal objetivo es presentar las activiades realizadas por el cap&amp;iacute\;
 tulo\, recoger opiniones\, ideas\, etc. de los miembros de cara a mejorar 
 las actividades del cap&amp;iacute\;tulo. Pueden participar todos los miembros
  del cap&amp;iacute\;tulo con voz y voto\, y cualquier otro miembro del IEEE\,
  sin voto. &amp;nbsp\;Se realizar&amp;aacute\; online. Tambi&amp;eacute\;n pretende se
 r el punto de partida para iniciar la renovaci&amp;oacute\;n del equipo direct
 ivo mediante la convocatoria de elecciones.&lt;/p&gt;\n&lt;p&gt;Orden del d&amp;iacute\;a:
 &lt;/p&gt;\n&lt;ul&gt;\n&lt;li&gt;Presentaci&amp;oacute\;n de las actividades del cap&amp;iacute\;tu
 lo&amp;nbsp\;&lt;/li&gt;\n&lt;li&gt;Presentaci&amp;oacute\;n del estado de la cuentas&lt;/li&gt;\n&lt;l
 i&gt;Resumen del IEEE Day 2024 celebrado recientemente&lt;/li&gt;\n&lt;li&gt;Renovaci&amp;oac
 ute\;n del equipo directivo\; elecciones.&lt;/li&gt;\n&lt;li&gt;Turno abierto de palab
 ra&lt;/li&gt;\n&lt;/ul&gt;\n&lt;p&gt;&amp;nbsp\;&lt;/p&gt;\n&lt;p&gt;Atentamente\,&lt;/p&gt;\n&lt;p&gt;Gonzalo Seco (Pre
 sidente)\, Pilar Jarabo (Vicepresidenta)\, Jos&amp;eacute\; Salcedo (Tesorero/
 Secretario)&lt;/p&gt;\n&lt;p&gt;Equipo directivo del cap&amp;iacute\;tulo.&lt;/p&gt;
END:VEVENT
END:VCALENDAR

