BEGIN:VCALENDAR
VERSION:2.0
PRODID:IEEE vTools.Events//EN
CALSCALE:GREGORIAN
BEGIN:VTIMEZONE
TZID:America/Los_Angeles
BEGIN:DAYLIGHT
DTSTART:20250309T030000
TZOFFSETFROM:-0800
TZOFFSETTO:-0700
RRULE:FREQ=YEARLY;BYDAY=2SU;BYMONTH=3
TZNAME:PDT
END:DAYLIGHT
BEGIN:STANDARD
DTSTART:20241103T010000
TZOFFSETFROM:-0700
TZOFFSETTO:-0800
RRULE:FREQ=YEARLY;BYDAY=1SU;BYMONTH=11
TZNAME:PST
END:STANDARD
END:VTIMEZONE
BEGIN:VEVENT
DTSTAMP:20241208T032123Z
UID:A7407614-A7D6-4CA8-BAE6-49D3948CCF74
DTSTART;TZID=America/Los_Angeles:20241203T180000
DTEND;TZID=America/Los_Angeles:20241203T213000
DESCRIPTION:Please join the Seattle Section IEEE year end celebration of th
 e holidays.\n\nCome meet and greet and take the time to say thank you to t
 he officers and members who have volunteered their time throughout the yea
 r.\n\nThis years Holidays celebration will be held at the McMenamins Ander
 son School\, Haynes Hall in Bothell.\n\nPlenty of free parking at the Pop 
 Keeney Stadium that is easy to get to.\n\nWe are honored to have the outst
 anding keynote speaker for this event: Scott Thielman (CTO &amp; Co-Founder of
  Product Creation Studio).\n\nAttendees: IEEE Member +1. Adult\, 18 years 
 and older. Dress Code: Business Casual\n\nCost level 1) IEEE member all gr
 ade\, $30\n\n2) IEEE member all grade +1 family member $60\n\n3) Student m
 ember only $15\n\n4) Each non-IEEE member guest\, $45\n\nSeats are limited
  to 120. Please register ASAP.\n\nSpeaker(s): Scott Thielman\n\nAgenda: \n
 December 3rd\, 6pm-9:30pm\n\nThe choice of menu is the &quot;Fireside Supper&quot; w
 hich has a vegetarian option. Appetizers will be served at 6:00.\n\nA no h
 ost bar will be available. Tea\, water and coffee will be available at the
  the tables.\n\nAgenda\n\n6:00-6:45 – Social Time - Appetizers served &amp; 
 No Host Bar open at 6:00\n\n6:45-8:45 – Buffet Open\n\n7:30-8:15 – Key
 note Speaker Presentation\n\n8:15-9:30 – Social Time\, No Host Bar Close
 s at 8:45\n\nThe McMenanims Fireside Buffet Dinner offers your choice of t
 hree Entrees\, Salmon\, Chicken and Cannelloni. No need to chose. All thre
 e will be available throughout the dinner for you to chose from and go bac
 k for another taste. Gluten free and vegetarian options shown with G and V
 .\n\n[]\n\nBldg: Haynes Hall\, 18607 Bothell Way NE\, Bothell\, Washington
 \, United States\, 98011
LOCATION:Bldg: Haynes Hall\, 18607 Bothell Way NE\, Bothell\, Washington\, 
 United States\, 98011
ORGANIZER:memrick@ieee.org
SEQUENCE:61
SUMMARY:Seattle IEEE Holidays Celebration
URL;VALUE=URI:https://events.vtools.ieee.org/m/440748
X-ALT-DESC:Description: &lt;br /&gt;&lt;p&gt;&lt;span style=&quot;color: #e03e2d\; font-size: 1
 4pt\;&quot;&gt;&lt;strong&gt;&lt;em&gt;Please join the Seattle Section IEEE year end celebrati
 on of the holidays.&lt;/em&gt;&lt;/strong&gt;&lt;/span&gt;&lt;/p&gt;\n&lt;p&gt;&lt;span style=&quot;color: #e03e
 2d\; font-size: 14pt\;&quot;&gt;&lt;strong&gt;&lt;em&gt;Come meet and greet and take the time 
 to say thank you to the officers and members who have volunteered their ti
 me throughout the year.&lt;/em&gt;&lt;/strong&gt;&lt;/span&gt;&lt;/p&gt;\n&lt;p&gt;&lt;span style=&quot;color: r
 gb(224\, 62\, 45)\; font-size: 14pt\;&quot;&gt;&lt;strong&gt;&lt;em&gt;This years Holidays cel
 ebration will be held at the McMenamins Anderson School\, Haynes Hall in B
 othell.&lt;/em&gt;&lt;/strong&gt;&lt;/span&gt;&lt;/p&gt;\n&lt;p&gt;&lt;span style=&quot;color: rgb(224\, 62\, 45
 )\; font-size: 14pt\;&quot;&gt;&lt;strong&gt;&lt;em&gt;Plenty of free parking at the Pop Keene
 y Stadium that is easy to get to.&lt;/em&gt;&lt;/strong&gt;&lt;/span&gt;&lt;/p&gt;\n&lt;p&gt;&lt;span style
 =&quot;font-size: 14pt\;&quot; data-preserver-spaces=&quot;true&quot;&gt;We are honored to have&amp;n
 bsp\; the outstanding keynote speaker for this event:&amp;nbsp\;&amp;nbsp\;&lt;strong
 &gt;Scott Thielman (CTO &amp;amp\; Co-Founder of Product Creation Studio).&lt;/stron
 g&gt;&lt;/span&gt;&lt;/p&gt;\n&lt;p&gt;&amp;nbsp\;&lt;/p&gt;\n&lt;p&gt;&lt;span style=&quot;font-size: 14pt\;&quot;&gt;&lt;strong&gt;
 Attendees: IEEE Member +1.&amp;nbsp\; Adult\, 18 years and older.&amp;nbsp\; &amp;nbsp
 \; Dress Code: Business Casual&lt;/strong&gt;&lt;/span&gt;&lt;/p&gt;\n&lt;p&gt;&lt;span style=&quot;color:
  #e03e2d\;&quot;&gt;&lt;strong&gt;Cost level&amp;nbsp\; &amp;nbsp\;1) IEEE member all grade\, $3
 0&lt;/strong&gt;&lt;/span&gt;&lt;/p&gt;\n&lt;p&gt;&lt;span style=&quot;color: #e03e2d\;&quot;&gt;&lt;strong&gt;&amp;nbsp\; &amp;
 nbsp\; &amp;nbsp\; &amp;nbsp\; &amp;nbsp\; &amp;nbsp\; &amp;nbsp\; &amp;nbsp\; &amp;nbsp\; &amp;nbsp\; 2) 
 IEEE member all grade +1 family member&amp;nbsp\; $60&lt;/strong&gt;&lt;/span&gt;&lt;/p&gt;\n&lt;p&gt;
 &lt;span style=&quot;color: #e03e2d\;&quot;&gt;&lt;strong&gt;&amp;nbsp\; &amp;nbsp\; &amp;nbsp\; &amp;nbsp\; &amp;nb
 sp\; &amp;nbsp\; &amp;nbsp\; &amp;nbsp\; &amp;nbsp\; &amp;nbsp\; 3) Student member only&amp;nbsp\;
  $15&amp;nbsp\;&lt;/strong&gt;&lt;/span&gt;&lt;/p&gt;\n&lt;p&gt;&lt;span style=&quot;color: #e03e2d\;&quot;&gt;&lt;strong
 &gt;&amp;nbsp\; &amp;nbsp\; &amp;nbsp\; &amp;nbsp\; &amp;nbsp\; &amp;nbsp\; &amp;nbsp\; &amp;nbsp\; &amp;nbsp\; &amp;
 nbsp\; 4) Each non-IEEE member guest\, $45&lt;/strong&gt;&lt;/span&gt;&lt;/p&gt;\n&lt;p&gt;&lt;span s
 tyle=&quot;color: #e03e2d\;&quot;&gt;&lt;strong&gt;&amp;nbsp\; &amp;nbsp\; &amp;nbsp\;Seats are limited&amp;n
 bsp\; to 120.&amp;nbsp\; Please register ASAP.&amp;nbsp\;&lt;/strong&gt;&lt;/span&gt;&lt;/p&gt;\n&lt;p&gt;
 &amp;nbsp\;&lt;/p&gt;&lt;br /&gt;&lt;br /&gt;Agenda: &lt;br /&gt;&lt;p&gt;December 3rd\, 6pm-9:30pm&amp;nbsp\;&lt;/
 p&gt;\n&lt;p&gt;The choice of menu is the &quot;Fireside Supper&quot; which has a vegetarian 
 option.&amp;nbsp\; Appetizers will be served at 6:00.&lt;/p&gt;\n&lt;p&gt;A no host bar wi
 ll be available.&amp;nbsp\; Tea\, water and coffee will be available at the th
 e tables.&lt;/p&gt;\n&lt;p class=&quot;MsoNormal&quot; style=&quot;text-align: left\;&quot;&gt;&lt;strong&gt;&amp;nb
 sp\;Agenda&lt;/strong&gt;&lt;/p&gt;\n&lt;p&gt;6:00-6:45 &amp;ndash\; Social Time - Appetizers se
 rved &amp;amp\; No Host Bar open at 6:00&lt;/p&gt;\n&lt;p&gt;6:45-8:45 &amp;ndash\; Buffet Ope
 n&lt;/p&gt;\n&lt;p&gt;7:30-8:15 &amp;ndash\; Keynote Speaker Presentation&lt;/p&gt;\n&lt;p&gt;8:15-9:3
 0 &amp;ndash\; Social Time\, No Host Bar Closes at 8:45&lt;/p&gt;\n&lt;p&gt;&amp;nbsp\;&lt;/p&gt;\n&lt;
 p&gt;The McMenanims Fireside Buffet Dinner offers your choice of three Entree
 s\, Salmon\, Chicken and Cannelloni.&amp;nbsp\; No need to chose.&amp;nbsp\; &amp;nbsp
 \;All three will be available throughout the dinner for you to chose from 
 and go back for another taste.&amp;nbsp\; Gluten free and vegetarian options s
 hown with G and V.&lt;/p&gt;\n&lt;p&gt;&amp;nbsp\; &amp;nbsp\; &amp;nbsp\; &amp;nbsp\; &lt;img src=&quot;https
 ://events.vtools.ieee.org/vtools_ui/media/display/9abd5452-780a-47f8-ae8c-
 8d1fa1de7591&quot; alt=&quot;&quot; width=&quot;693&quot; height=&quot;744&quot;&gt;&lt;/p&gt;
END:VEVENT
END:VCALENDAR

