BEGIN:VCALENDAR
VERSION:2.0
PRODID:IEEE vTools.Events//EN
CALSCALE:GREGORIAN
BEGIN:VTIMEZONE
TZID:America/Chicago
BEGIN:DAYLIGHT
DTSTART:20250309T030000
TZOFFSETFROM:-0600
TZOFFSETTO:-0500
RRULE:FREQ=YEARLY;BYDAY=2SU;BYMONTH=3
TZNAME:CDT
END:DAYLIGHT
BEGIN:STANDARD
DTSTART:20241103T010000
TZOFFSETFROM:-0500
TZOFFSETTO:-0600
RRULE:FREQ=YEARLY;BYDAY=1SU;BYMONTH=11
TZNAME:CST
END:STANDARD
END:VTIMEZONE
BEGIN:VEVENT
DTSTAMP:20241118T211753Z
UID:A497CA82-1633-447C-BAB6-A8D72529D84A
DTSTART;TZID=America/Chicago:20241107T113000
DTEND;TZID=America/Chicago:20241107T133000
DESCRIPTION:Planning for future meetings.\n\nAgenda: \n11:30 Start Meeting\
 n\n12:00 Lunch\n\n1:30 end of meeting\n\nRoom: Open Seating Area\, Bldg: L
 a Fonda\, San Antonio\, Texas\, United States
LOCATION:Room: Open Seating Area\, Bldg: La Fonda\, San Antonio\, Texas\, U
 nited States
ORGANIZER:S.ATKINSON@IEEE.ORG
SEQUENCE:9
SUMMARY:LSS LMAG Officers Planning Meeting
URL;VALUE=URI:https://events.vtools.ieee.org/m/440781
X-ALT-DESC:Description: &lt;br /&gt;&lt;p&gt;Planning for future meetings.&lt;/p&gt;&lt;br /&gt;&lt;br
  /&gt;Agenda: &lt;br /&gt;&lt;p&gt;11:30 Start Meeting&lt;/p&gt;\n&lt;p&gt;12:00 Lunch&lt;/p&gt;\n&lt;p&gt;1:30 e
 nd of meeting&lt;/p&gt;\n&lt;p&gt;&amp;nbsp\;&lt;/p&gt;
END:VEVENT
END:VCALENDAR

