BEGIN:VCALENDAR
VERSION:2.0
PRODID:IEEE vTools.Events//EN
CALSCALE:GREGORIAN
BEGIN:VTIMEZONE
TZID:Asia/Kolkata
BEGIN:STANDARD
DTSTART:19451014T230000
TZOFFSETFROM:+0630
TZOFFSETTO:+0530
TZNAME:IST
END:STANDARD
END:VTIMEZONE
BEGIN:VEVENT
DTSTAMP:20241018T160242Z
UID:3C5E3606-F195-4CDB-AE60-2BECEB2B6AC3
DTSTART;TZID=Asia/Kolkata:20241010T100000
DTEND;TZID=Asia/Kolkata:20241010T123000
DESCRIPTION:The Department of Electrical and Electronics Engineering (EEE) 
 at GJUST Hisar\, Haryana\, celebrated IEEE Day 2024 on October 10th. The e
 vent commenced at 10 a.m. with a welcome address by Prof. Suman Dahiya\, C
 hairperson of the EEE department\, followed by remarks from the Dean of th
 e Faculty of Engineering\, Prof. Sandeep Arya. Dr. Priyanka Dalal then int
 roduced IEEE Day and highlighted the benefits of IEEE society membership f
 or B.Tech students.\n\nThe day featured two key activities: a PowerPoint P
 resentation Competition and an Arduino Workshop. The presentation competit
 ion\, held from 10:30 a.m. to 12:30 p.m.\, saw 12 students showcase innova
 tive ideas and emerging technologies\, including solutions for women’s s
 afety using AI\, smart fabrics\, and energy storage. After lunch\, from 2:
 00 p.m. to 4:00 p.m.\, Dr. Ritu Boora led an Arduino Workshop attended by 
 30 students\, providing them with hands-on experience in Arduino programmi
 ng and practical applications. The valedictory session at 4:00 pm marked t
 he official closing of the IEEE Day 2024 celebrations in which trophies an
 d certificates were given to the competition winners\, volunteers and part
 icipating students. The event was concluded with a vote of thanks by Dr. P
 riyanka Dalal\, who expressed gratitude to the CRFID-APS Joint Chapter\, D
 elhi section for sponsoring the event.\n\nThe event was a resounding succe
 ss\, fostering innovation\, technical learning\, and collaboration between
  students and faculty.\n\nCo-sponsored by: Guru Jambheshwar University of 
 Science and Technology\, Hisar\, Haryana-125001\n\nGuru Jambheshwar Univer
 sity of Science and Technology\,  \, Hisar\, Haryana\, India\, 125001
LOCATION:Guru Jambheshwar University of Science and Technology\,  \, Hisar\
 , Haryana\, India\, 125001
ORGANIZER:priyanka.dalal17@gmail.com 
SEQUENCE:17
SUMMARY:IEEE Day celebration
URL;VALUE=URI:https://events.vtools.ieee.org/m/440869
X-ALT-DESC:Description: &lt;br /&gt;&lt;p style=&quot;language: en-US\; margin-top: 0pt\;
  margin-bottom: 0pt\; margin-left: 0in\; text-align: justify\; text-justif
 y: inter-ideograph\; direction: ltr\; unicode-bidi: embed\; mso-line-break
 -override: none\; word-break: normal\; punctuation-wrap: hanging\;&quot;&gt;&lt;span 
 style=&quot;font-size: 18.0pt\; font-family: Calibri\; mso-ascii-font-family: C
 alibri\; mso-fareast-font-family: +mn-ea\; mso-bidi-font-family: +mn-cs\; 
 mso-ascii-theme-font: minor-latin\; mso-fareast-theme-font: minor-fareast\
 ; mso-bidi-theme-font: minor-bidi\; color: black\; mso-color-index: 1\; ms
 o-font-kerning: 12.0pt\; language: en-US\; mso-style-textfill-type: solid\
 ; mso-style-textfill-fill-themecolor: text1\; mso-style-textfill-fill-colo
 r: black\; mso-style-textfill-fill-alpha: 100.0%\;&quot;&gt;The Department of Elec
 trical and Electronics Engineering (EEE) at GJUST Hisar\, Haryana\, celebr
 ated IEEE Day 2024 on October 10th. The event commenced at 10 a.m. with a 
 welcome address by Prof. Suman Dahiya\, Chairperson of the EEE department\
 , followed by remarks from the Dean of the Faculty of Engineering\, Prof. 
 Sandeep Arya. Dr. Priyanka Dalal then introduced IEEE Day and highlighted 
 the benefits of IEEE society membership for &lt;/span&gt;&lt;span style=&quot;font-size:
  18.0pt\; font-family: Calibri\; mso-ascii-font-family: Calibri\; mso-fare
 ast-font-family: +mn-ea\; mso-bidi-font-family: +mn-cs\; mso-ascii-theme-f
 ont: minor-latin\; mso-fareast-theme-font: minor-fareast\; mso-bidi-theme-
 font: minor-bidi\; color: black\; mso-color-index: 1\; mso-font-kerning: 1
 2.0pt\; language: en-US\; mso-style-textfill-type: solid\; mso-style-textf
 ill-fill-themecolor: text1\; mso-style-textfill-fill-color: black\; mso-st
 yle-textfill-fill-alpha: 100.0%\;&quot;&gt;B.Tech&lt;/span&gt;&lt;span style=&quot;font-size: 18
 .0pt\; font-family: Calibri\; mso-ascii-font-family: Calibri\; mso-fareast
 -font-family: +mn-ea\; mso-bidi-font-family: +mn-cs\; mso-ascii-theme-font
 : minor-latin\; mso-fareast-theme-font: minor-fareast\; mso-bidi-theme-fon
 t: minor-bidi\; color: black\; mso-color-index: 1\; mso-font-kerning: 12.0
 pt\; language: en-US\; mso-style-textfill-type: solid\; mso-style-textfill
 -fill-themecolor: text1\; mso-style-textfill-fill-color: black\; mso-style
 -textfill-fill-alpha: 100.0%\;&quot;&gt; students.&lt;/span&gt;&lt;/p&gt;\n&lt;p style=&quot;language:
  en-US\; margin-top: 0pt\; margin-bottom: 0pt\; margin-left: 0in\; text-al
 ign: justify\; text-justify: inter-ideograph\; direction: ltr\; unicode-bi
 di: embed\; mso-line-break-override: none\; word-break: normal\; punctuati
 on-wrap: hanging\;&quot;&gt;&lt;span style=&quot;font-size: 18.0pt\; font-family: Calibri\
 ; mso-ascii-font-family: Calibri\; mso-fareast-font-family: +mn-ea\; mso-b
 idi-font-family: +mn-cs\; mso-ascii-theme-font: minor-latin\; mso-fareast-
 theme-font: minor-fareast\; mso-bidi-theme-font: minor-bidi\; color: black
 \; mso-color-index: 1\; mso-font-kerning: 12.0pt\; language: en-US\; mso-s
 tyle-textfill-type: solid\; mso-style-textfill-fill-themecolor: text1\; ms
 o-style-textfill-fill-color: black\; mso-style-textfill-fill-alpha: 100.0%
 \;&quot;&gt;The day featured two key activities: a PowerPoint Presentation Competi
 tion and an Arduino Workshop. The presentation competition\, held from 10:
 30 a.m. to 12:30 p.m.\, saw 12 students showcase innovative ideas and emer
 ging technologies\, including solutions for women&amp;rsquo\;s safety using AI
 \, smart fabrics\, and energy storage. After lunch\, from 2:00 p.m. to 4:0
 0 p.m.\, Dr. Ritu Boora led an Arduino Workshop attended by 30 students\, 
 providing them with hands-on experience in Arduino programming and practic
 al applications. The valedictory session at 4:00 pm marked the official cl
 osing of the IEEE Day 2024 celebrations in which trophies and certificates
  were given to the competition winners\, volunteers and participating stud
 ents. The event was concluded with a vote of thanks by Dr. Priyanka Dalal\
 , who expressed gratitude to the CRFID-APS Joint Chapter\, Delhi section f
 or sponsoring the event.&lt;/span&gt;&lt;/p&gt;\n&lt;p style=&quot;language: en-US\; margin-to
 p: 0pt\; margin-bottom: 0pt\; margin-left: 0in\; text-align: justify\; tex
 t-justify: inter-ideograph\; direction: ltr\; unicode-bidi: embed\; mso-li
 ne-break-override: none\; word-break: normal\; punctuation-wrap: hanging\;
 &quot;&gt;&lt;span style=&quot;font-size: 18.0pt\; font-family: Calibri\; mso-ascii-font-f
 amily: Calibri\; mso-fareast-font-family: +mn-ea\; mso-bidi-font-family: +
 mn-cs\; mso-ascii-theme-font: minor-latin\; mso-fareast-theme-font: minor-
 fareast\; mso-bidi-theme-font: minor-bidi\; color: black\; mso-color-index
 : 1\; mso-font-kerning: 12.0pt\; language: en-US\; mso-style-textfill-type
 : solid\; mso-style-textfill-fill-themecolor: text1\; mso-style-textfill-f
 ill-color: black\; mso-style-textfill-fill-alpha: 100.0%\;&quot;&gt;The event was 
 a resounding success\, fostering innovation\, technical learning\, and col
 laboration between students and faculty.&lt;/span&gt;&lt;/p&gt;\n&lt;p style=&quot;language: e
 n-US\; margin-top: 0pt\; margin-bottom: 0pt\; margin-left: 0in\; text-alig
 n: justify\; text-justify: inter-ideograph\; direction: ltr\; unicode-bidi
 : embed\; mso-line-break-override: none\; word-break: normal\; punctuation
 -wrap: hanging\;&quot;&gt;&amp;nbsp\;&lt;/p&gt;\n&lt;p style=&quot;language: en-US\; margin-top: 0pt
 \; margin-bottom: 0pt\; margin-left: 0in\; text-align: justify\; text-just
 ify: inter-ideograph\; direction: ltr\; unicode-bidi: embed\; mso-line-bre
 ak-override: none\; word-break: normal\; punctuation-wrap: hanging\;&quot;&gt;&lt;spa
 n style=&quot;font-size: 18.0pt\; font-family: Calibri\; mso-ascii-font-family:
  Calibri\; mso-fareast-font-family: +mn-ea\; mso-bidi-font-family: +mn-cs\
 ; mso-ascii-theme-font: minor-latin\; mso-fareast-theme-font: minor-fareas
 t\; mso-bidi-theme-font: minor-bidi\; color: black\; mso-color-index: 1\; 
 mso-font-kerning: 12.0pt\; language: en-US\; mso-style-textfill-type: soli
 d\; mso-style-textfill-fill-themecolor: text1\; mso-style-textfill-fill-co
 lor: black\; mso-style-textfill-fill-alpha: 100.0%\;&quot;&gt;&lt;img src=&quot;https://ev
 ents.vtools.ieee.org/vtools_ui/media/display/42c64026-51c4-4aaf-b2f6-fa1b2
 ddbd59d&quot; width=&quot;572&quot; height=&quot;255&quot;&gt;&lt;/span&gt;&lt;/p&gt;
END:VEVENT
END:VCALENDAR

