BEGIN:VCALENDAR
VERSION:2.0
PRODID:IEEE vTools.Events//EN
CALSCALE:GREGORIAN
BEGIN:VTIMEZONE
TZID:Europe/Berlin
BEGIN:DAYLIGHT
DTSTART:20250330T030000
TZOFFSETFROM:+0100
TZOFFSETTO:+0200
RRULE:FREQ=YEARLY;BYDAY=-1SU;BYMONTH=3
TZNAME:CEST
END:DAYLIGHT
BEGIN:STANDARD
DTSTART:20241027T020000
TZOFFSETFROM:+0200
TZOFFSETTO:+0100
RRULE:FREQ=YEARLY;BYDAY=-1SU;BYMONTH=10
TZNAME:CET
END:STANDARD
END:VTIMEZONE
BEGIN:VEVENT
DTSTAMP:20241118T110010Z
UID:1E1AAF37-6C87-47B6-96AA-52428F7D95F1
DTSTART;TZID=Europe/Berlin:20241115T180000
DTEND;TZID=Europe/Berlin:20241115T193000
DESCRIPTION:Printed and flexible electronics enable interesting novel appli
 cations in the fields of sensors [1]\, bioelectronics [2]\, and security a
 pplications [3]\, to name but a few. Most of them gain their functionality
  from a layered structure composed of different materials that interact wi
 th each other. For semiconducting layers\, organic and inorganic materials
  can be used\; in this regard\, the respective functional materials need t
 o be formulated into inks that are then printed on various substrates. The
  structuring process of printing is a complex process in which many chemic
 al and physical process parameters need to be controlled at the same time\
 , such as drop volume\, the waveform of the electrical signal controlling 
 droplet formation\, or the drying time. Also\, the surface of the substrat
 e plays a decisive role in printing accuracy and layer morphology. After p
 rinting\, post-treatments are often necessary to obtain the desired featur
 es\, since the properties of bulk materials often differ from printed nano
 particulate or precursor-derived layers.\n\nThis presentation starts by in
 troducing various semiconducting inks based on either nanoparticle or prec
 ursor solutions and discusses thin film properties\, microstructure\, and 
 finally the step-by-step device fabrication processes. Various printing te
 chniques such as (super)-inkjet\, laser printing and microplotting will be
  shown. These printed materials display advantages such as high carrier mo
 bilities\, transparency\, stability in air\, non-toxicity\, and can be pre
 pared mostly by using water or alcohol-based solvents. Finally\, examples 
 of hybrid sensor systems comprising printed and standard CMOS components w
 ill be elaborated on.\n\n[1] Cadilha Marques\, Gabriel\, Dennis Weller\, A
 hmet Turan Erozan\, Xiaowei Feng\, Mehdi Tahoori\, und Jasmin Aghassi‐Ha
 gmann. „Progress Report on “From Printed Electrolyte‐Gated Metal‐O
 xide Devices to Circuits”. Advanced Materials 31\, Nr. 26 (Juni 2019): 1
 806483. https://doi.org/10.1002/adma.201806483.\n\n[2] Mahsa K. Saghafi\, 
 Srivatsan K. Vasantham\, Navid Hussain\, George Mathew\, Federico Colombo\
 , Barbara Schamberger\, Eric Pohl\, Gabriel Cadilha Marques\, Ben Breitung
 \, Motomu Tanaka\, Martin Bastmeyer\, Christine Selhuber-Unkel\, Ute Schep
 ers\, Michael Hirtz\, Jasmin Aghassi-Hagmann\, “Printed Electronic Devic
 es and Systems for Interfacing with Single Cells up to Organoids”\, Adv.
  Funct. Mat.\, Early View\, 2023\, https://doi.org/10.1002/adfm.202308613\
 n\n[3] Zimmermann\, Lukas\, Alexander Scholz\, Mehdi B. Tahoori\, Jasmin A
 ghassi-Hagmann\, und Axel Sikora. „Design and Evaluation of a Printed An
 alog-Based Differential Physical Unclonable Function“. IEEE Transactions
  on Very Large Scale Integration (VLSI) Systems 27\, Nr. 11 (November 2019
 ): 2498–2510. https://doi.org/10.1109/TVLSI.2019.2924081.\n\nSpeaker(s):
  Jasmin Aghassi-Hagmann\n\nAgenda: \n- Introduction and greetings - 5 minu
 tes\n- Main talk - 55 to 60 minutes\n- Q&amp;A - 25 to 30 minutes\n\nVirtual: 
 https://events.vtools.ieee.org/m/441293
LOCATION:Virtual: https://events.vtools.ieee.org/m/441293
ORGANIZER:moustafa.nawito@gmail.com
SEQUENCE:68
SUMMARY:Recent advances in printable materials and thin film electronic dev
 ices and circuits
URL;VALUE=URI:https://events.vtools.ieee.org/m/441293
X-ALT-DESC:Description: &lt;br /&gt;&lt;p class=&quot;MsoNormal&quot; style=&quot;text-align: justi
 fy\; line-height: 1.5\;&quot;&gt;&lt;span lang=&quot;EN-US&quot; style=&quot;mso-ansi-language: EN-U
 S\;&quot;&gt;Printed and flexible electronics enable interesting novel application
 s in the fields of sensors [1]\, bioelectronics [2]\, and security applica
 tions [3]\, to name but a few. Most of them gain their functionality from 
 a layered structure composed of different materials that interact with eac
 h other. For semiconducting layers\, organic and inorganic materials can b
 e used\; in this regard\, the respective functional materials need to be f
 ormulated into inks that are then printed on various substrates. The struc
 turing process of printing is a complex process in which many chemical and
  physical process parameters need to be controlled at the same time\, such
  as drop volume\, the waveform of the electrical signal controlling drople
 t formation\, or the drying time. Also\, the surface of the substrate play
 s a decisive role in printing accuracy and layer morphology. After printin
 g\, post-treatments are often necessary to obtain the desired features\, s
 ince the properties of bulk materials often differ from printed nanopartic
 ulate or precursor-derived layers. &lt;/span&gt;&lt;/p&gt;\n&lt;p class=&quot;MsoNormal&quot; style
 =&quot;text-align: justify\; line-height: 1.5\;&quot;&gt;&lt;span lang=&quot;EN-US&quot; style=&quot;mso-
 ansi-language: EN-US\;&quot;&gt;This presentation starts by introducing various se
 miconducting inks based on either nanoparticle or precursor solutions and 
 discusses thin film properties\, microstructure\, and finally the step-by-
 step device fabrication processes. Various printing techniques such as (su
 per)-inkjet\, laser printing and microplotting will be shown. These printe
 d materials display advantages such as high carrier mobilities\, transpare
 ncy\, stability in air\, non-toxicity\, and can be prepared mostly by usin
 g water or alcohol-based solvents. Finally\, examples of hybrid sensor sys
 tems comprising printed and standard CMOS components will be elaborated on
 .&lt;/span&gt;&lt;/p&gt;\n&lt;p class=&quot;MsoNormal&quot; style=&quot;text-align: justify\; line-heigh
 t: 1.5\;&quot;&gt;&lt;span lang=&quot;EN-US&quot; style=&quot;mso-ansi-language: EN-US\;&quot;&gt;&amp;nbsp\;&lt;/s
 pan&gt;&lt;/p&gt;\n&lt;p class=&quot;MsoNormal&quot; style=&quot;text-align: justify\; line-height: 1
 .5\;&quot;&gt;[1] Cadilha Marques\, Gabriel\, Dennis Weller\, Ahmet Turan Erozan\,
  Xiaowei Feng\, Mehdi Tahoori\, und Jasmin Aghassi‐Hagmann. &lt;span lang=&quot;
 EN-US&quot; style=&quot;mso-ansi-language: EN-US\;&quot;&gt;&amp;bdquo\;Progress Report on &amp;ldqu
 o\;From Printed Electrolyte‐Gated Metal‐Oxide Devices to Circuits&amp;rdqu
 o\;. &lt;em&gt;Advanced Materials&lt;/em&gt; 31\, Nr. 26 (Juni 2019): 1806483. &lt;/span&gt;
 &lt;span lang=&quot;EN-US&quot; style=&quot;mso-ansi-language: EN-US\;&quot;&gt;https://doi.org/10.1
 002/adma.201806483&lt;/span&gt;&lt;span lang=&quot;EN-US&quot; style=&quot;mso-ansi-language: EN-U
 S\;&quot;&gt;.&lt;/span&gt;&lt;/p&gt;\n&lt;p class=&quot;MsoNormal&quot; style=&quot;text-align: justify\; line-
 height: 1.5\;&quot;&gt;&lt;span lang=&quot;EN-US&quot; style=&quot;mso-ansi-language: EN-US\;&quot;&gt;[2] M
 ahsa K. Saghafi\, Srivatsan K. Vasantham\, Navid Hussain\, George Mathew\,
  Federico Colombo\, Barbara Schamberger\, Eric Pohl\, Gabriel Cadilha Marq
 ues\, Ben Breitung\, Motomu Tanaka\, Martin Bastmeyer\, Christine Selhuber
 -Unkel\, Ute Schepers\, Michael Hirtz\, Jasmin Aghassi-Hagmann\, &amp;ldquo\;P
 rinted Electronic Devices and Systems for Interfacing with Single Cells up
  to Organoids&amp;rdquo\;\, Adv. &lt;/span&gt;Funct. Mat.\, Early View\, 2023\, &lt;spa
 n style=&quot;font-size: 10.5pt\; line-height: 107%\; font-family: &#39;Arial&#39;\,san
 s-serif\; background: white\; mso-bidi-font-weight: bold\;&quot;&gt;https://doi.or
 g/10.1002/adfm.202308613&lt;/span&gt;&lt;/p&gt;\n&lt;p class=&quot;MsoNormal&quot; style=&quot;text-alig
 n: justify\; line-height: 1.5\;&quot;&gt;[3] Zimmermann\, Lukas\, Alexander Scholz
 \, Mehdi B. Tahoori\, Jasmin Aghassi-Hagmann\, und Axel Sikora. &lt;span lang
 =&quot;EN-US&quot; style=&quot;mso-ansi-language: EN-US\;&quot;&gt;&amp;bdquo\;Design and Evaluation 
 of a Printed Analog-Based Differential Physical Unclonable Function&amp;ldquo\
 ;. &lt;em&gt;IEEE Transactions on Very Large Scale Integration (VLSI) Systems&lt;/e
 m&gt; 27\, Nr. 11 (November 2019): 2498&amp;ndash\;2510. &lt;/span&gt;&lt;span lang=&quot;EN-US
 &quot; style=&quot;mso-ansi-language: EN-US\;&quot;&gt;https://doi.org/10.1109/TVLSI.2019.29
 24081&lt;/span&gt;&lt;span lang=&quot;EN-US&quot; style=&quot;mso-ansi-language: EN-US\;&quot;&gt;.&lt;/span&gt;
 &lt;/p&gt;\n&lt;p class=&quot;MsoNormal&quot; style=&quot;text-align: justify\; line-height: 1.5\;
 &quot;&gt;&lt;span lang=&quot;EN-US&quot; style=&quot;color: #1f497d\; mso-ansi-language: EN-US\;&quot;&gt;&amp;
 nbsp\;&lt;/span&gt;&lt;/p&gt;&lt;br /&gt;&lt;br /&gt;Agenda: &lt;br /&gt;&lt;ol&gt;\n&lt;li style=&quot;line-height: 1
 .5\; font-size: 12pt\;&quot;&gt;&lt;span style=&quot;font-size: 12pt\;&quot;&gt;Introduction and g
 reetings - 5 minutes&lt;/span&gt;&lt;/li&gt;\n&lt;li style=&quot;line-height: 1.5\; font-size:
  12pt\;&quot;&gt;&lt;span style=&quot;font-size: 12pt\;&quot;&gt;Main talk - 55 to 60 minutes&lt;/spa
 n&gt;&lt;/li&gt;\n&lt;li style=&quot;line-height: 1.5\; font-size: 12pt\;&quot;&gt;&lt;span style=&quot;fon
 t-size: 12pt\;&quot;&gt;Q&amp;amp\;A - 25 to 30 minutes&lt;/span&gt;&lt;/li&gt;\n&lt;/ol&gt;
END:VEVENT
END:VCALENDAR

