BEGIN:VCALENDAR
VERSION:2.0
PRODID:IEEE vTools.Events//EN
CALSCALE:GREGORIAN
BEGIN:VTIMEZONE
TZID:America/New_York
BEGIN:DAYLIGHT
DTSTART:20250309T030000
TZOFFSETFROM:-0500
TZOFFSETTO:-0400
RRULE:FREQ=YEARLY;BYDAY=2SU;BYMONTH=3
TZNAME:EDT
END:DAYLIGHT
BEGIN:STANDARD
DTSTART:20241103T010000
TZOFFSETFROM:-0400
TZOFFSETTO:-0500
RRULE:FREQ=YEARLY;BYDAY=1SU;BYMONTH=11
TZNAME:EST
END:STANDARD
END:VTIMEZONE
BEGIN:VEVENT
DTSTAMP:20250314T001747Z
UID:4FF8E046-F920-4FE8-8617-D5AA6A4B9BB3
DTSTART;TZID=America/New_York:20241214T173000
DTEND;TZID=America/New_York:20241214T220000
DESCRIPTION:You are cordially invited to attend the 2024 Annual General Mee
 ting (AGM) of the Hamilton Section taking place at Holiday Inn &amp; Suites Oa
 kville @ Bronte on Saturday\, December 14\, 2024 starting at 5:30 PM.\n\nU
 PDATE Special Guests/speakers confirmed: Dr. Tom Murad\, President IEEE Ca
 nada. David H. Whyte\, IEEE Canada Foundation. Chris Norris\, Keynote Spea
 ker Director of Hydrogen at Siemens Energy. Past Chair\, Board of Director
 s - Canadian Hydrogen and Fuel Cell Association.\n\nUPDATE. Extended regis
 tration deadline is December 10\, 2024.\n\nCost: $20 for IEEE members\, $1
 0 for students or graduate student members\, $30 for non-IEEE member guest
 .\n\nRegistration fees inclusive of deluxe dinner of your choice (beef\, c
 hicken\, seafood\, or vegetarian).\n\nParking is available at the venue fo
 r free.\n\nPlease register by the deadline and pay by credit card. Multipl
 e registrations can be done at the same time\, click &quot;Add Another Guest&quot; b
 efore you click &quot;Register and Pay Now&quot;.\n\nEach attendee must register so 
 that a name tag is created for you.\n\nAgenda: \nProgram:\n5:30 PM: Regist
 ration\, Networking\, hors d&#39;oeuvres.\n6:00 PM: Dinner Served.\n6:20 PM: A
 GM Presentations by Special Guests (while you eat).\n\n-Dr. Tom Murad\, Pr
 esident IEEE Canada.\n-David H. Whyte\, IEEE Canada Foundation.\n-Chris No
 rris\, Keynote Speaker. Director of Hydrogen at Siemens Energy. Past Chair
 \, Board of Directors - Canadian Hydrogen and Fuel Cell Association.\n\n7:
 40 PM: IEEE Hamilton Exec. Committee 2024 report (incl. 2025 election resu
 lts).\n\n• Dress code is elegant casual.\n\nRoom: /Room Name: Royal Room
 \, Bldg: Holiday Inn &amp; Suites Oakville @ Bronte\, 2525 Wyecroft Rd.\, Oakv
 ille\, Ontario\, Canada\, L6L 6P8
LOCATION:Room: /Room Name: Royal Room\, Bldg: Holiday Inn &amp; Suites Oakville
  @ Bronte\, 2525 Wyecroft Rd.\, Oakville\, Ontario\, Canada\, L6L 6P8
ORGANIZER:eduardo.gomez.hennig@ieee.org
SEQUENCE:50
SUMMARY:2024 HAMILTON SECTION ANNUAL GENERAL MEETING - Dec. 14 (Saturday) =
 &gt;Registration Deadline extended to Dec. 10. Special guests: Dr. Tom Murad\
 , President IEEE Canada. David Whyte\, IEEE Canada Foundation\, Chris Norr
 is\, Keynote Speaker.
URL;VALUE=URI:https://events.vtools.ieee.org/m/441732
X-ALT-DESC:Description: &lt;br /&gt;&lt;p&gt;You are cordially invited to attend the 20
 24 Annual General Meeting (AGM) of the Hamilton Section taking place at Ho
 liday Inn &amp;amp\; Suites Oakville @ Bronte on &lt;span style=&quot;text-decoration:
  underline\;&quot;&gt;&lt;span style=&quot;color: rgb(0\, 0\, 0)\; text-decoration: underl
 ine\;&quot;&gt;Saturday&lt;/span&gt;&lt;/span&gt;\, December 14\, 2024 starting at 5:30 PM.&lt;/p
 &gt;\n&lt;p&gt;&lt;strong&gt;UPDATE&amp;nbsp\;&lt;/strong&gt;Special Guests/speakers confirmed: Dr.
  Tom Murad\,&lt;strong&gt; President IEEE Canada. &lt;/strong&gt;David H. Whyte\, &lt;str
 ong&gt;IEEE Canada Foundation. &lt;/strong&gt;Chris Norris\, &lt;strong&gt;Keynote Speake
 r&lt;/strong&gt;&amp;nbsp\;Director of Hydrogen at Siemens Energy. Past Chair\, Boar
 d of Directors - Canadian Hydrogen and Fuel Cell Association.&lt;/p&gt;\n&lt;p&gt;&lt;str
 ong&gt;UPDATE&lt;/strong&gt;&lt;span style=&quot;background-color: rgb(255\, 255\, 255)\;&quot;&gt;
 . &lt;/span&gt;&lt;span style=&quot;text-decoration: underline\;&quot;&gt;&lt;span style=&quot;backgroun
 d-color: rgb(255\, 255\, 255)\;&quot;&gt;Extended re&lt;/span&gt;gistration deadline is 
 &lt;strong&gt;December 10&lt;/strong&gt;\, 2024&lt;/span&gt;.&amp;nbsp\;&lt;/p&gt;\n&lt;p&gt;Cost: $20 for I
 EEE members\, $10 for students or graduate student members\, $30 for non-I
 EEE member guest.&amp;nbsp\;&lt;/p&gt;\n&lt;p&gt;Registration fees inclusive of deluxe din
 ner of your choice (beef\, chicken\, seafood\, or vegetarian).&lt;/p&gt;\n&lt;p&gt;Par
 king is available at the venue for free.&lt;/p&gt;\n&lt;p&gt;Please register by the de
 adline and pay by credit card. Multiple registrations can be done at the s
 ame time\, click &quot;Add Another Guest&quot; before you click &quot;Register and Pay No
 w&quot;.&lt;/p&gt;\n&lt;p&gt;Each attendee must register so that a name tag is created for 
 you.&lt;/p&gt;&lt;br /&gt;&lt;br /&gt;Agenda: &lt;br /&gt;&lt;p class=&quot;MsoNormal&quot; style=&quot;line-height:
  normal\;&quot;&gt;&amp;nbsp\;&lt;/p&gt;\n&lt;p class=&quot;MsoNormal&quot; style=&quot;margin-bottom: 0in\; l
 ine-height: normal\;&quot;&gt;&lt;strong&gt;&lt;u&gt;Program&lt;/u&gt;&lt;/strong&gt;:&lt;br&gt;&lt;strong&gt;5:30 PM&lt;
 /strong&gt;: Registration\, Networking\, hors d&#39;oeuvres. &lt;br&gt;&lt;strong&gt;6:00 PM&lt;
 /strong&gt;: Dinner Served.&lt;br&gt;&lt;strong&gt;6:20 PM: &lt;/strong&gt;AGM Presentations by
  Special Guests (while you eat).&lt;/p&gt;\n&lt;p class=&quot;MsoNormal&quot; style=&quot;margin-b
 ottom: 0in\; line-height: normal\;&quot;&gt;&lt;strong&gt;-&lt;/strong&gt;Dr. Tom Murad\, &lt;str
 ong&gt;President IEEE Canada.&lt;br&gt;-&lt;/strong&gt;David H. Whyte\, &lt;strong&gt;IEEE Cana
 da Foundation.&lt;br&gt;-&lt;/strong&gt;Chris Norris\, &lt;strong&gt;Keynote Speaker&lt;/strong
 &gt;. Director of Hydrogen at Siemens Energy. Past Chair\, Board of Directors
  - Canadian Hydrogen and Fuel Cell Association.&lt;/p&gt;\n&lt;p class=&quot;MsoNormal&quot; 
 style=&quot;margin-bottom: 0in\; line-height: normal\;&quot;&gt;&lt;strong&gt;7:40 PM:&lt;/stron
 g&gt; IEEE Hamilton Exec. Committee 2024 report (incl. 2025 election results)
 .&lt;/p&gt;\n&lt;p class=&quot;MsoNormal&quot; style=&quot;margin-bottom: 0in\; line-height: norma
 l\;&quot;&gt;&lt;strong&gt;&lt;u&gt;&lt;span style=&quot;font-size: 11.0pt\; line-height: 107%\; font-
 family: &#39;Aptos&#39;\,sans-serif\; mso-ascii-theme-font: minor-latin\; mso-fare
 ast-font-family: Aptos\; mso-fareast-theme-font: minor-latin\; mso-hansi-t
 heme-font: minor-latin\; mso-bidi-font-family: &#39;Times New Roman&#39;\; mso-bid
 i-theme-font: minor-bidi\; mso-ansi-language: EN-US\; mso-fareast-language
 : EN-US\; mso-bidi-language: AR-SA\;&quot;&gt;&amp;bull\; Dress code is elegant casual
 .&lt;br style=&quot;mso-special-character: line-break\;&quot;&gt;&lt;!-- [if !supportLineBrea
 kNewLine]--&gt;&lt;br style=&quot;mso-special-character: line-break\;&quot;&gt;&lt;!--[endif]--&gt;
 &lt;/span&gt;&lt;/u&gt;&lt;/strong&gt;&lt;/p&gt;
END:VEVENT
END:VCALENDAR

