BEGIN:VCALENDAR
VERSION:2.0
PRODID:IEEE vTools.Events//EN
CALSCALE:GREGORIAN
BEGIN:VTIMEZONE
TZID:Asia/Shanghai
BEGIN:STANDARD
DTSTART:19910915T010000
TZOFFSETFROM:+0900
TZOFFSETTO:+0800
TZNAME:CST
END:STANDARD
END:VTIMEZONE
BEGIN:VEVENT
DTSTAMP:20241023T035740Z
UID:1FAE2ECD-260F-4AD6-BA22-767FEB5F5429
DTSTART;TZID=Asia/Shanghai:20240714T112700
DTEND;TZID=Asia/Shanghai:20241018T112700
DESCRIPTION:2024年7月14日至17日，由中国核学会核电子学与核
 探测技术分会（以下简称分会）与中国科学院高能物理
 研究所（以下简称高能所）联合主办、山东大学、山东
 核电有限公司、核探测与核电子学国家重点实验室、IEEE 
 NPSS Beijing Chapter承办的第二十二届全国核电子学与核探测
 技术学术年会暨第十二届全国先进气体探测器研讨会在
 山东青岛召开。分会副理事长兼秘书长、中国科学院高
 能物理研究所朱科军研究员主持会议，分会理事长、中
 国科学院高能物理研究所研究员魏龙、山东大学前沿交
 叉科学青岛研究院院长黄性涛、山东核电有限公司王翔
 宇处长参加会议并致辞。来自全国各地80个科研院所、高
 等院校、企事业单位的433名专家学者、科技工作者及研
 究生参加了会议。\n\n会议特邀清华大学、中国科学院国
 家天文台、中国科学院高能物理研究所、上海交通大学
 李政道研究所、中国科学院微电子研究所、中国原子能
 科学研究院、中国工程物理研究院、中国科学技术大学
 等单位的15位专家做了大会报告。本次会议共征集会议摘
 要154篇，其中134篇分别做了分会场口头报告。报告的技
 术内涵深邃丰富，高度和广度兼备，报告人的讲述深入
 浅出，深受与会代表们的欢迎。报告的内容反映了分会
 各专业发展的强劲势头，集中突出地彰显了分会所属各
 专业发展的高端领衔水平，激发了与会代表们的浓厚兴
 趣和强烈共鸣。\n\n[]\n\nCo-sponsored by: 中国核学会核电子
 学与核探测技术分会、中国科学院高能物理研究所、山
 东大学、山东核电有限公司、核探测与核电子学国家重
 点实验室\n\nSpeaker(s): 唐传祥\, 凌志兴\, 魏微\, 徐东莲\, 
 叶竞波\, 欧阳群\, 曹立强，卜建辉\, 樊瑞睿\, 曾志\, 柳
 卫平\, 董明义\, 张正德\, 章法强\, 王建春\, 陈明君\, 封
 常青\, 刘振安\n\nAgenda: \n7月14日\n\n会议报到（14:00-17:00）
 \n\n地点：山东青岛黄海饭店（青岛市南区延安一路75号
 ）\n\n7月15日\n\n全天：全体会议，大会开幕式及大会邀请
 报告\n\n晚间：核电子学与核探测技术分会第十届理事会
 会议\n\n7月16日\n\n全天：分会场报告\n\n7月17日\n\n上午：
 分会场报告\n\n下午：全体会议，大会邀请报告及闭幕式\
 n\n7月18日\n\n离会\n\nhttps://indico.ihep.ac.cn/event/22017/timetable/
 \n\nQingdao\, Shandong\, China
LOCATION:Qingdao\, Shandong\, China
ORGANIZER:chenml@ihep.ac.cn
SEQUENCE:3
SUMMARY:第二十二届全国核电子学与核探测技术学术年会 暨
 第十二届全国先进气体探测器研讨会The 22nd National Annual C
 onference on Nuclear Electronics and Nuclear Detection Technology and the 
 12th National Advanced Gas Detector Symposium
URL;VALUE=URI:https://events.vtools.ieee.org/m/441769
X-ALT-DESC:Description: &lt;br /&gt;&lt;p&gt;&lt;span lang=&quot;EN-US&quot; style=&quot;font-size: 15.0p
 t\; font-family: 仿宋\; mso-bidi-font-family: 宋体\; color: #424242\; 
 mso-font-kerning: 0pt\; mso-ansi-language: EN-US\; mso-fareast-language: Z
 H-CN\; mso-bidi-language: AR-SA\;&quot;&gt;2024&lt;/span&gt;&lt;span style=&quot;font-size: 15.0
 pt\; font-family: 仿宋\; mso-bidi-font-family: 宋体\; color: #424242\;
  mso-font-kerning: 0pt\; mso-ansi-language: EN-US\; mso-fareast-language: 
 ZH-CN\; mso-bidi-language: AR-SA\;&quot;&gt;年&lt;span lang=&quot;EN-US&quot;&gt;7&lt;/span&gt;月&lt;span
  lang=&quot;EN-US&quot;&gt;14&lt;/span&gt;日至&lt;span lang=&quot;EN-US&quot;&gt;17&lt;/span&gt;日，由中国
 核学会核电子学与核探测技术分会（以下简称分会）与
 中国科学院高能物理研究所（以下简称高能所）联合主
 办、山东大学、山东核电有限公司、核探测与核电子学
 国家重点实验室、&lt;span lang=&quot;EN-US&quot;&gt;IEEE NPSS Beijing Chapter&lt;/span
 &gt;承办的第二十二届全国核电子学与核探测技术学术年会
 暨第十二届全国先进气体探测器研讨会在山东青岛召开
 。分会副理事长兼秘书长、中国科学院高能物理研究所
 朱科军研究员主持会议，分会理事长、中国科学院高能
 物理研究所研究员魏龙、山东大学前沿交叉科学青岛研
 究院院长黄性涛、山东核电有限公司王翔宇处长参加会
 议并致辞。来自全国各地&lt;span lang=&quot;EN-US&quot;&gt;80&lt;/span&gt;个科研院
 所、高等院校、企事业单位的&lt;span lang=&quot;EN-US&quot;&gt;433&lt;/span&gt;名专
 家学者、科技工作者及研究生参加了会议。&lt;/span&gt;&lt;/p&gt;\n&lt;p&gt;&lt;
 span style=&quot;font-size: 15.0pt\; font-family: 仿宋\; mso-bidi-font-family
 : 宋体\; color: #424242\; mso-font-kerning: 0pt\;&quot;&gt;会议特邀清华大
 学、中国科学院国家天文台、中国科学院高能物理研究
 所、上海交通大学李政道研究所、中国科学院微电子研
 究所、中国原子能科学研究院、中国工程物理研究院、
 中国科学技术大学等单位的&lt;span lang=&quot;EN-US&quot;&gt;15&lt;/span&gt;位专家
 做了大会报告。本次会议共征集会议摘要&lt;span lang=&quot;EN-US&quot;&gt;1
 54&lt;/span&gt;篇，其中&lt;span lang=&quot;EN-US&quot;&gt;134&lt;/span&gt;篇分别做了分会场
 口头报告。报告的技术内涵深邃丰富，高度和广度兼备
 ，报告人的讲述深入浅出，深受与会代表们的欢迎。报
 告的内容反映了分会各专业发展的强劲势头，集中突出
 地彰显了分会所属各专业发展的高端领衔水平，激发了
 与会代表们的浓厚兴趣和强烈共鸣。&lt;/span&gt;&lt;/p&gt;\n&lt;p&gt;&lt;span styl
 e=&quot;font-size: 15.0pt\; font-family: 仿宋\; mso-bidi-font-family: 宋体\
 ; color: #424242\; mso-font-kerning: 0pt\;&quot;&gt;&lt;img src=&quot;https://events.vtool
 s.ieee.org/vtools_ui/media/display/366c692f-c84b-42a8-aa16-556a14432b92&quot; a
 lt=&quot;&quot; width=&quot;1000&quot;&gt;&lt;/span&gt;&lt;/p&gt;&lt;br /&gt;&lt;br /&gt;Agenda: &lt;br /&gt;&lt;table class=&quot;MsoT
 ableGrid&quot; style=&quot;border-collapse: collapse\; border: none\; mso-border-alt
 : solid windowtext .5pt\; mso-yfti-tbllook: 1184\; mso-padding-alt: 0cm 5.
 4pt 0cm 5.4pt\;&quot; border=&quot;1&quot; cellspacing=&quot;0&quot; cellpadding=&quot;0&quot;&gt;\n&lt;tbody&gt;\n&lt;tr
  style=&quot;mso-yfti-irow: 0\; mso-yfti-firstrow: yes\;&quot;&gt;\n&lt;td style=&quot;width: 8
 3.4pt\; border: solid windowtext 1.0pt\; mso-border-alt: solid windowtext 
 .5pt\; padding: 0cm 5.4pt 0cm 5.4pt\;&quot; width=&quot;111&quot;&gt;\n&lt;p class=&quot;MsoNormal&quot; 
 style=&quot;text-align: center\;&quot; align=&quot;center&quot;&gt;&lt;span lang=&quot;EN-US&quot; style=&quot;font
 -size: 16.0pt\; mso-bidi-font-size: 12.0pt\; mso-fareast-font-family: 仿
 宋_GB2312\;&quot;&gt;7&lt;/span&gt;&lt;span style=&quot;font-size: 16.0pt\; mso-bidi-font-size:
  12.0pt\; font-family: 仿宋_GB2312\; mso-ascii-font-family: &#39;Times New R
 oman&#39;\;&quot;&gt;月&lt;/span&gt;&lt;span lang=&quot;EN-US&quot; style=&quot;font-size: 16.0pt\; mso-bidi-
 font-size: 12.0pt\; mso-fareast-font-family: 仿宋_GB2312\;&quot;&gt;14&lt;/span&gt;&lt;sp
 an style=&quot;font-size: 16.0pt\; mso-bidi-font-size: 12.0pt\; font-family: 
 仿宋_GB2312\; mso-ascii-font-family: &#39;Times New Roman&#39;\;&quot;&gt;日&lt;/span&gt;&lt;/p&gt;
 \n&lt;/td&gt;\n&lt;td style=&quot;width: 342.7pt\; border: solid windowtext 1.0pt\; bord
 er-left: none\; mso-border-left-alt: solid windowtext .5pt\; mso-border-al
 t: solid windowtext .5pt\; padding: 0cm 5.4pt 0cm 5.4pt\;&quot; valign=&quot;top&quot; wi
 dth=&quot;457&quot;&gt;\n&lt;p class=&quot;MsoNormal&quot;&gt;&lt;span style=&quot;font-size: 16.0pt\; mso-bidi
 -font-size: 12.0pt\; font-family: 仿宋_GB2312\; mso-ascii-font-family: &#39;
 Times New Roman&#39;\;&quot;&gt;会议报到（&lt;/span&gt;&lt;span lang=&quot;EN-US&quot; style=&quot;font-s
 ize: 16.0pt\; mso-bidi-font-size: 12.0pt\; mso-fareast-font-family: 仿宋
 _GB2312\;&quot;&gt;14:00-17:00&lt;/span&gt;&lt;span style=&quot;font-size: 16.0pt\; mso-bidi-fon
 t-size: 12.0pt\; font-family: 仿宋_GB2312\; mso-ascii-font-family: &#39;Time
 s New Roman&#39;\;&quot;&gt;）&lt;/span&gt;&lt;/p&gt;\n&lt;p class=&quot;MsoNormal&quot;&gt;&lt;span style=&quot;font-siz
 e: 16.0pt\; mso-bidi-font-size: 12.0pt\; font-family: 仿宋_GB2312\; mso-
 ascii-font-family: &#39;Times New Roman&#39;\;&quot;&gt;地点：山东青岛黄海饭店
 （青岛市南区延安一路&lt;/span&gt;&lt;span lang=&quot;EN-US&quot; style=&quot;font-size: 
 16.0pt\; mso-bidi-font-size: 12.0pt\; mso-fareast-font-family: 仿宋_GB23
 12\;&quot;&gt;75&lt;/span&gt;&lt;span style=&quot;font-size: 16.0pt\; mso-bidi-font-size: 12.0pt
 \; font-family: 仿宋_GB2312\; mso-ascii-font-family: &#39;Times New Roman&#39;\;
 &quot;&gt;号）&lt;/span&gt;&lt;/p&gt;\n&lt;/td&gt;\n&lt;/tr&gt;\n&lt;tr style=&quot;mso-yfti-irow: 1\;&quot;&gt;\n&lt;td st
 yle=&quot;width: 83.4pt\; border: solid windowtext 1.0pt\; border-top: none\; m
 so-border-top-alt: solid windowtext .5pt\; mso-border-alt: solid windowtex
 t .5pt\; padding: 0cm 5.4pt 0cm 5.4pt\;&quot; width=&quot;111&quot;&gt;\n&lt;p class=&quot;MsoNormal
 &quot; style=&quot;text-align: center\;&quot; align=&quot;center&quot;&gt;&lt;span lang=&quot;EN-US&quot; style=&quot;fo
 nt-size: 16.0pt\; mso-bidi-font-size: 12.0pt\; mso-fareast-font-family: 
 仿宋_GB2312\;&quot;&gt;7&lt;/span&gt;&lt;span style=&quot;font-size: 16.0pt\; mso-bidi-font-si
 ze: 12.0pt\; font-family: 仿宋_GB2312\; mso-ascii-font-family: &#39;Times Ne
 w Roman&#39;\;&quot;&gt;月&lt;/span&gt;&lt;span lang=&quot;EN-US&quot; style=&quot;font-size: 16.0pt\; mso-bi
 di-font-size: 12.0pt\; mso-fareast-font-family: 仿宋_GB2312\;&quot;&gt;15&lt;/span&gt;
 &lt;span style=&quot;font-size: 16.0pt\; mso-bidi-font-size: 12.0pt\; font-family:
  仿宋_GB2312\; mso-ascii-font-family: &#39;Times New Roman&#39;\;&quot;&gt;日&lt;/span&gt;&lt;/p
 &gt;\n&lt;/td&gt;\n&lt;td style=&quot;width: 342.7pt\; border-top: none\; border-left: none
 \; border-bottom: solid windowtext 1.0pt\; border-right: solid windowtext 
 1.0pt\; mso-border-top-alt: solid windowtext .5pt\; mso-border-left-alt: s
 olid windowtext .5pt\; mso-border-alt: solid windowtext .5pt\; padding: 0c
 m 5.4pt 0cm 5.4pt\;&quot; valign=&quot;top&quot; width=&quot;457&quot;&gt;\n&lt;p class=&quot;MsoNormal&quot;&gt;&lt;span
  style=&quot;font-size: 16.0pt\; mso-bidi-font-size: 12.0pt\; font-family: 仿
 宋_GB2312\; mso-ascii-font-family: &#39;Times New Roman&#39;\;&quot;&gt;全天：全体
 会议，大会开幕式及大会邀请报告&lt;/span&gt;&lt;/p&gt;\n&lt;p class=&quot;MsoNor
 mal&quot;&gt;&lt;span style=&quot;font-size: 16.0pt\; mso-bidi-font-size: 12.0pt\; font-fa
 mily: 仿宋_GB2312\; mso-ascii-font-family: &#39;Times New Roman&#39;\;&quot;&gt;晚间
 ：核电子学与核探测技术分会第十届理事会会议&lt;/span&gt;&lt;/p&gt;
 \n&lt;/td&gt;\n&lt;/tr&gt;\n&lt;tr style=&quot;mso-yfti-irow: 2\;&quot;&gt;\n&lt;td style=&quot;width: 83.4pt\
 ; border: solid windowtext 1.0pt\; border-top: none\; mso-border-top-alt: 
 solid windowtext .5pt\; mso-border-alt: solid windowtext .5pt\; padding: 0
 cm 5.4pt 0cm 5.4pt\;&quot; width=&quot;111&quot;&gt;\n&lt;p class=&quot;MsoNormal&quot; style=&quot;text-align
 : center\;&quot; align=&quot;center&quot;&gt;&lt;span lang=&quot;EN-US&quot; style=&quot;font-size: 16.0pt\; m
 so-bidi-font-size: 12.0pt\; mso-fareast-font-family: 仿宋_GB2312\;&quot;&gt;7&lt;/s
 pan&gt;&lt;span style=&quot;font-size: 16.0pt\; mso-bidi-font-size: 12.0pt\; font-fam
 ily: 仿宋_GB2312\; mso-ascii-font-family: &#39;Times New Roman&#39;\;&quot;&gt;月&lt;/span
 &gt;&lt;span lang=&quot;EN-US&quot; style=&quot;font-size: 16.0pt\; mso-bidi-font-size: 12.0pt\
 ; mso-fareast-font-family: 仿宋_GB2312\;&quot;&gt;16&lt;/span&gt;&lt;span style=&quot;font-siz
 e: 16.0pt\; mso-bidi-font-size: 12.0pt\; font-family: 仿宋_GB2312\; mso-
 ascii-font-family: &#39;Times New Roman&#39;\;&quot;&gt;日&lt;/span&gt;&lt;/p&gt;\n&lt;/td&gt;\n&lt;td style=&quot;
 width: 342.7pt\; border-top: none\; border-left: none\; border-bottom: sol
 id windowtext 1.0pt\; border-right: solid windowtext 1.0pt\; mso-border-to
 p-alt: solid windowtext .5pt\; mso-border-left-alt: solid windowtext .5pt\
 ; mso-border-alt: solid windowtext .5pt\; padding: 0cm 5.4pt 0cm 5.4pt\;&quot; 
 valign=&quot;top&quot; width=&quot;457&quot;&gt;\n&lt;p class=&quot;MsoNormal&quot;&gt;&lt;span style=&quot;font-size: 16
 .0pt\; mso-bidi-font-size: 12.0pt\; font-family: 仿宋_GB2312\; mso-ascii
 -font-family: &#39;Times New Roman&#39;\;&quot;&gt;全天：分会场报告&lt;/span&gt;&lt;/p&gt;\n&lt;/
 td&gt;\n&lt;/tr&gt;\n&lt;tr style=&quot;mso-yfti-irow: 3\;&quot;&gt;\n&lt;td style=&quot;width: 83.4pt\; bo
 rder: solid windowtext 1.0pt\; border-top: none\; mso-border-top-alt: soli
 d windowtext .5pt\; mso-border-alt: solid windowtext .5pt\; padding: 0cm 5
 .4pt 0cm 5.4pt\;&quot; width=&quot;111&quot;&gt;\n&lt;p class=&quot;MsoNormal&quot; style=&quot;text-align: ce
 nter\;&quot; align=&quot;center&quot;&gt;&lt;span lang=&quot;EN-US&quot; style=&quot;font-size: 16.0pt\; mso-b
 idi-font-size: 12.0pt\; mso-fareast-font-family: 仿宋_GB2312\;&quot;&gt;7&lt;/span&gt;
 &lt;span style=&quot;font-size: 16.0pt\; mso-bidi-font-size: 12.0pt\; font-family:
  仿宋_GB2312\; mso-ascii-font-family: &#39;Times New Roman&#39;\;&quot;&gt;月&lt;/span&gt;&lt;sp
 an lang=&quot;EN-US&quot; style=&quot;font-size: 16.0pt\; mso-bidi-font-size: 12.0pt\; ms
 o-fareast-font-family: 仿宋_GB2312\;&quot;&gt;17&lt;/span&gt;&lt;span style=&quot;font-size: 1
 6.0pt\; mso-bidi-font-size: 12.0pt\; font-family: 仿宋_GB2312\; mso-asci
 i-font-family: &#39;Times New Roman&#39;\;&quot;&gt;日&lt;/span&gt;&lt;/p&gt;\n&lt;/td&gt;\n&lt;td style=&quot;widt
 h: 342.7pt\; border-top: none\; border-left: none\; border-bottom: solid w
 indowtext 1.0pt\; border-right: solid windowtext 1.0pt\; mso-border-top-al
 t: solid windowtext .5pt\; mso-border-left-alt: solid windowtext .5pt\; ms
 o-border-alt: solid windowtext .5pt\; padding: 0cm 5.4pt 0cm 5.4pt\;&quot; vali
 gn=&quot;top&quot; width=&quot;457&quot;&gt;\n&lt;p class=&quot;MsoNormal&quot;&gt;&lt;span style=&quot;font-size: 16.0pt
 \; mso-bidi-font-size: 12.0pt\; font-family: 仿宋_GB2312\; mso-ascii-fon
 t-family: &#39;Times New Roman&#39;\;&quot;&gt;上午：分会场报告&lt;/span&gt;&lt;/p&gt;\n&lt;p cla
 ss=&quot;MsoNormal&quot;&gt;&lt;span style=&quot;font-size: 16.0pt\; mso-bidi-font-size: 12.0pt
 \; font-family: 仿宋_GB2312\; mso-ascii-font-family: &#39;Times New Roman&#39;\;
 &quot;&gt;下午：全体会议，大会邀请报告及闭幕式&lt;/span&gt;&lt;/p&gt;\n&lt;/td&gt;
 \n&lt;/tr&gt;\n&lt;tr style=&quot;mso-yfti-irow: 4\; mso-yfti-lastrow: yes\;&quot;&gt;\n&lt;td styl
 e=&quot;width: 83.4pt\; border: solid windowtext 1.0pt\; border-top: none\; mso
 -border-top-alt: solid windowtext .5pt\; mso-border-alt: solid windowtext 
 .5pt\; padding: 0cm 5.4pt 0cm 5.4pt\;&quot; width=&quot;111&quot;&gt;\n&lt;p class=&quot;MsoNormal&quot; 
 style=&quot;text-align: center\;&quot; align=&quot;center&quot;&gt;&lt;span lang=&quot;EN-US&quot; style=&quot;font
 -size: 16.0pt\; mso-bidi-font-size: 12.0pt\; mso-fareast-font-family: 仿
 宋_GB2312\;&quot;&gt;7&lt;/span&gt;&lt;span style=&quot;font-size: 16.0pt\; mso-bidi-font-size:
  12.0pt\; font-family: 仿宋_GB2312\; mso-ascii-font-family: &#39;Times New R
 oman&#39;\;&quot;&gt;月&lt;/span&gt;&lt;span lang=&quot;EN-US&quot; style=&quot;font-size: 16.0pt\; mso-bidi-
 font-size: 12.0pt\; mso-fareast-font-family: 仿宋_GB2312\;&quot;&gt;18&lt;/span&gt;&lt;sp
 an style=&quot;font-size: 16.0pt\; mso-bidi-font-size: 12.0pt\; font-family: 
 仿宋_GB2312\; mso-ascii-font-family: &#39;Times New Roman&#39;\;&quot;&gt;日&lt;/span&gt;&lt;/p&gt;
 \n&lt;/td&gt;\n&lt;td style=&quot;width: 342.7pt\; border-top: none\; border-left: none\
 ; border-bottom: solid windowtext 1.0pt\; border-right: solid windowtext 1
 .0pt\; mso-border-top-alt: solid windowtext .5pt\; mso-border-left-alt: so
 lid windowtext .5pt\; mso-border-alt: solid windowtext .5pt\; padding: 0cm
  5.4pt 0cm 5.4pt\;&quot; valign=&quot;top&quot; width=&quot;457&quot;&gt;\n&lt;p class=&quot;MsoNormal&quot;&gt;&lt;span 
 style=&quot;font-size: 16.0pt\; mso-bidi-font-size: 12.0pt\; font-family: 仿
 宋_GB2312\; mso-ascii-font-family: &#39;Times New Roman&#39;\;&quot;&gt;离会&lt;/span&gt;&lt;/p&gt;
 \n&lt;/td&gt;\n&lt;/tr&gt;\n&lt;/tbody&gt;\n&lt;/table&gt;\n&lt;p&gt;&lt;a href=&quot;https://indico.ihep.ac.cn/
 event/22017/timetable/&quot;&gt;https://indico.ihep.ac.cn/event/22017/timetable/&lt;/
 a&gt;&lt;/p&gt;
END:VEVENT
END:VCALENDAR

