BEGIN:VCALENDAR
VERSION:2.0
PRODID:IEEE vTools.Events//EN
CALSCALE:GREGORIAN
BEGIN:VTIMEZONE
TZID:America/Chicago
BEGIN:DAYLIGHT
DTSTART:20250309T030000
TZOFFSETFROM:-0600
TZOFFSETTO:-0500
RRULE:FREQ=YEARLY;BYDAY=2SU;BYMONTH=3
TZNAME:CDT
END:DAYLIGHT
BEGIN:STANDARD
DTSTART:20241103T010000
TZOFFSETFROM:-0500
TZOFFSETTO:-0600
RRULE:FREQ=YEARLY;BYDAY=1SU;BYMONTH=11
TZNAME:CST
END:STANDARD
END:VTIMEZONE
BEGIN:VEVENT
DTSTAMP:20241203T134458Z
UID:E859BCAC-1C73-480F-B086-00BF36D846EA
DTSTART;TZID=America/Chicago:20241202T160000
DTEND;TZID=America/Chicago:20241202T170000
DESCRIPTION:The IEEE Alabama Section eagerly anticipates an illuminating jo
 int presentation by Sudip Manandhar and Joseph Marcrum on &quot;A Future with I
 nverter-Based Resources and Operational Challenges&quot;.\n\nThe generation fle
 et in North America\, much like in other parts of the world\, is undergoin
 g significant changes. In North America alone\, the number of Inverter-Bas
 ed Resources (IBRs) has increased dramatically compared to 10-12 years ago
 . Southern Company&#39;s generation fleet is also gradually transitioning from
  synchronous machines to inverter-based technology. Between 2017 and 2023\
 , Southern Company significantly transformed its generation fleet by conve
 rting to natural gas\, with a corresponding increase in Inverter-Based Res
 ources. Projections indicate a substantial rise in Inverter-Based Resource
 s by 2030\, making them a predominant part of our generation resource mix.
  In this presentation\, we will discuss about Inverter-Based Resources (IB
 Rs) and the system challenges associated with increased IBR penetration.\n
 \nPlease email [RoyBrown@southernco.com](mailto:roybrown@southernco.com) a
 fter attending the event if you want a PDH certificate.\n\nContact Roy lee
  brown if you cannot log in: 205-842-6761 or email for help.\n\nI will ema
 il you a Link that works for me.\n\nWe look forward to you joining us and 
 sharing this exciting program.\n\nCo-sponsored by: Sudip Manandhar\n\nSpea
 ker(s): Sudip Manandhar\, PE\, Joseph Marcrum\, PE\, \n\nAgenda: \n4:00 PM
  Presentation\n\n5:00 PM - Adjourn\n\nVirtual: https://events.vtools.ieee.
 org/m/441832
LOCATION:Virtual: https://events.vtools.ieee.org/m/441832
ORGANIZER:Chair-ALSect@ieee.org
SEQUENCE:29
SUMMARY:A Future with Inverter-Based Resources and Operational Challenges
URL;VALUE=URI:https://events.vtools.ieee.org/m/441832
X-ALT-DESC:Description: &lt;br /&gt;&lt;p class=&quot;MsoNormal&quot;&gt;The IEEE Alabama Section
  eagerly anticipates an illuminating joint presentation by Sudip Manandhar
  and Joseph Marcrum on &quot;A Future with Inverter-Based Resources and Operati
 onal Challenges&quot;.&amp;nbsp\;&lt;/p&gt;\n&lt;p class=&quot;MsoNormal&quot;&gt;The generation fleet in
  North America\, much like in other parts of the world\, is undergoing sig
 nificant changes. In North America alone\, the number of Inverter-Based Re
 sources (IBRs) has increased dramatically compared to 10-12 years ago. Sou
 thern Company&#39;s generation fleet is also gradually transitioning from sync
 hronous machines to inverter-based technology. Between 2017 and 2023\, Sou
 thern Company significantly transformed its generation fleet by converting
  to natural gas\, with a corresponding increase in Inverter-Based Resource
 s. Projections indicate a substantial rise in Inverter-Based Resources by 
 2030\, making them a predominant part of our generation resource mix. In t
 his presentation\, we will discuss about Inverter-Based Resources (IBRs) a
 nd the system challenges associated with increased IBR penetration.&lt;/p&gt;\n&lt;
 p&gt;&lt;span style=&quot;color: #ff0000\;&quot;&gt;Please email &lt;a href=&quot;mailto:roybrown@sou
 thernco.com&quot;&gt;RoyBrown@southernco.com&lt;/a&gt; after attending the event if you 
 want a PDH certificate.&lt;/span&gt;&lt;/p&gt;\n&lt;p&gt;&lt;span style=&quot;color: #ff0000\;&quot;&gt;Cont
 act Roy lee brown if you cannot log in: 205-842-6761 or email for help.&amp;nb
 sp\;&lt;/span&gt;&lt;/p&gt;\n&lt;p&gt;&lt;span style=&quot;color: #ff0000\;&quot;&gt;I will email you a Link
  that works for me.&lt;/span&gt;&lt;/p&gt;\n&lt;p&gt;&lt;span style=&quot;color: #ff0000\;&quot;&gt;We look 
 forward to you joining us and sharing this exciting program.&lt;/span&gt;&lt;/p&gt;&lt;br
  /&gt;&lt;br /&gt;Agenda: &lt;br /&gt;&lt;p&gt;&lt;span style=&quot;font-size: 12pt\;&quot;&gt;&lt;span style=&quot;fon
 t-family: arial\,helvetica\,sans-serif\;&quot;&gt;4:00 PM Presentation&lt;/span&gt;&lt;/spa
 n&gt;&lt;/p&gt;\n&lt;p&gt;&lt;span style=&quot;font-family: arial\,helvetica\,sans-serif\; font-s
 ize: 12pt\;&quot;&gt;5:00 PM - Adjourn&lt;/span&gt;&lt;/p&gt;
END:VEVENT
END:VCALENDAR

