BEGIN:VCALENDAR
VERSION:2.0
PRODID:IEEE vTools.Events//EN
CALSCALE:GREGORIAN
BEGIN:VTIMEZONE
TZID:America/Los_Angeles
BEGIN:DAYLIGHT
DTSTART:20250309T030000
TZOFFSETFROM:-0800
TZOFFSETTO:-0700
RRULE:FREQ=YEARLY;BYDAY=2SU;BYMONTH=3
TZNAME:PDT
END:DAYLIGHT
BEGIN:STANDARD
DTSTART:20241103T010000
TZOFFSETFROM:-0700
TZOFFSETTO:-0800
RRULE:FREQ=YEARLY;BYDAY=1SU;BYMONTH=11
TZNAME:PST
END:STANDARD
END:VTIMEZONE
BEGIN:VEVENT
DTSTAMP:20241206T131503Z
UID:0CF5A611-4580-428F-A7F4-578A204321A1
DTSTART;TZID=America/Los_Angeles:20241205T120000
DTEND;TZID=America/Los_Angeles:20241205T130000
DESCRIPTION:[]At the end of 2023 the semiconductor market had increased fro
 m $532 Billion in 2023 to $611 B mid-year 2024. This growth is viewed posi
 tively in the light of the recent Covid pandemic and ongoing supply chain 
 disruptions. Since disruptions (all kinds) in the semiconductor supply cha
 in are not going away\, the semiconductor companies must ensure that their
  entire supply chain (SC) &quot;eco system” is complete\, efficient and resil
 ient. Many SC experts use a pyramid to highlight the critical segments of 
 the chip manufacturing fabrication process. Through the use of a SC pyrami
 d\, process experts highlight the essential needs and requirements\, begin
 ning to end\, of the chip fabrication process eco system.\nThe resulting p
 yramid notes the intersection of the many entities involved\, upstream and
  downstream suppliers\, associated manufacturing equipment companies\, and
  all vendors and distributors for each segment. The eco system includes ch
 ip design\, chip design verification\, wafer manufacturing\, key essential
  raw materials\, packaging\, and assembly and test regardless of the entit
 y type (foundry\, OSAT facility\, or IDM). The final chip is then designed
  into a sub-assembly\, device\, or a system that can be sold to consumers 
 and government agencies. A discussion of the equipment tools key to the ch
 ip fabrication process will also be presented. This will include design ve
 rification and test tools\, deposition equipment\, and lithography equipme
 nt.\nSummary: The semiconductor supply chain ecosystem\; Pyramid illustrat
 ion of 6 segments describing the chip fabrication process\; Associated mai
 n player companies for each of the segments\; Semiconductor fabrication eq
 uipment suppliers and their market share.\n\nSpeaker(s): Kitty Pearsall\, 
 \n\nVirtual: https://events.vtools.ieee.org/m/442072
LOCATION:Virtual: https://events.vtools.ieee.org/m/442072
ORGANIZER:p.wesling@ieee.org
SEQUENCE:12
SUMMARY:Semiconductor Supply Chain “Eco System” Overview
URL;VALUE=URI:https://events.vtools.ieee.org/m/442072
X-ALT-DESC:Description: &lt;br /&gt;&lt;p&gt;&lt;img style=&quot;float: right\;&quot; src=&quot;https://e
 vents.vtools.ieee.org/vtools_ui/media/display/e62176af-74e6-40bd-89fc-4f8e
 aa4f38f3&quot; alt=&quot;&quot; width=&quot;500&quot; height=&quot;250&quot;&gt;At the end of 2023 the semicondu
 ctor market had increased from $532 Billion in 2023 to $611 B mid-year 202
 4. This growth is viewed positively in the light of the recent Covid pande
 mic and ongoing supply chain disruptions. Since disruptions (all kinds) in
  the semiconductor supply chain are not going away\, the semiconductor com
 panies must ensure that their entire supply chain (SC) &quot;eco system&amp;rdquo\;
  is complete\, efficient and resilient. Many SC experts use a pyramid to h
 ighlight the critical segments of the chip manufacturing fabrication proce
 ss. Through the use of a SC pyramid\, process experts highlight the essent
 ial needs and requirements\, beginning to end\, of the chip fabrication pr
 ocess eco system.&amp;nbsp\;&lt;br&gt;The resulting pyramid notes the intersection o
 f the many entities involved\, upstream and downstream suppliers\, associa
 ted manufacturing equipment companies\, and all vendors and distributors f
 or each segment. The eco system includes chip design\, chip design verific
 ation\, wafer manufacturing\, key essential raw materials\, packaging\, an
 d assembly and test regardless of the entity type (foundry\, OSAT facility
 \, or IDM). The final chip is then designed into a sub-assembly\, device\,
  or a system that can be sold to consumers and government agencies. A disc
 ussion of the equipment tools key to the chip fabrication process will als
 o be presented. This will include design verification and test tools\, dep
 osition equipment\, and lithography equipment. &amp;nbsp\;&lt;br&gt;Summary: &amp;nbsp\;
 The semiconductor supply chain ecosystem\; &amp;nbsp\;Pyramid illustration of 
 6 segments describing the chip fabrication process\; Associated main playe
 r companies for each of the segments\; Semiconductor fabrication equipment
  suppliers and their market share.&lt;/p&gt;
END:VEVENT
END:VCALENDAR

