BEGIN:VCALENDAR
VERSION:2.0
PRODID:IEEE vTools.Events//EN
CALSCALE:GREGORIAN
BEGIN:VTIMEZONE
TZID:America/Chicago
BEGIN:DAYLIGHT
DTSTART:20170312T030000
TZOFFSETFROM:-0600
TZOFFSETTO:-0500
RRULE:FREQ=YEARLY;BYDAY=2SU;BYMONTH=3
TZNAME:CDT
END:DAYLIGHT
BEGIN:STANDARD
DTSTART:20171105T010000
TZOFFSETFROM:-0500
TZOFFSETTO:-0600
RRULE:FREQ=YEARLY;BYDAY=1SU;BYMONTH=11
TZNAME:CST
END:STANDARD
END:VTIMEZONE
BEGIN:VEVENT
DTSTAMP:20170301T054540Z
UID:4D75CCF0-FE42-11E6-A7C6-0050568D7F66
DTSTART;TZID=America/Chicago:20170321T183000
DTEND;TZID=America/Chicago:20170321T200000
DESCRIPTION:Book / Article Discussion: Leveraging Your Strengths\n\nJoin us
  for snacks\, a glass of wine\, good company and a fantastic book club\, f
 ocused on SURVIVING AND THRIVING IN THE TECH INDUSTRY.\n\nWe&#39;ll discuss wh
 at we&#39;ve learned from the book Strengths Finder 2.0 by Tom Rath.\n\nFree p
 arking is available at on West St. after 6PM. (NW Corner of 7th and West) 
 . No charge for the event. Bring a friend! And make new ones!\n\nSpeaker(s
 ): \, \, \, \n\nAgenda: \n6:30 Snacks and networking\n\n7:00 Discussion\n\
 n8:00 Adjourn\n\nCirrus Logic\, 800 W. 6th St.\, Austin\, Texas\, United S
 tates\, 78701
LOCATION:Cirrus Logic\, 800 W. 6th St.\, Austin\, Texas\, United States\, 7
 8701
ORGANIZER:lmartinich@ieee.org
SEQUENCE:0
SUMMARY:CTS Women In Engineering Monthly Book Club
URL;VALUE=URI:https://events.vtools.ieee.org/m/44208
X-ALT-DESC:Description: &lt;br /&gt;&lt;p&gt;&lt;span style=&quot;color: #800080\; font-size: 1
 2pt\; background-color: #ffffff\;&quot;&gt;&lt;strong&gt;Book / Article Discussion:&amp;nbsp
 \;Leveraging Your Strengths&lt;/strong&gt;&lt;/span&gt;&lt;/p&gt;\n&lt;p&gt;Join us for snacks\, a
  glass of wine\, good company and a fantastic book club\, focused on SURVI
 VING AND THRIVING IN THE TECH INDUSTRY.&lt;/p&gt;\n&lt;p&gt;We&#39;ll discuss what we&#39;ve l
 earned from the book Strengths Finder 2.0 by Tom Rath.&lt;/p&gt;\n&lt;p&gt;&amp;nbsp\;&lt;/p&gt;
 \n&lt;p&gt;Free parking is available at on West St. after 6PM. &amp;nbsp\;(NW Corner
  of 7th and West)&amp;nbsp\;. &amp;nbsp\;No charge for the event. &lt;strong&gt;Bring a 
 friend&lt;/strong&gt;! &amp;nbsp\;And make new ones!&lt;/p&gt;&lt;br /&gt;&lt;br /&gt;Agenda: &lt;br /&gt;&lt;p
 &gt;6:30 Snacks&amp;nbsp\;and networking&lt;/p&gt;\n&lt;p&gt;7:00 Discussion&lt;/p&gt;\n&lt;p&gt;8:00 Adj
 ourn&lt;/p&gt;
END:VEVENT
END:VCALENDAR

