BEGIN:VCALENDAR
VERSION:2.0
PRODID:IEEE vTools.Events//EN
CALSCALE:GREGORIAN
BEGIN:VTIMEZONE
TZID:Asia/Kolkata
BEGIN:STANDARD
DTSTART:19451014T230000
TZOFFSETFROM:+0630
TZOFFSETTO:+0530
TZNAME:IST
END:STANDARD
END:VTIMEZONE
BEGIN:VEVENT
DTSTAMP:20241027T051708Z
UID:40DCB0D5-EA0A-472F-BE5D-96B3AC735386
DTSTART;TZID=Asia/Kolkata:20241007T200000
DTEND;TZID=Asia/Kolkata:20241007T210000
DESCRIPTION:Event Report: IEEE Day 2024 Celebrations Planning\n\nOrganized 
 by: IEEE RGMCET Student Branch\nDate: October 7\, 2024\nPlatform: Google M
 eet\nHosted by: Chaitanya Goud Ediga\, Student Branch Chair\n\nObjective\n
 \nThe purpose of this virtual meeting was to plan the upcoming IEEE Day 20
 24 celebrations and review the performance of individual IEEE chapters. Th
 e session aimed to ensure effective coordination among chapter chairs and 
 volunteers\, promoting a successful celebration and encouraging further ch
 apter development.\n\nMeeting Highlights\n\nThe Google Meet session includ
 ed the following key discussion points:\n\n-\nIEEE Day 2024 Celebration Pl
 anning:\n\n- Brainstorming ideas for activities and events to engage stude
 nts and members.\n- Discussing logistics\, responsibilities\, and resource
 s needed to conduct a successful IEEE Day celebration.\n- Setting up a tim
 eline to prepare for the event and delegate tasks to specific teams and vo
 lunteers.\n\n-\nChapter Performance Review:\n\n- Each chapter chair presen
 ted a brief overview of their chapter&#39;s recent activities\, accomplishment
 s\, and challenges.\n- Volunteers and chairs shared insights and strategie
 s to improve chapter engagement and participation.\n- Emphasis on collabor
 ative efforts to support underperforming chapters and enhance the overall 
 impact of the IEEE RGMCET Student Branch.\n\nEngagement\n\nThe session enc
 ouraged active participation\, with chapter chairs and volunteers contribu
 ting ideas and solutions. Attendees were motivated to work together toward
  a successful IEEE Day celebration and to drive continuous improvement wit
 hin their respective chapters.\n\nConclusion\n\nThe Google Meet successful
 ly facilitated communication and planning for IEEE Day 2024 and allowed fo
 r a productive review of chapter performance. The IEEE RGMCET Student Bran
 ch extends its appreciation to all chapter chairs and volunteers for their
  participation and commitment.\n\n[]\n\nVirtual: https://events.vtools.iee
 e.org/m/442515
LOCATION:Virtual: https://events.vtools.ieee.org/m/442515
ORGANIZER:chaitanyaediga6@gmail.com
SEQUENCE:32
SUMMARY:Exe-Com meeting
URL;VALUE=URI:https://events.vtools.ieee.org/m/442515
X-ALT-DESC:Description: &lt;br /&gt;&lt;p&gt;&lt;strong&gt;Event Report: IEEE Day 2024 Celebr
 ations Planning&lt;/strong&gt;&lt;/p&gt;\n&lt;p&gt;&lt;strong&gt;Organized by&lt;/strong&gt;: IEEE RGMCE
 T Student Branch&lt;br&gt;&lt;strong&gt;Date&lt;/strong&gt;: October 7\, 2024&lt;br&gt;&lt;strong&gt;Pla
 tform&lt;/strong&gt;: Google Meet&lt;br&gt;&lt;strong&gt;Hosted by&lt;/strong&gt;: Chaitanya Goud 
 Ediga\, Student Branch Chair&lt;/p&gt;\n&lt;h3&gt;Objective&lt;/h3&gt;\n&lt;p&gt;The purpose of th
 is virtual meeting was to plan the upcoming IEEE Day 2024 celebrations and
  review the performance of individual IEEE chapters. The session aimed to 
 ensure effective coordination among chapter chairs and volunteers\, promot
 ing a successful celebration and encouraging further chapter development.&lt;
 /p&gt;\n&lt;h3&gt;Meeting Highlights&lt;/h3&gt;\n&lt;p&gt;The Google Meet session included the 
 following key discussion points:&lt;/p&gt;\n&lt;ol&gt;\n&lt;li&gt;\n&lt;p&gt;&lt;strong&gt;IEEE Day 2024
  Celebration Planning&lt;/strong&gt;:&lt;/p&gt;\n&lt;ul&gt;\n&lt;li&gt;Brainstorming ideas for act
 ivities and events to engage students and members.&lt;/li&gt;\n&lt;li&gt;Discussing lo
 gistics\, responsibilities\, and resources needed to conduct a successful 
 IEEE Day celebration.&lt;/li&gt;\n&lt;li&gt;Setting up a timeline to prepare for the e
 vent and delegate tasks to specific teams and volunteers.&lt;/li&gt;\n&lt;/ul&gt;\n&lt;/l
 i&gt;\n&lt;li&gt;\n&lt;p&gt;&lt;strong&gt;Chapter Performance Review&lt;/strong&gt;:&lt;/p&gt;\n&lt;ul&gt;\n&lt;li&gt;E
 ach chapter chair presented a brief overview of their chapter&#39;s recent act
 ivities\, accomplishments\, and challenges.&lt;/li&gt;\n&lt;li&gt;Volunteers and chair
 s shared insights and strategies to improve chapter engagement and partici
 pation.&lt;/li&gt;\n&lt;li&gt;Emphasis on collaborative efforts to support underperfor
 ming chapters and enhance the overall impact of the IEEE RGMCET Student Br
 anch.&lt;/li&gt;\n&lt;/ul&gt;\n&lt;/li&gt;\n&lt;/ol&gt;\n&lt;h3&gt;Engagement&lt;/h3&gt;\n&lt;p&gt;The session encou
 raged active participation\, with chapter chairs and volunteers contributi
 ng ideas and solutions. Attendees were motivated to work together toward a
  successful IEEE Day celebration and to drive continuous improvement withi
 n their respective chapters.&lt;/p&gt;\n&lt;h3&gt;Conclusion&lt;/h3&gt;\n&lt;p&gt;The Google Meet 
 successfully facilitated communication and planning for IEEE Day 2024 and 
 allowed for a productive review of chapter performance. The IEEE RGMCET St
 udent Branch extends its appreciation to all chapter chairs and volunteers
  for their participation and commitment.&lt;/p&gt;\n&lt;p&gt;&lt;img src=&quot;https://events.
 vtools.ieee.org/vtools_ui/media/display/496aba6c-a071-47a4-b955-3706f2fa94
 a5&quot; alt=&quot;&quot; width=&quot;1000&quot; height=&quot;707&quot;&gt;&lt;/p&gt;
END:VEVENT
END:VCALENDAR

