BEGIN:VCALENDAR
VERSION:2.0
PRODID:IEEE vTools.Events//EN
CALSCALE:GREGORIAN
BEGIN:VTIMEZONE
TZID:America/New_York
BEGIN:DAYLIGHT
DTSTART:20250309T030000
TZOFFSETFROM:-0500
TZOFFSETTO:-0400
RRULE:FREQ=YEARLY;BYDAY=2SU;BYMONTH=3
TZNAME:EDT
END:DAYLIGHT
BEGIN:STANDARD
DTSTART:20241103T010000
TZOFFSETFROM:-0400
TZOFFSETTO:-0500
RRULE:FREQ=YEARLY;BYDAY=1SU;BYMONTH=11
TZNAME:EST
END:STANDARD
END:VTIMEZONE
BEGIN:VEVENT
DTSTAMP:20250314T001820Z
UID:D32846C8-9BD1-4DD2-B15B-9F2475E17E29
DTSTART;TZID=America/New_York:20241114T090000
DTEND;TZID=America/New_York:20241114T113000
DESCRIPTION:Join us on November 14th\, 2024\, for an exciting morning of di
 scovery and connection at McMaster Innovation Park (MIP)! This event is or
 ganized by the IEEE Hamilton Section Women in Engineering (WIE) and provid
 es a unique opportunity to explore groundbreaking research spaces\, meet i
 nnovative researchers\, and network with engineering professionals. We wil
 l also discuss how to transform innovative ideas into real products or bui
 ld a startup\, bridging the gap between research\, innovation\, and entrep
 reneurship. Whether you are an industry veteran\, student\, or simply curi
 ous about innovation\, this event offers valuable insights and meaningful 
 connections.\n\nAgenda: \n📌 9:00 AM – Welcome Presentation at the Con
 ference Centre in MIP\n🏢 Tour of MMRI – Explore state-of-the-art rese
 arch facilities\n🔬 Corrosion Lab Visit – Meet Dr. Beth McNally and le
 arn about her fascinating research\n\nBldg:  Suite 101A\, 175 Longwood Rd 
 S\, Hamilton\, Ontario\, Canada\, L8P 0A1
LOCATION:Bldg:  Suite 101A\, 175 Longwood Rd S\, Hamilton\, Ontario\, Canad
 a\, L8P 0A1
ORGANIZER:moha.abaszadeh@gmail.com
SEQUENCE:32
SUMMARY:McMaster Innovation Park Tour &amp; Networking event with WIE
URL;VALUE=URI:https://events.vtools.ieee.org/m/442771
X-ALT-DESC:Description: &lt;br /&gt;&lt;p&gt;Join us on &lt;strong&gt;November 14th\, 2024&lt;/s
 trong&gt;\, for an exciting morning of discovery and connection at &lt;strong&gt;Mc
 Master Innovation Park (MIP)&lt;/strong&gt;! This event is organized by the IEEE
  Hamilton Section Women in Engineering (WIE) and provides a unique opportu
 nity to explore groundbreaking research spaces\, meet innovative researche
 rs\, and network with engineering professionals. We will also discuss how 
 to transform innovative ideas into real products or build a startup\, brid
 ging the gap between research\, innovation\, and entrepreneurship. Whether
  you are an industry veteran\, student\, or simply curious about innovatio
 n\, this event offers valuable insights and meaningful connections.&lt;/p&gt;&lt;br
  /&gt;&lt;br /&gt;Agenda: &lt;br /&gt;&lt;p&gt;📌 &lt;strong&gt;9:00 AM&lt;/strong&gt; &amp;ndash\; Welcome P
 resentation at the Conference Centre in MIP&lt;br&gt;🏢 &lt;strong&gt;Tour of MMRI&lt;/
 strong&gt; &amp;ndash\; Explore state-of-the-art research facilities&lt;br&gt;🔬 &lt;str
 ong&gt;Corrosion Lab Visit&lt;/strong&gt; &amp;ndash\; Meet&amp;nbsp\; &lt;strong&gt;Dr. Beth McN
 ally&lt;/strong&gt; and learn about her fascinating research&lt;/p&gt;
END:VEVENT
END:VCALENDAR

